BEGIN:VCALENDAR
VERSION:2.0
PRODID:-//PKN-Duiven - ECPv6.15.20//NONSGML v1.0//EN
CALSCALE:GREGORIAN
METHOD:PUBLISH
X-ORIGINAL-URL:https://pkn-duiven.nl
X-WR-CALDESC:Evenementen voor PKN-Duiven
REFRESH-INTERVAL;VALUE=DURATION:PT1H
X-Robots-Tag:noindex
X-PUBLISHED-TTL:PT1H
BEGIN:VTIMEZONE
TZID:Europe/Amsterdam
BEGIN:DAYLIGHT
TZOFFSETFROM:+0100
TZOFFSETTO:+0200
TZNAME:CEST
DTSTART:20240331T010000
END:DAYLIGHT
BEGIN:STANDARD
TZOFFSETFROM:+0200
TZOFFSETTO:+0100
TZNAME:CET
DTSTART:20241027T010000
END:STANDARD
BEGIN:DAYLIGHT
TZOFFSETFROM:+0100
TZOFFSETTO:+0200
TZNAME:CEST
DTSTART:20250330T010000
END:DAYLIGHT
BEGIN:STANDARD
TZOFFSETFROM:+0200
TZOFFSETTO:+0100
TZNAME:CET
DTSTART:20251026T010000
END:STANDARD
BEGIN:DAYLIGHT
TZOFFSETFROM:+0100
TZOFFSETTO:+0200
TZNAME:CEST
DTSTART:20260329T010000
END:DAYLIGHT
BEGIN:STANDARD
TZOFFSETFROM:+0200
TZOFFSETTO:+0100
TZNAME:CET
DTSTART:20261025T010000
END:STANDARD
END:VTIMEZONE
BEGIN:VEVENT
DTSTART;TZID=Europe/Amsterdam:20250102T110000
DTEND;TZID=Europe/Amsterdam:20250102T140000
DTSTAMP:20260423T224438
CREATED:20241111T195822Z
LAST-MODIFIED:20241111T195822Z
UID:4201-1735815600-1735826400@pkn-duiven.nl
SUMMARY:Open huiskamer
DESCRIPTION:Loop eens binnen in onze kapel voor een kopje koffie\, thee\, een praatje of een rustig moment.\nWe zijn er elke dinsdag en donderdag van 11.00 tot 14.00 uur. \nVan harte welkom!
URL:https://pkn-duiven.nl/agenda/open-huiskamer-174/
LOCATION:Huiskamer SOW kapel\, Rijksweg 56b\, Duiven\, Nederland
CATEGORIES:Inloop
END:VEVENT
BEGIN:VEVENT
DTSTART;TZID=Europe/Amsterdam:20250103T190000
DTEND;TZID=Europe/Amsterdam:20250103T220000
DTSTAMP:20260423T224438
CREATED:20241201T145108Z
LAST-MODIFIED:20241219T172021Z
UID:4208-1735930800-1735941600@pkn-duiven.nl
SUMMARY:HITSTER Quiz-avond CANCELLED
DESCRIPTION:TOP2000 AFTERPARTY: HITSTER quiz-avond – CANCELLED\nVrijdagavond 3 januari heeft het TOP2000 team – Alwin\, Hans\, Elsbeth\, Tammo en Jolande – een quiz-avond georganiseerd. \nVanaf 19.00 uur ben je welkom in de Kapel voor koffie\, chocolademelk of thee. \nOm 19.30 uur begint de quiz-avond. Met behulp van het populaire muziekspel Hitster zal een competitie losbranden tussen duo’s: ieder mag zich aanmelden\, solo of als duo (liefst 2 generaties). Als je je solo aanmeldt\, word je door ons team ingedeeld in een duo. Daarnaast is er die avond een onderdeel ‘Raad je plaatje’! \nEn natuurlijk kunnen we elkaar deze avond ook een goed\, gezond en mooi nieuwjaar wensen! \nMeld je aan vóór 15 december!
URL:https://pkn-duiven.nl/agenda/hitster-quiz-avond/
LOCATION:SOW kapel\, Duiven
CATEGORIES:Activiteit
END:VEVENT
BEGIN:VEVENT
DTSTART;TZID=Europe/Amsterdam:20250105T100000
DTEND;TZID=Europe/Amsterdam:20250105T100000
DTSTAMP:20260423T224438
CREATED:20241210T190332Z
LAST-MODIFIED:20241230T182631Z
UID:4233-1736071200-1736071200@pkn-duiven.nl
SUMMARY:Viering
DESCRIPTION:Voorganger: Ds. Jolande\nAmbtsdrager van dienst: Marian Rijnbende \nBijzonderheden: Driekoningen | Epifanie | koffie \nEerste collecte: Schuldhulpmaatje\nTweede collecte: Jeugd en jongerenwerk
URL:https://pkn-duiven.nl/agenda/viering-51/
LOCATION:SOW kapel\, Duiven
CATEGORIES:Vieringen
END:VEVENT
BEGIN:VEVENT
DTSTART;TZID=Europe/Amsterdam:20250107T110000
DTEND;TZID=Europe/Amsterdam:20250107T140000
DTSTAMP:20260423T224438
CREATED:20241210T191051Z
LAST-MODIFIED:20241210T191051Z
UID:4244-1736247600-1736258400@pkn-duiven.nl
SUMMARY:Open huiskamer
DESCRIPTION:Loop eens binnen in onze kapel voor een kopje koffie\, thee\, een praatje of een rustig moment.\nWe zijn er elke dinsdag en donderdag van 11.00 tot 14.00 uur. \nVan harte welkom!
URL:https://pkn-duiven.nl/agenda/open-huiskamer-176/
LOCATION:Huiskamer SOW kapel\, Rijksweg 56b\, Duiven\, Nederland
CATEGORIES:Inloop
END:VEVENT
BEGIN:VEVENT
DTSTART;TZID=Europe/Amsterdam:20250109T110000
DTEND;TZID=Europe/Amsterdam:20250109T140000
DTSTAMP:20260423T224438
CREATED:20241210T191121Z
LAST-MODIFIED:20241210T191121Z
UID:4246-1736420400-1736431200@pkn-duiven.nl
SUMMARY:Open huiskamer
DESCRIPTION:Loop eens binnen in onze kapel voor een kopje koffie\, thee\, een praatje of een rustig moment.\nWe zijn er elke dinsdag en donderdag van 11.00 tot 14.00 uur. \nVan harte welkom!
URL:https://pkn-duiven.nl/agenda/open-huiskamer-177/
LOCATION:Huiskamer SOW kapel\, Rijksweg 56b\, Duiven\, Nederland
CATEGORIES:Inloop
END:VEVENT
BEGIN:VEVENT
DTSTART;TZID=Europe/Amsterdam:20250112T100000
DTEND;TZID=Europe/Amsterdam:20250112T100000
DTSTAMP:20260423T224438
CREATED:20241210T190513Z
LAST-MODIFIED:20241230T182702Z
UID:4235-1736676000-1736676000@pkn-duiven.nl
SUMMARY:Viering
DESCRIPTION:Voorganger: Willem Lindeman\nAmbtsdrager van dienst: Don den Hoed \nBijzonderheden: 1e van Epifanie \nEerste collecte: Leger des Heils\nTweede collecte: Beheer en onderhoud
URL:https://pkn-duiven.nl/agenda/viering-52/
LOCATION:SOW kapel\, Duiven
CATEGORIES:Vieringen
END:VEVENT
BEGIN:VEVENT
DTSTART;TZID=Europe/Amsterdam:20250114T110000
DTEND;TZID=Europe/Amsterdam:20250114T140000
DTSTAMP:20260423T224438
CREATED:20241210T191147Z
LAST-MODIFIED:20241210T191147Z
UID:4248-1736852400-1736863200@pkn-duiven.nl
SUMMARY:Open huiskamer
DESCRIPTION:Loop eens binnen in onze kapel voor een kopje koffie\, thee\, een praatje of een rustig moment.\nWe zijn er elke dinsdag en donderdag van 11.00 tot 14.00 uur. \nVan harte welkom!
URL:https://pkn-duiven.nl/agenda/open-huiskamer-178/
LOCATION:Huiskamer SOW kapel\, Rijksweg 56b\, Duiven\, Nederland
CATEGORIES:Inloop
END:VEVENT
BEGIN:VEVENT
DTSTART;TZID=Europe/Amsterdam:20250116T110000
DTEND;TZID=Europe/Amsterdam:20250116T140000
DTSTAMP:20260423T224438
CREATED:20241210T191210Z
LAST-MODIFIED:20241210T191210Z
UID:4250-1737025200-1737036000@pkn-duiven.nl
SUMMARY:Open huiskamer
DESCRIPTION:Loop eens binnen in onze kapel voor een kopje koffie\, thee\, een praatje of een rustig moment.\nWe zijn er elke dinsdag en donderdag van 11.00 tot 14.00 uur. \nVan harte welkom!
URL:https://pkn-duiven.nl/agenda/open-huiskamer-179/
LOCATION:Huiskamer SOW kapel\, Rijksweg 56b\, Duiven\, Nederland
CATEGORIES:Inloop
END:VEVENT
BEGIN:VEVENT
DTSTART;TZID=Europe/Amsterdam:20250119T100000
DTEND;TZID=Europe/Amsterdam:20250119T100000
DTSTAMP:20260423T224438
CREATED:20241210T190650Z
LAST-MODIFIED:20241210T190650Z
UID:4238-1737280800-1737280800@pkn-duiven.nl
SUMMARY:Viering
DESCRIPTION:Voorganger: Ds. Jolande\nAmbtsdrager van dienst: Edward Pfeiffer \nBijzonderheden: 2e van Epifanie \nEerste collecte: Plaatselijke diaconie\nTweede collecte: Algemeen kerkenwerk
URL:https://pkn-duiven.nl/agenda/viering-53/
LOCATION:SOW kapel\, Duiven
CATEGORIES:Vieringen
END:VEVENT
BEGIN:VEVENT
DTSTART;TZID=Europe/Amsterdam:20250120T193000
DTEND;TZID=Europe/Amsterdam:20250120T193000
DTSTAMP:20260423T224438
CREATED:20241224T133404Z
LAST-MODIFIED:20241224T133429Z
UID:4268-1737401400-1737401400@pkn-duiven.nl
SUMMARY:Bijbelgespreksavond over Job
DESCRIPTION:Job is een boek uit de Wijsheidsafdeling van het Oude Testament. Het boek laat een prachtig en wijs gesprek zien over het lijden in iemands persoonlijk leven\, zoals ziekte en ongeluk en het omgaan in geloof met het lijden. Daarmee heel actueel: elke dag kan je\nhet lijden in je eigen leven of in de wereld aangrijpen\, je met stomheid slaan. Wat is wijs? \nPlaats en tijd: Ons Huis (naast de Ontmoetingskerk)\, Dr. Honigstraat 3\, Zevenaar\, 20 januari om 19:30 uur\nInfo/opgave: Jolande van Baardewijk\, email: dominee@pkn-duiven.nl
URL:https://pkn-duiven.nl/agenda/bijbelgespreksavond-over-job/
LOCATION:Ons Huis\, Zevenaar\, Dokter Honigstraat 3\, Zevenaar\, 6901AP
CATEGORIES:Activiteit
ORGANIZER;CN="Inspiratie%2C Bezinning en Ontmoeting":MAILTO:info@pkn-duiven.nl
END:VEVENT
BEGIN:VEVENT
DTSTART;TZID=Europe/Amsterdam:20250121T110000
DTEND;TZID=Europe/Amsterdam:20250121T140000
DTSTAMP:20260423T224438
CREATED:20241210T191235Z
LAST-MODIFIED:20241210T191235Z
UID:4252-1737457200-1737468000@pkn-duiven.nl
SUMMARY:Open huiskamer
DESCRIPTION:Loop eens binnen in onze kapel voor een kopje koffie\, thee\, een praatje of een rustig moment.\nWe zijn er elke dinsdag en donderdag van 11.00 tot 14.00 uur. \nVan harte welkom!
URL:https://pkn-duiven.nl/agenda/open-huiskamer-180/
LOCATION:Huiskamer SOW kapel\, Rijksweg 56b\, Duiven\, Nederland
CATEGORIES:Inloop
END:VEVENT
BEGIN:VEVENT
DTSTART;TZID=Europe/Amsterdam:20250123T110000
DTEND;TZID=Europe/Amsterdam:20250123T140000
DTSTAMP:20260423T224438
CREATED:20241210T191354Z
LAST-MODIFIED:20241210T191354Z
UID:4258-1737630000-1737640800@pkn-duiven.nl
SUMMARY:Open huiskamer
DESCRIPTION:Loop eens binnen in onze kapel voor een kopje koffie\, thee\, een praatje of een rustig moment.\nWe zijn er elke dinsdag en donderdag van 11.00 tot 14.00 uur. \nVan harte welkom!
URL:https://pkn-duiven.nl/agenda/open-huiskamer-183/
LOCATION:Huiskamer SOW kapel\, Rijksweg 56b\, Duiven\, Nederland
CATEGORIES:Inloop
END:VEVENT
BEGIN:VEVENT
DTSTART;TZID=Europe/Amsterdam:20250126T100000
DTEND;TZID=Europe/Amsterdam:20250126T110000
DTSTAMP:20260423T224438
CREATED:20241210T190846Z
LAST-MODIFIED:20241210T190846Z
UID:4240-1737885600-1737889200@pkn-duiven.nl
SUMMARY:Viering
DESCRIPTION:Voorganger: Willem Lindeman\nAmbtsdrager van dienst: Edward Pfeiffer \nBijzonderheden: 3e van Epifanie | koffie \nEerste collecte: Bijbelzondag\nTweede collecte: Jeugd en jongerenwerk
URL:https://pkn-duiven.nl/agenda/viering-54/
LOCATION:SOW kapel\, Duiven
CATEGORIES:Vieringen
END:VEVENT
BEGIN:VEVENT
DTSTART;TZID=Europe/Amsterdam:20250128T110000
DTEND;TZID=Europe/Amsterdam:20250128T140000
DTSTAMP:20260423T224438
CREATED:20241210T191302Z
LAST-MODIFIED:20241210T191658Z
UID:4254-1738062000-1738072800@pkn-duiven.nl
SUMMARY:Open huiskamer
DESCRIPTION:Loop eens binnen in onze kapel voor een kopje koffie\, thee\, een praatje of een rustig moment.\nWe zijn er elke dinsdag en donderdag van 11.00 tot 14.00 uur. \nVan harte welkom!
URL:https://pkn-duiven.nl/agenda/open-huiskamer-181/
LOCATION:Huiskamer SOW kapel\, Rijksweg 56b\, Duiven\, Nederland
CATEGORIES:Inloop
END:VEVENT
BEGIN:VEVENT
DTSTART;TZID=Europe/Amsterdam:20250130T110000
DTEND;TZID=Europe/Amsterdam:20250130T140000
DTSTAMP:20260423T224438
CREATED:20241210T191327Z
LAST-MODIFIED:20241210T191717Z
UID:4256-1738234800-1738245600@pkn-duiven.nl
SUMMARY:Open huiskamer
DESCRIPTION:Loop eens binnen in onze kapel voor een kopje koffie\, thee\, een praatje of een rustig moment.\nWe zijn er elke dinsdag en donderdag van 11.00 tot 14.00 uur. \nVan harte welkom!
URL:https://pkn-duiven.nl/agenda/open-huiskamer-182/
LOCATION:Huiskamer SOW kapel\, Rijksweg 56b\, Duiven\, Nederland
CATEGORIES:Inloop
END:VEVENT
END:VCALENDAR