BEGIN:VCALENDAR
VERSION:2.0
PRODID:-//PKN-Duiven - ECPv6.15.20//NONSGML v1.0//EN
CALSCALE:GREGORIAN
METHOD:PUBLISH
X-ORIGINAL-URL:https://pkn-duiven.nl
X-WR-CALDESC:Evenementen voor PKN-Duiven
REFRESH-INTERVAL;VALUE=DURATION:PT1H
X-Robots-Tag:noindex
X-PUBLISHED-TTL:PT1H
BEGIN:VTIMEZONE
TZID:Europe/Amsterdam
BEGIN:DAYLIGHT
TZOFFSETFROM:+0100
TZOFFSETTO:+0200
TZNAME:CEST
DTSTART:20230326T010000
END:DAYLIGHT
BEGIN:STANDARD
TZOFFSETFROM:+0200
TZOFFSETTO:+0100
TZNAME:CET
DTSTART:20231029T010000
END:STANDARD
BEGIN:DAYLIGHT
TZOFFSETFROM:+0100
TZOFFSETTO:+0200
TZNAME:CEST
DTSTART:20240331T010000
END:DAYLIGHT
BEGIN:STANDARD
TZOFFSETFROM:+0200
TZOFFSETTO:+0100
TZNAME:CET
DTSTART:20241027T010000
END:STANDARD
BEGIN:DAYLIGHT
TZOFFSETFROM:+0100
TZOFFSETTO:+0200
TZNAME:CEST
DTSTART:20250330T010000
END:DAYLIGHT
BEGIN:STANDARD
TZOFFSETFROM:+0200
TZOFFSETTO:+0100
TZNAME:CET
DTSTART:20251026T010000
END:STANDARD
END:VTIMEZONE
BEGIN:VEVENT
DTSTART;TZID=Europe/Amsterdam:20241001T110000
DTEND;TZID=Europe/Amsterdam:20241001T140000
DTSTAMP:20260420T010137
CREATED:20240909T190552Z
LAST-MODIFIED:20240909T190552Z
UID:4069-1727780400-1727791200@pkn-duiven.nl
SUMMARY:Open huiskamer
DESCRIPTION:Loop eens binnen in onze kapel voor een kopje koffie\, thee\, een praatje of een rustig moment.\nWe zijn er elke dinsdag en donderdag van 11.00 tot 14.00 uur. \nVan harte welkom!
URL:https://pkn-duiven.nl/agenda/open-huiskamer-148/
LOCATION:Huiskamer SOW kapel\, Rijksweg 56b\, Duiven\, Nederland
CATEGORIES:Inloop
END:VEVENT
BEGIN:VEVENT
DTSTART;TZID=Europe/Amsterdam:20241003T110000
DTEND;TZID=Europe/Amsterdam:20241003T140000
DTSTAMP:20260420T010137
CREATED:20240909T190622Z
LAST-MODIFIED:20240909T190622Z
UID:4071-1727953200-1727964000@pkn-duiven.nl
SUMMARY:Open huiskamer
DESCRIPTION:Loop eens binnen in onze kapel voor een kopje koffie\, thee\, een praatje of een rustig moment.\nWe zijn er elke dinsdag en donderdag van 11.00 tot 14.00 uur. \nVan harte welkom!
URL:https://pkn-duiven.nl/agenda/open-huiskamer-149/
LOCATION:Huiskamer SOW kapel\, Rijksweg 56b\, Duiven\, Nederland
CATEGORIES:Inloop
END:VEVENT
BEGIN:VEVENT
DTSTART;TZID=Europe/Amsterdam:20241006T100000
DTEND;TZID=Europe/Amsterdam:20241006T110000
DTSTAMP:20260420T010137
CREATED:20240909T185954Z
LAST-MODIFIED:20240909T185954Z
UID:4061-1728208800-1728212400@pkn-duiven.nl
SUMMARY:Viering
DESCRIPTION:Voorganger: Willem Lindeman \nAmbtsdrager van dienst: Tammo Hoogakker \nBijzonderheden: geen \nEerste collecte: KIA: Israëlzondag \nTweede collecte: Jeugd en Jongerenwerk \n 
URL:https://pkn-duiven.nl/agenda/viering-40/
LOCATION:SOW kapel\, Duiven
CATEGORIES:Vieringen
END:VEVENT
BEGIN:VEVENT
DTSTART;TZID=Europe/Amsterdam:20241008T110000
DTEND;TZID=Europe/Amsterdam:20241008T140000
DTSTAMP:20260420T010137
CREATED:20240909T190659Z
LAST-MODIFIED:20240909T190659Z
UID:4073-1728385200-1728396000@pkn-duiven.nl
SUMMARY:Open huiskamer
DESCRIPTION:Loop eens binnen in onze kapel voor een kopje koffie\, thee\, een praatje of een rustig moment.\nWe zijn er elke dinsdag en donderdag van 11.00 tot 14.00 uur. \nVan harte welkom!
URL:https://pkn-duiven.nl/agenda/open-huiskamer-150/
LOCATION:Huiskamer SOW kapel\, Rijksweg 56b\, Duiven\, Nederland
CATEGORIES:Inloop
END:VEVENT
BEGIN:VEVENT
DTSTART;TZID=Europe/Amsterdam:20241010T110000
DTEND;TZID=Europe/Amsterdam:20241010T140000
DTSTAMP:20260420T010137
CREATED:20240909T190728Z
LAST-MODIFIED:20240909T190728Z
UID:4075-1728558000-1728568800@pkn-duiven.nl
SUMMARY:Open huiskamer
DESCRIPTION:Loop eens binnen in onze kapel voor een kopje koffie\, thee\, een praatje of een rustig moment.\nWe zijn er elke dinsdag en donderdag van 11.00 tot 14.00 uur. \nVan harte welkom!
URL:https://pkn-duiven.nl/agenda/open-huiskamer-151/
LOCATION:Huiskamer SOW kapel\, Rijksweg 56b\, Duiven\, Nederland
CATEGORIES:Inloop
END:VEVENT
BEGIN:VEVENT
DTSTART;TZID=Europe/Amsterdam:20241013T100000
DTEND;TZID=Europe/Amsterdam:20241013T110000
DTSTAMP:20260420T010137
CREATED:20240909T190122Z
LAST-MODIFIED:20241014T191314Z
UID:4063-1728813600-1728817200@pkn-duiven.nl
SUMMARY:Viering in Westervoort
DESCRIPTION:Voorganger: Ds. Joop Mol \nAmbtsdrager van dienst: – \nBijzonderheden: in Westervoort \nEerste collecte: – \nTweede collecte: –
URL:https://pkn-duiven.nl/agenda/viering-41/
LOCATION:Werenfriedkerk Westervoort\, Dorpstraat 61\, Westervoort
CATEGORIES:Vieringen
END:VEVENT
BEGIN:VEVENT
DTSTART;TZID=Europe/Amsterdam:20241015T110000
DTEND;TZID=Europe/Amsterdam:20241015T140000
DTSTAMP:20260420T010137
CREATED:20240909T190757Z
LAST-MODIFIED:20240909T190757Z
UID:4077-1728990000-1729000800@pkn-duiven.nl
SUMMARY:Open huiskamer
DESCRIPTION:Loop eens binnen in onze kapel voor een kopje koffie\, thee\, een praatje of een rustig moment.\nWe zijn er elke dinsdag en donderdag van 11.00 tot 14.00 uur. \nVan harte welkom!
URL:https://pkn-duiven.nl/agenda/open-huiskamer-152/
LOCATION:Huiskamer SOW kapel\, Rijksweg 56b\, Duiven\, Nederland
CATEGORIES:Inloop
END:VEVENT
BEGIN:VEVENT
DTSTART;TZID=Europe/Amsterdam:20241017T110000
DTEND;TZID=Europe/Amsterdam:20241017T140000
DTSTAMP:20260420T010137
CREATED:20240909T190825Z
LAST-MODIFIED:20240909T190825Z
UID:4079-1729162800-1729173600@pkn-duiven.nl
SUMMARY:Open huiskamer
DESCRIPTION:Loop eens binnen in onze kapel voor een kopje koffie\, thee\, een praatje of een rustig moment.\nWe zijn er elke dinsdag en donderdag van 11.00 tot 14.00 uur. \nVan harte welkom!
URL:https://pkn-duiven.nl/agenda/open-huiskamer-153/
LOCATION:Huiskamer SOW kapel\, Rijksweg 56b\, Duiven\, Nederland
CATEGORIES:Inloop
END:VEVENT
BEGIN:VEVENT
DTSTART;TZID=Europe/Amsterdam:20241017T200000
DTEND;TZID=Europe/Amsterdam:20241017T220000
DTSTAMP:20260420T010137
CREATED:20240926T213552Z
LAST-MODIFIED:20240926T213552Z
UID:4124-1729195200-1729202400@pkn-duiven.nl
SUMMARY:Bastiaan Ragas in Duiven met ‘In Gods naam’
DESCRIPTION:Op 17 oktober komt Bastiaan Ragas naar cultuurcentrum De Ogtent in Duiven met zijn avondvullende voorstelling ‘In Gods naam’. \n‘Hoe ga je in godsnaam met het leven om? In een tijd vol onzekerheden\, onrust en verandering zoekt Bas Ragas naar antwoorden in een eeuwenoud verhaal. Bas neemt jou mee door de Bijbel met muziek van Händel tot Presley\, humor\, ontwapenende kwetsbaarheid en confronterende dialogen. Een reis door het meest geciteerde en misschien wel onbegrijpelijkste boek ter wereld.’ \nKaarten zijn te bestellen op de website van De Ogtent.
URL:https://pkn-duiven.nl/agenda/bastiaan-ragas-in-duiven-met-in-gods-naam/
LOCATION:De Ogtent\, Remigiusplein 9\, Duiven\, Nederland
END:VEVENT
BEGIN:VEVENT
DTSTART;TZID=Europe/Amsterdam:20241020T100000
DTEND;TZID=Europe/Amsterdam:20241020T110000
DTSTAMP:20260420T010137
CREATED:20240909T190224Z
LAST-MODIFIED:20241014T191412Z
UID:4065-1729418400-1729422000@pkn-duiven.nl
SUMMARY:Viering
DESCRIPTION:Voorganger: Ds. Peter van den Berg \nAmbtsdrager van dienst: Marian Rijnbende \nBijzonderheden: Tienerdienst \nEerste collecte: NBG \nTweede collecte: Algemeen kerkenwerk
URL:https://pkn-duiven.nl/agenda/viering-42/
LOCATION:SOW kapel\, Duiven
CATEGORIES:Vieringen
END:VEVENT
BEGIN:VEVENT
DTSTART;TZID=Europe/Amsterdam:20241022T110000
DTEND;TZID=Europe/Amsterdam:20241022T140000
DTSTAMP:20260420T010137
CREATED:20240909T190916Z
LAST-MODIFIED:20240909T190916Z
UID:4081-1729594800-1729605600@pkn-duiven.nl
SUMMARY:Open huiskamer
DESCRIPTION:Loop eens binnen in onze kapel voor een kopje koffie\, thee\, een praatje of een rustig moment.\nWe zijn er elke dinsdag en donderdag van 11.00 tot 14.00 uur. \nVan harte welkom!
URL:https://pkn-duiven.nl/agenda/open-huiskamer-154/
LOCATION:Huiskamer SOW kapel\, Rijksweg 56b\, Duiven\, Nederland
CATEGORIES:Inloop
END:VEVENT
BEGIN:VEVENT
DTSTART;TZID=Europe/Amsterdam:20241024T110000
DTEND;TZID=Europe/Amsterdam:20241024T140000
DTSTAMP:20260420T010137
CREATED:20240909T190944Z
LAST-MODIFIED:20240909T190944Z
UID:4083-1729767600-1729778400@pkn-duiven.nl
SUMMARY:Open huiskamer
DESCRIPTION:Loop eens binnen in onze kapel voor een kopje koffie\, thee\, een praatje of een rustig moment.\nWe zijn er elke dinsdag en donderdag van 11.00 tot 14.00 uur. \nVan harte welkom!
URL:https://pkn-duiven.nl/agenda/open-huiskamer-155/
LOCATION:Huiskamer SOW kapel\, Rijksweg 56b\, Duiven\, Nederland
CATEGORIES:Inloop
END:VEVENT
BEGIN:VEVENT
DTSTART;TZID=Europe/Amsterdam:20241027T100000
DTEND;TZID=Europe/Amsterdam:20241027T110000
DTSTAMP:20260420T010137
CREATED:20240909T190412Z
LAST-MODIFIED:20241014T191512Z
UID:4067-1730023200-1730026800@pkn-duiven.nl
SUMMARY:Viering
DESCRIPTION:Voorganger: Ds. Jolande \nAmbtsdrager van dienst: Willem Lindeman \nBijzonderheden: Werelddiaconaat ZWO / Bijbelzondag \nEerste collecte: Werelddiaconaat – nieuw Liemers project \nTweede collecte: Jeugd en Jongerenwerk
URL:https://pkn-duiven.nl/agenda/viering-43/
LOCATION:SOW kapel\, Duiven
CATEGORIES:Vieringen
END:VEVENT
BEGIN:VEVENT
DTSTART;TZID=Europe/Amsterdam:20241029T110000
DTEND;TZID=Europe/Amsterdam:20241029T140000
DTSTAMP:20260420T010137
CREATED:20240909T191015Z
LAST-MODIFIED:20240909T191015Z
UID:4085-1730199600-1730210400@pkn-duiven.nl
SUMMARY:Open huiskamer
DESCRIPTION:Loop eens binnen in onze kapel voor een kopje koffie\, thee\, een praatje of een rustig moment.\nWe zijn er elke dinsdag en donderdag van 11.00 tot 14.00 uur. \nVan harte welkom!
URL:https://pkn-duiven.nl/agenda/open-huiskamer-156/
LOCATION:Huiskamer SOW kapel\, Rijksweg 56b\, Duiven\, Nederland
CATEGORIES:Inloop
END:VEVENT
BEGIN:VEVENT
DTSTART;TZID=Europe/Amsterdam:20241031T110000
DTEND;TZID=Europe/Amsterdam:20241031T140000
DTSTAMP:20260420T010137
CREATED:20240909T191114Z
LAST-MODIFIED:20240909T191114Z
UID:4087-1730372400-1730383200@pkn-duiven.nl
SUMMARY:Open huiskamer
DESCRIPTION:Loop eens binnen in onze kapel voor een kopje koffie\, thee\, een praatje of een rustig moment.\nWe zijn er elke dinsdag en donderdag van 11.00 tot 14.00 uur. \nVan harte welkom!
URL:https://pkn-duiven.nl/agenda/open-huiskamer-157/
LOCATION:Huiskamer SOW kapel\, Rijksweg 56b\, Duiven\, Nederland
CATEGORIES:Inloop
END:VEVENT
END:VCALENDAR