BEGIN:VCALENDAR
VERSION:2.0
PRODID:-//PKN-Duiven - ECPv6.15.20//NONSGML v1.0//EN
CALSCALE:GREGORIAN
METHOD:PUBLISH
X-ORIGINAL-URL:https://pkn-duiven.nl
X-WR-CALDESC:Evenementen voor PKN-Duiven
REFRESH-INTERVAL;VALUE=DURATION:PT1H
X-Robots-Tag:noindex
X-PUBLISHED-TTL:PT1H
BEGIN:VTIMEZONE
TZID:Europe/Amsterdam
BEGIN:DAYLIGHT
TZOFFSETFROM:+0100
TZOFFSETTO:+0200
TZNAME:CEST
DTSTART:20230326T010000
END:DAYLIGHT
BEGIN:STANDARD
TZOFFSETFROM:+0200
TZOFFSETTO:+0100
TZNAME:CET
DTSTART:20231029T010000
END:STANDARD
BEGIN:DAYLIGHT
TZOFFSETFROM:+0100
TZOFFSETTO:+0200
TZNAME:CEST
DTSTART:20240331T010000
END:DAYLIGHT
BEGIN:STANDARD
TZOFFSETFROM:+0200
TZOFFSETTO:+0100
TZNAME:CET
DTSTART:20241027T010000
END:STANDARD
BEGIN:DAYLIGHT
TZOFFSETFROM:+0100
TZOFFSETTO:+0200
TZNAME:CEST
DTSTART:20250330T010000
END:DAYLIGHT
BEGIN:STANDARD
TZOFFSETFROM:+0200
TZOFFSETTO:+0100
TZNAME:CET
DTSTART:20251026T010000
END:STANDARD
END:VTIMEZONE
BEGIN:VEVENT
DTSTART;TZID=Europe/Amsterdam:20240801T110000
DTEND;TZID=Europe/Amsterdam:20240801T140000
DTSTAMP:20260420T024122
CREATED:20240610T173752Z
LAST-MODIFIED:20240610T173752Z
UID:3972-1722510000-1722520800@pkn-duiven.nl
SUMMARY:Open huiskamer
DESCRIPTION:Loop eens binnen in onze kapel voor een kopje koffie\, thee\, een praatje of een rustig moment.\nWe zijn er elke dinsdag en donderdag van 11.00 tot 14.00 uur. \nVan harte welkom!
URL:https://pkn-duiven.nl/agenda/open-huiskamer-131/
LOCATION:Huiskamer SOW kapel\, Rijksweg 56b\, Duiven\, Nederland
CATEGORIES:Inloop
END:VEVENT
BEGIN:VEVENT
DTSTART;TZID=Europe/Amsterdam:20240804T100000
DTEND;TZID=Europe/Amsterdam:20240804T100000
DTSTAMP:20260420T024122
CREATED:20240706T124304Z
LAST-MODIFIED:20240706T124304Z
UID:4008-1722765600-1722765600@pkn-duiven.nl
SUMMARY:Viering
DESCRIPTION:Voorganger: ds. Hans Hinkamp\nAmbtsdrager van dienst: Tammo Hoogakker \nBijzonderheden: – \nEerste collecte: Schuldhulpmaatje\nTweede collecte: Jeugd en jongerenwerk
URL:https://pkn-duiven.nl/agenda/viering-34/
LOCATION:SOW kapel\, Duiven
CATEGORIES:Vieringen
END:VEVENT
BEGIN:VEVENT
DTSTART;TZID=Europe/Amsterdam:20240806T110000
DTEND;TZID=Europe/Amsterdam:20240806T140000
DTSTAMP:20260420T024122
CREATED:20240706T124920Z
LAST-MODIFIED:20240706T124920Z
UID:4018-1722942000-1722952800@pkn-duiven.nl
SUMMARY:Open huiskamer
DESCRIPTION:Loop eens binnen in onze kapel voor een kopje koffie\, thee\, een praatje of een rustig moment.\nWe zijn er elke dinsdag en donderdag van 11.00 tot 14.00 uur. \nVan harte welkom!
URL:https://pkn-duiven.nl/agenda/open-huiskamer-132/
LOCATION:Huiskamer SOW kapel\, Rijksweg 56b\, Duiven\, Nederland
CATEGORIES:Inloop
END:VEVENT
BEGIN:VEVENT
DTSTART;TZID=Europe/Amsterdam:20240808T110000
DTEND;TZID=Europe/Amsterdam:20240808T140000
DTSTAMP:20260420T024122
CREATED:20240706T124946Z
LAST-MODIFIED:20240706T124946Z
UID:4020-1723114800-1723125600@pkn-duiven.nl
SUMMARY:Open huiskamer
DESCRIPTION:Loop eens binnen in onze kapel voor een kopje koffie\, thee\, een praatje of een rustig moment.\nWe zijn er elke dinsdag en donderdag van 11.00 tot 14.00 uur. \nVan harte welkom!
URL:https://pkn-duiven.nl/agenda/open-huiskamer-133/
LOCATION:Huiskamer SOW kapel\, Rijksweg 56b\, Duiven\, Nederland
CATEGORIES:Inloop
END:VEVENT
BEGIN:VEVENT
DTSTART;TZID=Europe/Amsterdam:20240811T100000
DTEND;TZID=Europe/Amsterdam:20240811T100000
DTSTAMP:20260420T024122
CREATED:20240706T124428Z
LAST-MODIFIED:20240706T124428Z
UID:4010-1723370400-1723370400@pkn-duiven.nl
SUMMARY:Viering
DESCRIPTION:Voorganger: ds. Margreet de Bree\nAmbtsdrager van dienst: Edward Pfeiffer \nBijzonderheden: – \nEerste collecte: Didam Liemersbreed – St. Urgente Noden Achterhoek-Liemers\nTweede collecte: Beheer en onderhoud
URL:https://pkn-duiven.nl/agenda/viering-35/
LOCATION:SOW kapel\, Duiven
CATEGORIES:Vieringen
END:VEVENT
BEGIN:VEVENT
DTSTART;TZID=Europe/Amsterdam:20240813T110000
DTEND;TZID=Europe/Amsterdam:20240813T140000
DTSTAMP:20260420T024122
CREATED:20240706T125014Z
LAST-MODIFIED:20240706T125014Z
UID:4022-1723546800-1723557600@pkn-duiven.nl
SUMMARY:Open huiskamer
DESCRIPTION:Loop eens binnen in onze kapel voor een kopje koffie\, thee\, een praatje of een rustig moment.\nWe zijn er elke dinsdag en donderdag van 11.00 tot 14.00 uur. \nVan harte welkom!
URL:https://pkn-duiven.nl/agenda/open-huiskamer-134/
LOCATION:Huiskamer SOW kapel\, Rijksweg 56b\, Duiven\, Nederland
CATEGORIES:Inloop
END:VEVENT
BEGIN:VEVENT
DTSTART;TZID=Europe/Amsterdam:20240815T110000
DTEND;TZID=Europe/Amsterdam:20240815T140000
DTSTAMP:20260420T024122
CREATED:20240706T125042Z
LAST-MODIFIED:20240706T125042Z
UID:4024-1723719600-1723730400@pkn-duiven.nl
SUMMARY:Open huiskamer
DESCRIPTION:Loop eens binnen in onze kapel voor een kopje koffie\, thee\, een praatje of een rustig moment.\nWe zijn er elke dinsdag en donderdag van 11.00 tot 14.00 uur. \nVan harte welkom!
URL:https://pkn-duiven.nl/agenda/open-huiskamer-135/
LOCATION:Huiskamer SOW kapel\, Rijksweg 56b\, Duiven\, Nederland
CATEGORIES:Inloop
END:VEVENT
BEGIN:VEVENT
DTSTART;TZID=Europe/Amsterdam:20240818T100000
DTEND;TZID=Europe/Amsterdam:20240818T110000
DTSTAMP:20260420T024122
CREATED:20240706T124533Z
LAST-MODIFIED:20240706T124533Z
UID:4012-1723975200-1723978800@pkn-duiven.nl
SUMMARY:Viering
DESCRIPTION:Voorganger: ds. Susanna Kamminga\nAmbtsdrager van dienst: Marian Rijnbende \nBijzonderheden: – \nEerste collecte: Plaatselijke diaconie\nTweede collecte: Algemeen kerkenwerk
URL:https://pkn-duiven.nl/agenda/viering-36/
LOCATION:SOW kapel\, Duiven
CATEGORIES:Vieringen
END:VEVENT
BEGIN:VEVENT
DTSTART;TZID=Europe/Amsterdam:20240820T110000
DTEND;TZID=Europe/Amsterdam:20240820T140000
DTSTAMP:20260420T024122
CREATED:20240706T125109Z
LAST-MODIFIED:20240706T125109Z
UID:4026-1724151600-1724162400@pkn-duiven.nl
SUMMARY:Open huiskamer
DESCRIPTION:Loop eens binnen in onze kapel voor een kopje koffie\, thee\, een praatje of een rustig moment.\nWe zijn er elke dinsdag en donderdag van 11.00 tot 14.00 uur. \nVan harte welkom!
URL:https://pkn-duiven.nl/agenda/open-huiskamer-136/
LOCATION:Huiskamer SOW kapel\, Rijksweg 56b\, Duiven\, Nederland
CATEGORIES:Inloop
END:VEVENT
BEGIN:VEVENT
DTSTART;TZID=Europe/Amsterdam:20240822T110000
DTEND;TZID=Europe/Amsterdam:20240822T140000
DTSTAMP:20260420T024122
CREATED:20240706T125136Z
LAST-MODIFIED:20240706T125136Z
UID:4028-1724324400-1724335200@pkn-duiven.nl
SUMMARY:Open huiskamer
DESCRIPTION:Loop eens binnen in onze kapel voor een kopje koffie\, thee\, een praatje of een rustig moment.\nWe zijn er elke dinsdag en donderdag van 11.00 tot 14.00 uur. \nVan harte welkom!
URL:https://pkn-duiven.nl/agenda/open-huiskamer-137/
LOCATION:Huiskamer SOW kapel\, Rijksweg 56b\, Duiven\, Nederland
CATEGORIES:Inloop
END:VEVENT
BEGIN:VEVENT
DTSTART;TZID=Europe/Amsterdam:20240825T100000
DTEND;TZID=Europe/Amsterdam:20240825T110000
DTSTAMP:20260420T024122
CREATED:20240706T124639Z
LAST-MODIFIED:20240706T124639Z
UID:4014-1724580000-1724583600@pkn-duiven.nl
SUMMARY:Viering
DESCRIPTION:Voorganger: ds. Jolande/ds. Margreet\nAmbtsdrager van dienst: onbekend \nBijzonderheden: – \nEerste collecte: Plaatselijke diaconie\nTweede collecte: Jeugd en jongerenwerk
URL:https://pkn-duiven.nl/agenda/viering-37/
LOCATION:SOW kapel\, Duiven
CATEGORIES:Vieringen
END:VEVENT
BEGIN:VEVENT
DTSTART;TZID=Europe/Amsterdam:20240827T110000
DTEND;TZID=Europe/Amsterdam:20240827T140000
DTSTAMP:20260420T024122
CREATED:20240706T125210Z
LAST-MODIFIED:20240706T125210Z
UID:4030-1724756400-1724767200@pkn-duiven.nl
SUMMARY:Open huiskamer
DESCRIPTION:Loop eens binnen in onze kapel voor een kopje koffie\, thee\, een praatje of een rustig moment.\nWe zijn er elke dinsdag en donderdag van 11.00 tot 14.00 uur. \nVan harte welkom!
URL:https://pkn-duiven.nl/agenda/open-huiskamer-138/
LOCATION:Huiskamer SOW kapel\, Rijksweg 56b\, Duiven\, Nederland
CATEGORIES:Inloop
END:VEVENT
BEGIN:VEVENT
DTSTART;TZID=Europe/Amsterdam:20240829T110000
DTEND;TZID=Europe/Amsterdam:20240829T140000
DTSTAMP:20260420T024122
CREATED:20240706T125236Z
LAST-MODIFIED:20240706T125255Z
UID:4032-1724929200-1724940000@pkn-duiven.nl
SUMMARY:Open huiskamer
DESCRIPTION:Loop eens binnen in onze kapel voor een kopje koffie\, thee\, een praatje of een rustig moment.\nWe zijn er elke dinsdag en donderdag van 11.00 tot 14.00 uur. \nVan harte welkom!
URL:https://pkn-duiven.nl/agenda/open-huiskamer-139/
LOCATION:Huiskamer SOW kapel\, Rijksweg 56b\, Duiven\, Nederland
CATEGORIES:Inloop
END:VEVENT
END:VCALENDAR