BEGIN:VCALENDAR
VERSION:2.0
PRODID:-//PKN-Duiven - ECPv6.15.20//NONSGML v1.0//EN
CALSCALE:GREGORIAN
METHOD:PUBLISH
X-ORIGINAL-URL:https://pkn-duiven.nl
X-WR-CALDESC:Evenementen voor PKN-Duiven
REFRESH-INTERVAL;VALUE=DURATION:PT1H
X-Robots-Tag:noindex
X-PUBLISHED-TTL:PT1H
BEGIN:VTIMEZONE
TZID:Europe/Amsterdam
BEGIN:DAYLIGHT
TZOFFSETFROM:+0100
TZOFFSETTO:+0200
TZNAME:CEST
DTSTART:20220327T010000
END:DAYLIGHT
BEGIN:STANDARD
TZOFFSETFROM:+0200
TZOFFSETTO:+0100
TZNAME:CET
DTSTART:20221030T010000
END:STANDARD
BEGIN:DAYLIGHT
TZOFFSETFROM:+0100
TZOFFSETTO:+0200
TZNAME:CEST
DTSTART:20230326T010000
END:DAYLIGHT
BEGIN:STANDARD
TZOFFSETFROM:+0200
TZOFFSETTO:+0100
TZNAME:CET
DTSTART:20231029T010000
END:STANDARD
BEGIN:DAYLIGHT
TZOFFSETFROM:+0100
TZOFFSETTO:+0200
TZNAME:CEST
DTSTART:20240331T010000
END:DAYLIGHT
BEGIN:STANDARD
TZOFFSETFROM:+0200
TZOFFSETTO:+0100
TZNAME:CET
DTSTART:20241027T010000
END:STANDARD
END:VTIMEZONE
BEGIN:VEVENT
DTSTART;TZID=Europe/Amsterdam:20230401T190000
DTEND;TZID=Europe/Amsterdam:20230401T200000
DTSTAMP:20260424T204822
CREATED:20230219T175416Z
LAST-MODIFIED:20230219T175416Z
UID:2947-1680375600-1680379200@pkn-duiven.nl
SUMMARY:Taizé-viering in Westervoort
DESCRIPTION:Gezegend Hij die komt\nIn de Werenfriedkerk van de PKN aan de Dorpsstraat 61 te Westervoort wordt een Taizé-viering gehouden om 19.00 uur. Thema is: Gezegend Hij die komt. Deze viering is iets aangepast ten opzichte van die van 25 maart in Duiven. Kijk bij de Taizé-viering van 25 maart voor meer informatie. \nWilt u meer informatie over Taizé? Dat kunt u vinden op www.taize.fr/nl
URL:https://pkn-duiven.nl/agenda/taize-viering-in-westervoort/
LOCATION:Protestantse Werenfried kerk Westervoort\, Dorpstraat 61\, Westervoort
END:VEVENT
BEGIN:VEVENT
DTSTART;TZID=Europe/Amsterdam:20230402T103000
DTEND;TZID=Europe/Amsterdam:20230402T110000
DTSTAMP:20260424T204822
CREATED:20230306T161158Z
LAST-MODIFIED:20230306T161158Z
UID:2978-1680431400-1680433200@pkn-duiven.nl
SUMMARY:viering
DESCRIPTION:Voorganger: Ds. Mariecke van den Berg\nAmbtsdrager van dienst: Edward Pfeiffer \nBijzonderheden: Palmpasen \nCollectes:\n1. Plaatselijke diaconie\n2. Algemeen kerkenwerk
URL:https://pkn-duiven.nl/agenda/viering-020423/
LOCATION:SOW kapel\, Duiven
CATEGORIES:Vieringen
END:VEVENT
BEGIN:VEVENT
DTSTART;TZID=Europe/Amsterdam:20230405T173000
DTEND;TZID=Europe/Amsterdam:20230405T193000
DTSTAMP:20260424T204822
CREATED:20230219T171519Z
LAST-MODIFIED:20230219T171519Z
UID:2935-1680715800-1680723000@pkn-duiven.nl
SUMMARY:Eet-je-mee-café
DESCRIPTION:Maandelijks op woensdagavond is het Eet-je-mee-café in de huiskamer. De inloop is om 17.30 uur en we eten samen om 18.00 uur.\nIn het boodschappen- en kookteam mag iedereen meedoen. De harde kern wordt gevormd door 3 dames die klant van de voedselbank zijn. Dat zijn dames met een groot hart en een passie voor koken.\nOm mee te doen hoef je niets te doen\, dus ben je gewoon welkom zoals je bent! De eigen bijdrage – als het lukt – is € 2\,50 per maaltijd. \nGeef je op voor het Eet-je-mee-café bij: info@pkn-duiven.nl
URL:https://pkn-duiven.nl/agenda/eet-je-mee-cafe-3/
LOCATION:Huiskamer SOW kapel\, Rijksweg 56b\, Duiven\, Nederland
CATEGORIES:Activiteit
END:VEVENT
BEGIN:VEVENT
DTSTART;TZID=Europe/Amsterdam:20230406T193000
DTEND;TZID=Europe/Amsterdam:20230406T203000
DTSTAMP:20260424T204822
CREATED:20230306T161336Z
LAST-MODIFIED:20230306T162231Z
UID:2980-1680809400-1680813000@pkn-duiven.nl
SUMMARY:Viering - Witte Donderdag
DESCRIPTION:Voorganger: Ds. Peter van den Berg\nAmbtsdrager van dienst: Louise Docter \nBijzonderheden: Witte Donderdag\, Maaltijd van de Heer \nGeen collectes
URL:https://pkn-duiven.nl/agenda/viering-060423/
LOCATION:SOW kapel\, Duiven
CATEGORIES:Vieringen
END:VEVENT
BEGIN:VEVENT
DTSTART;TZID=Europe/Amsterdam:20230407T193000
DTEND;TZID=Europe/Amsterdam:20230407T203000
DTSTAMP:20260424T204822
CREATED:20230306T161451Z
LAST-MODIFIED:20230306T161451Z
UID:2982-1680895800-1680899400@pkn-duiven.nl
SUMMARY:Viering - Goede Vrijdag
DESCRIPTION:Voorganger: Gemeenteleden\nAmbtsdrager van dienst: Marian Rijnbende \nBijzonderheden: Goede Vrijdag \nGeen collectes.
URL:https://pkn-duiven.nl/agenda/viering-goede-vrijdag/
LOCATION:SOW kapel\, Duiven
CATEGORIES:Vieringen
END:VEVENT
BEGIN:VEVENT
DTSTART;TZID=Europe/Amsterdam:20230408T220000
DTEND;TZID=Europe/Amsterdam:20230408T230000
DTSTAMP:20260424T204822
CREATED:20230306T161601Z
LAST-MODIFIED:20230306T161601Z
UID:2984-1680991200-1680994800@pkn-duiven.nl
SUMMARY:Viering - Stille Zaterdag
DESCRIPTION:Voorganger: Willem Lindeman\nAmbtsdrager van dienst: Don den Hoed \nBijzonderheden: Stille Zaterdag \nGeen collectes
URL:https://pkn-duiven.nl/agenda/viering-stille-zaterdag-2/
LOCATION:SOW kapel\, Duiven
CATEGORIES:Vieringen
END:VEVENT
BEGIN:VEVENT
DTSTART;TZID=Europe/Amsterdam:20230409T103000
DTEND;TZID=Europe/Amsterdam:20230409T113000
DTSTAMP:20260424T204822
CREATED:20230306T161751Z
LAST-MODIFIED:20230306T161751Z
UID:2986-1681036200-1681039800@pkn-duiven.nl
SUMMARY:Viering - Eerste Paasdag
DESCRIPTION:Voorganger: Willem Lindeman\nAmbtsdrager van dienst: Marian Rijnbende \nBijzonderheden: Paasochtend met ontbijt\, Jong en Oudviering\, gelegenheidskoor\, tienerdienst\, koffie \nCollectes:\n1. Kerk in Actie:  Moldavië-Kerk helpt kwetsbare mensen\n2. Jeugd en Jongerenwerk
URL:https://pkn-duiven.nl/agenda/viering-090423/
LOCATION:SOW kapel\, Duiven
CATEGORIES:Vieringen
END:VEVENT
BEGIN:VEVENT
DTSTART;TZID=Europe/Amsterdam:20230411T143000
DTEND;TZID=Europe/Amsterdam:20230411T163000
DTSTAMP:20260424T204822
CREATED:20220828T131115Z
LAST-MODIFIED:20220828T131115Z
UID:2359-1681223400-1681230600@pkn-duiven.nl
SUMMARY:Bijeenkomst OASE - Pasen op dinsdag\, met PCOB
DESCRIPTION:
URL:https://pkn-duiven.nl/agenda/bijeenkomst-oase-pasen-op-dinsdag-met-pcob/
LOCATION:SOW kapel\, Duiven
CATEGORIES:Senioren
END:VEVENT
BEGIN:VEVENT
DTSTART;TZID=Europe/Amsterdam:20230416T103000
DTEND;TZID=Europe/Amsterdam:20230416T113000
DTSTAMP:20260424T204822
CREATED:20230306T161932Z
LAST-MODIFIED:20230306T161932Z
UID:2988-1681641000-1681644600@pkn-duiven.nl
SUMMARY:Viering
DESCRIPTION:Voorganger: ds. Mariecke van den Berg\nAmbtsdrager van dienst: Marian Rijnbende \nBijzonderheden: geen \nCollectes:\n1. Schuldhulpmaatje\n2. Beheer en Onderhoud
URL:https://pkn-duiven.nl/agenda/viering-160423/
LOCATION:SOW kapel\, Duiven
CATEGORIES:Vieringen
END:VEVENT
BEGIN:VEVENT
DTSTART;TZID=Europe/Amsterdam:20230423T103000
DTEND;TZID=Europe/Amsterdam:20230423T113000
DTSTAMP:20260424T204822
CREATED:20230306T162039Z
LAST-MODIFIED:20230306T162039Z
UID:2990-1682245800-1682249400@pkn-duiven.nl
SUMMARY:Viering
DESCRIPTION:Voorganger: ds. Jan Martin Berghuis\nAmbtsdrager van dienst: Willem Lindeman \nBijzonderheden: geen \nCollectes:\n1. Leger des Heils\n2. Algemeen kerkenwerk
URL:https://pkn-duiven.nl/agenda/viering-230423/
LOCATION:SOW kapel\, Duiven
CATEGORIES:Vieringen
END:VEVENT
BEGIN:VEVENT
DTSTART;TZID=Europe/Amsterdam:20230426T143000
DTEND;TZID=Europe/Amsterdam:20230426T163000
DTSTAMP:20260424T204822
CREATED:20220828T131159Z
LAST-MODIFIED:20220828T131159Z
UID:2361-1682519400-1682526600@pkn-duiven.nl
SUMMARY:Bijeenkomst OASE - gezellige middag met vorstelijk tintje
DESCRIPTION:
URL:https://pkn-duiven.nl/agenda/bijeenkomst-oase-gezellige-middag-met-vorstelijk-tintje/
LOCATION:SOW kapel\, Duiven
CATEGORIES:Senioren
END:VEVENT
BEGIN:VEVENT
DTSTART;TZID=Europe/Amsterdam:20230426T200000
DTEND;TZID=Europe/Amsterdam:20230426T200000
DTSTAMP:20260424T204822
CREATED:20230109T144915Z
LAST-MODIFIED:20230109T145036Z
UID:2892-1682539200-1682539200@pkn-duiven.nl
SUMMARY:IBO bijeenkomst: De Joodse gemeenschap in Zevenaar
DESCRIPTION:Geboren en getogen Zevenaarder Willem Franck vertelt over de Joodse gemeenschap an Zevenaar in en na de Tweede Wereldoorlog. Verder vertelt hij over de Joodse vluchtelingen die van 1933 tot 1940 per trein vanuit Duitsland en Oostenrijk in Zevenaar aankwamen. De stand van zaken van het onderzoek naar de gedwongen verkoop van Joodse huizen en landbouwgronden tijdens WO II\, het rechtsherstel na WO II en de rol van de gemeente Zevenaar hierbij\, de adoptie door een buurt van een Joodse begraafplaats en de actie Stolpersteine komen eveneens aan bod. \nMet Willem Franck (lid van de Cultuurhistorische Vereniging Zevenaar) op woensdag 26 april 2023 om 20.00 uur in Ons Huis\, Dr. Honigstraat 3\, Zevenaar. Kosten € 4\,-.\nInfo/opgave: Alies Rutgers\, tel. 0316 52 54 78 / email 2003alies@gmail.com
URL:https://pkn-duiven.nl/agenda/ibo-260323/
LOCATION:Ons Huis\, Zevenaar\, Dokter Honigstraat 3\, Zevenaar\, 6901AP
CATEGORIES:Activiteit
END:VEVENT
BEGIN:VEVENT
DTSTART;TZID=Europe/Amsterdam:20230429T110000
DTEND;TZID=Europe/Amsterdam:20230429T110000
DTSTAMP:20260424T204822
CREATED:20230109T145115Z
LAST-MODIFIED:20230306T165326Z
UID:2894-1682766000-1682766000@pkn-duiven.nl
SUMMARY:IBO bijeenkomst: Pelgrimswandeling
DESCRIPTION:Deze keer verzamelen we op de parkeerplaats aan de Lentsesteeg in Rheden\, (die bereik je via de Amsterdamse straatweg; ga na restaurant Chinatown en vóór Hotel de Roskam de eerste weg linksaf).\nWe vertrekken om 10.30 uur en zijn naar verwachting omstreeks 13.00 uur weer terug. De wandeling is ongeveer 7 km lang\, wel met hier en daar een klimmetje.\nTijdens de wandeling kijken we om ons heen\, ontmoeten elkaar en gaan met elkaar in gesprek. Het thema is deze keer: “Bergen en dalen”. Ds. Margreet de Bree begeleidt ons bij dit thema.\nHet is handig om voor onderweg een lunchpakket en iets te drinken mee te nemen.\nJe kunt je opgeven via email: habonnink@live.nl.
URL:https://pkn-duiven.nl/agenda/ibo-290423/
CATEGORIES:Activiteit
ORGANIZER;CN="Inspiratie%2C Bezinning en Ontmoeting":MAILTO:info@pkn-duiven.nl
END:VEVENT
BEGIN:VEVENT
DTSTART;TZID=Europe/Amsterdam:20230430T103000
DTEND;TZID=Europe/Amsterdam:20230430T113000
DTSTAMP:20260424T204822
CREATED:20230306T162149Z
LAST-MODIFIED:20230306T162149Z
UID:2992-1682850600-1682854200@pkn-duiven.nl
SUMMARY:Viering
DESCRIPTION:Voorganger: ds. Jan Martin Berghuis\nAmbtsdrager van dienst: Louise Docter \nBijzonderheden: koffie \nCollectes:\n1. Plaatselijke diaconie\n2. Jeugd en jongerenwerk
URL:https://pkn-duiven.nl/agenda/viering-300423/
LOCATION:SOW kapel\, Duiven
CATEGORIES:Vieringen
END:VEVENT
END:VCALENDAR