BEGIN:VCALENDAR
VERSION:2.0
PRODID:-//PKN-Duiven - ECPv6.15.20//NONSGML v1.0//EN
CALSCALE:GREGORIAN
METHOD:PUBLISH
X-WR-CALNAME:PKN-Duiven
X-ORIGINAL-URL:https://pkn-duiven.nl
X-WR-CALDESC:Evenementen voor PKN-Duiven
REFRESH-INTERVAL;VALUE=DURATION:PT1H
X-Robots-Tag:noindex
X-PUBLISHED-TTL:PT1H
BEGIN:VTIMEZONE
TZID:Europe/Amsterdam
BEGIN:DAYLIGHT
TZOFFSETFROM:+0100
TZOFFSETTO:+0200
TZNAME:CEST
DTSTART:20210328T010000
END:DAYLIGHT
BEGIN:STANDARD
TZOFFSETFROM:+0200
TZOFFSETTO:+0100
TZNAME:CET
DTSTART:20211031T010000
END:STANDARD
BEGIN:DAYLIGHT
TZOFFSETFROM:+0100
TZOFFSETTO:+0200
TZNAME:CEST
DTSTART:20220327T010000
END:DAYLIGHT
BEGIN:STANDARD
TZOFFSETFROM:+0200
TZOFFSETTO:+0100
TZNAME:CET
DTSTART:20221030T010000
END:STANDARD
BEGIN:DAYLIGHT
TZOFFSETFROM:+0100
TZOFFSETTO:+0200
TZNAME:CEST
DTSTART:20230326T010000
END:DAYLIGHT
BEGIN:STANDARD
TZOFFSETFROM:+0200
TZOFFSETTO:+0100
TZNAME:CET
DTSTART:20231029T010000
END:STANDARD
END:VTIMEZONE
BEGIN:VEVENT
DTSTART;TZID=Europe/Amsterdam:20220703T103000
DTEND;TZID=Europe/Amsterdam:20220703T103000
DTSTAMP:20260420T010111
CREATED:20220402T112418Z
LAST-MODIFIED:20220402T113058Z
UID:2042-1656844200-1656844200@pkn-duiven.nl
SUMMARY:Viering
DESCRIPTION:Voorganger: Ds. Jolande van Baardewijk\nAmbtsdrager van dienst: Louise Docter \nBijzonderheden: Rondom 12 (?) \nCollectes:\n1. Plaatselijke diaconie\n2. Jeugd- en jongerenwerk
URL:https://pkn-duiven.nl/agenda/viering-03-07-2022/
LOCATION:SOW kapel\, Duiven
CATEGORIES:Vieringen
END:VEVENT
BEGIN:VEVENT
DTSTART;TZID=Europe/Amsterdam:20220710T103000
DTEND;TZID=Europe/Amsterdam:20220710T103000
DTSTAMP:20260420T010111
CREATED:20220402T112529Z
LAST-MODIFIED:20220527T105250Z
UID:2044-1657449000-1657449000@pkn-duiven.nl
SUMMARY:Viering
DESCRIPTION:Voorganger: Ds. Peter van den Berg\nAmbtsdrager van dienst: Marian Rijnbende \nBijzonderheden: Geen \nCollectes:\n1. Vast project: Leger des Heils\n2. Beheer en onderhoud
URL:https://pkn-duiven.nl/agenda/viering-10-07-2022/
LOCATION:SOW kapel\, Duiven
CATEGORIES:Vieringen
END:VEVENT
BEGIN:VEVENT
DTSTART;TZID=Europe/Amsterdam:20220717T103000
DTEND;TZID=Europe/Amsterdam:20220717T103000
DTSTAMP:20260420T010111
CREATED:20220402T112717Z
LAST-MODIFIED:20220502T181036Z
UID:2046-1658053800-1658053800@pkn-duiven.nl
SUMMARY:Viering
DESCRIPTION:Voorganger: Willem Lindeman\nAmbtsdrager van dienst: Edward Pfeiffer \nBijzonderheden: Ook kinderkerk en tienerdienst \nCollectes:\n1. JOP\n2. Algemeen kerkenwerk
URL:https://pkn-duiven.nl/agenda/viering-17-07-2022/
LOCATION:SOW kapel\, Duiven
CATEGORIES:Vieringen
END:VEVENT
BEGIN:VEVENT
DTSTART;TZID=Europe/Amsterdam:20220724T103000
DTEND;TZID=Europe/Amsterdam:20220724T103000
DTSTAMP:20260420T010111
CREATED:20220402T113257Z
LAST-MODIFIED:20220402T113257Z
UID:2048-1658658600-1658658600@pkn-duiven.nl
SUMMARY:Viering
DESCRIPTION:Voorganger: Ds. Wilco van Wakeren\nAmbtsdrager van dienst: Don den Hoed \nBijzonderheden: Geen \nCollectes:\n1. Vast project: Schuldhulpmaatje\n2. Jeugd- en jongerenwerk
URL:https://pkn-duiven.nl/agenda/viering-24-07-2022/
LOCATION:SOW kapel\, Duiven
CATEGORIES:Vieringen
END:VEVENT
BEGIN:VEVENT
DTSTART;TZID=Europe/Amsterdam:20220731T103000
DTEND;TZID=Europe/Amsterdam:20220731T103000
DTSTAMP:20260420T010111
CREATED:20220402T113443Z
LAST-MODIFIED:20220502T181131Z
UID:2050-1659263400-1659263400@pkn-duiven.nl
SUMMARY:Viering
DESCRIPTION:Voorganger: Johan Lotterman\nAmbtsdrager van dienst: Edward Pfeiffer \nBijzonderheden: Geen \nCollectes:\n1. Vast project: Leger des Heil\n2. Beheer en onderhoud
URL:https://pkn-duiven.nl/agenda/viering-31-07-2022/
LOCATION:SOW kapel\, Duiven
CATEGORIES:Vieringen
END:VEVENT
END:VCALENDAR