BEGIN:VCALENDAR
VERSION:2.0
PRODID:-//PKN-Duiven - ECPv6.15.20//NONSGML v1.0//EN
CALSCALE:GREGORIAN
METHOD:PUBLISH
X-WR-CALNAME:PKN-Duiven
X-ORIGINAL-URL:https://pkn-duiven.nl
X-WR-CALDESC:Evenementen voor PKN-Duiven
REFRESH-INTERVAL;VALUE=DURATION:PT1H
X-Robots-Tag:noindex
X-PUBLISHED-TTL:PT1H
BEGIN:VTIMEZONE
TZID:Europe/Amsterdam
BEGIN:DAYLIGHT
TZOFFSETFROM:+0100
TZOFFSETTO:+0200
TZNAME:CEST
DTSTART:20210328T010000
END:DAYLIGHT
BEGIN:STANDARD
TZOFFSETFROM:+0200
TZOFFSETTO:+0100
TZNAME:CET
DTSTART:20211031T010000
END:STANDARD
BEGIN:DAYLIGHT
TZOFFSETFROM:+0100
TZOFFSETTO:+0200
TZNAME:CEST
DTSTART:20220327T010000
END:DAYLIGHT
BEGIN:STANDARD
TZOFFSETFROM:+0200
TZOFFSETTO:+0100
TZNAME:CET
DTSTART:20221030T010000
END:STANDARD
BEGIN:DAYLIGHT
TZOFFSETFROM:+0100
TZOFFSETTO:+0200
TZNAME:CEST
DTSTART:20230326T010000
END:DAYLIGHT
BEGIN:STANDARD
TZOFFSETFROM:+0200
TZOFFSETTO:+0100
TZNAME:CET
DTSTART:20231029T010000
END:STANDARD
END:VTIMEZONE
BEGIN:VEVENT
DTSTART;TZID=Europe/Amsterdam:20220501T103000
DTEND;TZID=Europe/Amsterdam:20220501T103000
DTSTAMP:20260421T201553
CREATED:20220228T185358Z
LAST-MODIFIED:20220228T185358Z
UID:1923-1651401000-1651401000@pkn-duiven.nl
SUMMARY:Viering
DESCRIPTION:Voorganger: Ds. Jolande\nAmbtsdrager van dienst: Marian Rijnbende \nBijzonderheden: geen \nCollectes:\n1. Vast project: Schuldhulpmaatje\n2. Jeugd- en jongerenwerk
URL:https://pkn-duiven.nl/agenda/viering-01-05-2022/
LOCATION:SOW kapel\, Duiven
CATEGORIES:Vieringen
END:VEVENT
BEGIN:VEVENT
DTSTART;TZID=Europe/Amsterdam:20220504T190000
DTEND;TZID=Europe/Amsterdam:20220504T190000
DTSTAMP:20260421T201553
CREATED:20220228T185800Z
LAST-MODIFIED:20220502T180029Z
UID:1927-1651690800-1651690800@pkn-duiven.nl
SUMMARY:Viering - dodenherdenking
DESCRIPTION:Vandaag is er een herdenkingsdienst in de Remigiuskerk in Duiven. Aanvang 19.00 uur. De dienst wordt voorbereid door de voorgangers van de gezamenlijke kerken van Duiven: Maarten Smits van de parochie Sint Willibrordus\, Jolande van Baardewijk van de Protestantse kerk\, Christiaan Vos van de Kerk voor Nu en Rob Nijhoff van de Gereformeerde Kerk Vrijgemaakt. Zij zullen voorgaan in de herdenkingsdienst. \nRond half acht is er vanuit de kerk een Stille Tocht naar het herdenkingsmonument aan de Van Dordt tot Medlerstraat. Daar wordt om acht uur twee minuten stilte gehouden. Na het spelen van het Wilhelmus vindt de kranslegging plaats\, waaronder een krans namens de gezamenlijke kerken van Duiven. U bent daarvoor van harte uitgenodigd. \nPeter Mekkink\, coördinator 4-mei herdenking \nBekijk ook het persoonlijk ervaringsverhaal van Thea Rang: https://www.youtube.com/watch?v=xQZF1p3HBlc \n 
URL:https://pkn-duiven.nl/agenda/viering-dodenherdenking/
LOCATION:Remigiuskerk Duiven\, Remigiusplein 4\, Duiven\, 6921 BL\, Nederland
CATEGORIES:Vieringen
END:VEVENT
BEGIN:VEVENT
DTSTART;TZID=Europe/Amsterdam:20220508T103000
DTEND;TZID=Europe/Amsterdam:20220508T103000
DTSTAMP:20260421T201553
CREATED:20220228T185623Z
LAST-MODIFIED:20220423T202413Z
UID:1925-1652005800-1652005800@pkn-duiven.nl
SUMMARY:Viering
DESCRIPTION:Voorganger: Willem Lindeman\nAmbtsdrager van dienst: Edward Pfeiffer \nBijzonderheden: – \nOver de viering:\nZondag 8 mei is het thema: Wees niet bang voor de angst!\nWe gaan samen kijken naar en ons laten inspireren door de gelijkenis van de talenten\nuit Mattheus 25: 14-30. Waar we het meeste bij stil zullen blijven staan is de dienaar die zijn\ntalent uit angst in de grond begroef. Waaruit bestond zijn angst? Waar was die angst op gebaseerd?\nHerkennen we dit bij onszelf…dat we ons bevinden in een gebied tussen vermoede mogelijkheden en gevreesde tekortkomingen? Laten we ons andermaal bezinnen op onze talenten van de gedachte dat niet het vele goed is\, maar het goede veel!\nTot 8 mei! Ik kijk ernaar uit! \nWillem Lindeman \nCollectes:\n1. Vast project: Leger des Heils\n2. Beheer en onderhoud \n  \n 
URL:https://pkn-duiven.nl/agenda/viering-08-05-2022/
LOCATION:SOW kapel\, Duiven
CATEGORIES:Vieringen
END:VEVENT
BEGIN:VEVENT
DTSTART;TZID=Europe/Amsterdam:20220511T190000
DTEND;TZID=Europe/Amsterdam:20220511T190000
DTSTAMP:20260421T201553
CREATED:20220223T190546Z
LAST-MODIFIED:20220223T190546Z
UID:1876-1652295600-1652295600@pkn-duiven.nl
SUMMARY:Wandeling Poten in de Klei - 'Aarde' - Aerdt
DESCRIPTION:Poten in de klei trekt erop uit! Loop je mee? \nAl wandelend in de natuur elkaar écht ontmoeten. \nVandaag: ‘Aarde’ – Aerdt \nKlik hier voor meer informatie of kijk op Instagram: @PotenindeKlei of mail naar potenindeklei@gmail.com.
URL:https://pkn-duiven.nl/agenda/wandeling-poten-in-de-klei-aarde-aerdt/
END:VEVENT
BEGIN:VEVENT
DTSTART;TZID=Europe/Amsterdam:20220515T103000
DTEND;TZID=Europe/Amsterdam:20220515T103000
DTSTAMP:20260421T201553
CREATED:20220228T185951Z
LAST-MODIFIED:20220228T185951Z
UID:1930-1652610600-1652610600@pkn-duiven.nl
SUMMARY:Viering
DESCRIPTION:Voorganger: Ds. Jolande\nAmbtsdrager van dienst: Don den Hoed \nBijzonderheden: Ook kinderkerk en tienerdienst \nCollectes:\n1. Plaatselijke diaconie\n2. Algemeen kerkenwerk
URL:https://pkn-duiven.nl/agenda/viering-15-05-2022/
LOCATION:SOW kapel\, Duiven
CATEGORIES:Vieringen
END:VEVENT
BEGIN:VEVENT
DTSTART;TZID=Europe/Amsterdam:20220518T143000
DTEND;TZID=Europe/Amsterdam:20220518T163000
DTSTAMP:20260421T201553
CREATED:20220418T180655Z
LAST-MODIFIED:20220423T200412Z
UID:2098-1652884200-1652891400@pkn-duiven.nl
SUMMARY:Bijeenkomst OASE: muzikale middag
DESCRIPTION:Zin in een gezellige\, muzikale middag? Dan bent u van harte uitgenodigd.\nWoensdagmiddag 18 mei komt het mannenkoor ’Tijdloos’ voor ons optreden.\nHet koor is een zijtak van het Liemers mannenkoor\, zeer de moeite waard dus!\nOm 14.30 uur wordt u ontvangen met een kopje koffie of thee.\nDe toegang is gratis en vrij.\nDe organisatie is in handen van het Oase team.
URL:https://pkn-duiven.nl/agenda/bijeenkomst-oase-muzikale-middag/
LOCATION:SOW kapel\, Duiven
CATEGORIES:Activiteit
END:VEVENT
BEGIN:VEVENT
DTSTART;TZID=Europe/Amsterdam:20220522T103000
DTEND;TZID=Europe/Amsterdam:20220522T103000
DTSTAMP:20260421T201553
CREATED:20220228T190131Z
LAST-MODIFIED:20220228T190131Z
UID:1932-1653215400-1653215400@pkn-duiven.nl
SUMMARY:Viering
DESCRIPTION:Voorganger: Henriette Nieuwenhuis (Zeddam)\nAmbtsdrager van dienst: Louise Docter \nBijzonderheden: geen \nCollectes:\n1. Plaatselijke diaconie\n2. Jeugd- en jongerenwerk
URL:https://pkn-duiven.nl/agenda/viering-22-02-2022/
LOCATION:SOW kapel\, Duiven
CATEGORIES:Vieringen
END:VEVENT
BEGIN:VEVENT
DTSTART;TZID=Europe/Amsterdam:20220526T100000
DTEND;TZID=Europe/Amsterdam:20220526T100000
DTSTAMP:20260421T201553
CREATED:20220228T190425Z
LAST-MODIFIED:20220228T190705Z
UID:1934-1653559200-1653559200@pkn-duiven.nl
SUMMARY:Viering - Hemelvaart
DESCRIPTION:Voorganger: Margreet de Bree (Westervoort)\nAmbtsdrager van dienst: Marian Rijnbende \nBijzonderheden: Hemelvaartsdag\, in Duiven (Liemersbreed) \nCollectes:\n1. Geen\n2. Geen
URL:https://pkn-duiven.nl/agenda/viering-26-05-2022/
LOCATION:SOW kapel\, Duiven
CATEGORIES:Vieringen
END:VEVENT
BEGIN:VEVENT
DTSTART;TZID=Europe/Amsterdam:20220529T080000
DTEND;TZID=Europe/Amsterdam:20220529T170000
DTSTAMP:20260421T201553
CREATED:20220228T190808Z
LAST-MODIFIED:20220228T190808Z
UID:1937-1653811200-1653843600@pkn-duiven.nl
SUMMARY:Viering
DESCRIPTION:Voorganger: Ds. Keimpe Dijk\nAmbtsdrager van dienst: Tammo Hoogakker \nBijzonderheden: Koffie \nCollectes:\n1. Plaatselijke diaconie\n2. Beheer en onderhoud
URL:https://pkn-duiven.nl/agenda/viering-29-05-2022/
LOCATION:SOW kapel\, Duiven
CATEGORIES:Vieringen
END:VEVENT
BEGIN:VEVENT
DTSTART;TZID=Europe/Amsterdam:20220529T183000
DTEND;TZID=Europe/Amsterdam:20220529T183000
DTSTAMP:20260421T201553
CREATED:20220228T190957Z
LAST-MODIFIED:20220228T190957Z
UID:1939-1653849000-1653849000@pkn-duiven.nl
SUMMARY:Vesper
DESCRIPTION:Voorganger: Ds. Jolande\nAmbtsdrager van dienst: Geen \nBijzonderheden: Vesper \nCollectes:\n1. Geen\n2. Geen
URL:https://pkn-duiven.nl/agenda/vesper/
LOCATION:SOW kapel\, Duiven
CATEGORIES:Vespers
END:VEVENT
END:VCALENDAR