BEGIN:VCALENDAR
VERSION:2.0
PRODID:-//PKN-Duiven - ECPv6.15.20//NONSGML v1.0//EN
CALSCALE:GREGORIAN
METHOD:PUBLISH
X-WR-CALNAME:PKN-Duiven
X-ORIGINAL-URL:https://pkn-duiven.nl
X-WR-CALDESC:Evenementen voor PKN-Duiven
REFRESH-INTERVAL;VALUE=DURATION:PT1H
X-Robots-Tag:noindex
X-PUBLISHED-TTL:PT1H
BEGIN:VTIMEZONE
TZID:Europe/Amsterdam
BEGIN:DAYLIGHT
TZOFFSETFROM:+0100
TZOFFSETTO:+0200
TZNAME:CEST
DTSTART:20250330T010000
END:DAYLIGHT
BEGIN:STANDARD
TZOFFSETFROM:+0200
TZOFFSETTO:+0100
TZNAME:CET
DTSTART:20251026T010000
END:STANDARD
BEGIN:DAYLIGHT
TZOFFSETFROM:+0100
TZOFFSETTO:+0200
TZNAME:CEST
DTSTART:20260329T010000
END:DAYLIGHT
BEGIN:STANDARD
TZOFFSETFROM:+0200
TZOFFSETTO:+0100
TZNAME:CET
DTSTART:20261025T010000
END:STANDARD
BEGIN:DAYLIGHT
TZOFFSETFROM:+0100
TZOFFSETTO:+0200
TZNAME:CEST
DTSTART:20270328T010000
END:DAYLIGHT
BEGIN:STANDARD
TZOFFSETFROM:+0200
TZOFFSETTO:+0100
TZNAME:CET
DTSTART:20271031T010000
END:STANDARD
END:VTIMEZONE
BEGIN:VEVENT
DTSTART;TZID=Europe/Amsterdam:20260616T110000
DTEND;TZID=Europe/Amsterdam:20260616T140000
DTSTAMP:20260420T074427
CREATED:20260419T120611Z
LAST-MODIFIED:20260419T120611Z
UID:5194-1781607600-1781618400@pkn-duiven.nl
SUMMARY:Open huiskamer
DESCRIPTION:U of jij bent van harte welkom voor een kopje koffie\, thee\, een praatje of een rustig moment.\nLoop gerust eens binnen!
URL:https://pkn-duiven.nl/agenda/open-huiskamer-320/
LOCATION:Huiskamer SOW kapel\, Rijksweg 56b\, Duiven\, Nederland
END:VEVENT
BEGIN:VEVENT
DTSTART;TZID=Europe/Amsterdam:20260618T110000
DTEND;TZID=Europe/Amsterdam:20260618T140000
DTSTAMP:20260420T074427
CREATED:20260419T120739Z
LAST-MODIFIED:20260419T120739Z
UID:5196-1781780400-1781791200@pkn-duiven.nl
SUMMARY:Open huiskamer
DESCRIPTION:U of jij bent van harte welkom voor een kopje koffie\, thee\, een praatje of een rustig moment.\nLoop gerust eens binnen!
URL:https://pkn-duiven.nl/agenda/open-huiskamer-321/
LOCATION:Huiskamer SOW kapel\, Rijksweg 56b\, Duiven\, Nederland
END:VEVENT
BEGIN:VEVENT
DTSTART;TZID=Europe/Amsterdam:20260621T100000
DTEND;TZID=Europe/Amsterdam:20260621T110000
DTSTAMP:20260420T074427
CREATED:20260215T204653Z
LAST-MODIFIED:20260215T204653Z
UID:5085-1782036000-1782039600@pkn-duiven.nl
SUMMARY:Viering
DESCRIPTION:Voorganger: Ds. Jolande van Baardewijk\nAmbtsdrager: Edward Pfeiffer\nBijzonderheden:\nEerste collecte: Plaatselijke diaconie\nTweede collecte: Algemeen kerkenwerk
URL:https://pkn-duiven.nl/agenda/viering-121/
LOCATION:SOW kapel\, Duiven
END:VEVENT
BEGIN:VEVENT
DTSTART;TZID=Europe/Amsterdam:20260623T110000
DTEND;TZID=Europe/Amsterdam:20260623T140000
DTSTAMP:20260420T074427
CREATED:20260419T120835Z
LAST-MODIFIED:20260419T120835Z
UID:5198-1782212400-1782223200@pkn-duiven.nl
SUMMARY:Open huiskamer
DESCRIPTION:U of jij bent van harte welkom voor een kopje koffie\, thee\, een praatje of een rustig moment.\nLoop gerust eens binnen!
URL:https://pkn-duiven.nl/agenda/open-huiskamer-322/
LOCATION:Huiskamer SOW kapel\, Rijksweg 56b\, Duiven\, Nederland
END:VEVENT
BEGIN:VEVENT
DTSTART;TZID=Europe/Amsterdam:20260625T110000
DTEND;TZID=Europe/Amsterdam:20260625T140000
DTSTAMP:20260420T074427
CREATED:20260419T120932Z
LAST-MODIFIED:20260419T120932Z
UID:5200-1782385200-1782396000@pkn-duiven.nl
SUMMARY:Open huiskamer
DESCRIPTION:U of jij bent van harte welkom voor een kopje koffie\, thee\, een praatje of een rustig moment.\nLoop gerust eens binnen!
URL:https://pkn-duiven.nl/agenda/open-huiskamer-323/
LOCATION:Huiskamer SOW kapel\, Rijksweg 56b\, Duiven\, Nederland
END:VEVENT
BEGIN:VEVENT
DTSTART;TZID=Europe/Amsterdam:20260628T100000
DTEND;TZID=Europe/Amsterdam:20260628T110000
DTSTAMP:20260420T074427
CREATED:20260215T205007Z
LAST-MODIFIED:20260215T205007Z
UID:5087-1782640800-1782644400@pkn-duiven.nl
SUMMARY:Viering
DESCRIPTION:Voorganger: Willem Lindeman\nAmbtsdrager: Don den Hoed \nEerste collecte: Leger des Heils\nTweede collecte: Jeugd- en jongerenwerk
URL:https://pkn-duiven.nl/agenda/viering-122/
LOCATION:SOW kapel\, Duiven
END:VEVENT
BEGIN:VEVENT
DTSTART;TZID=Europe/Amsterdam:20260630T110000
DTEND;TZID=Europe/Amsterdam:20260630T140000
DTSTAMP:20260420T074427
CREATED:20260419T121048Z
LAST-MODIFIED:20260419T121048Z
UID:5202-1782817200-1782828000@pkn-duiven.nl
SUMMARY:Open huiskamer
DESCRIPTION:U of jij bent van harte welkom voor een kopje koffie\, thee\, een praatje of een rustig moment.\nLoop gerust eens binnen!
URL:https://pkn-duiven.nl/agenda/open-huiskamer-324/
LOCATION:Huiskamer SOW kapel\, Rijksweg 56b\, Duiven\, Nederland
END:VEVENT
BEGIN:VEVENT
DTSTART;TZID=Europe/Amsterdam:20260704T120000
DTEND;TZID=Europe/Amsterdam:20260704T140000
DTSTAMP:20260420T074427
CREATED:20260225T212002Z
LAST-MODIFIED:20260225T212002Z
UID:5162-1783166400-1783173600@pkn-duiven.nl
SUMMARY:Kinderknutselclub
DESCRIPTION:Doe je mee met Kinderknutselclub Bij de Handjes? \nElke maand op zaterdag van 12.00 tot 14.00 | knutselen en pannenkoeken! \nHier lees je meer: Bij de Handjes
URL:https://pkn-duiven.nl/agenda/kinderknutselclub-8/
LOCATION:Huiskamer SOW kapel\, Rijksweg 56b\, Duiven\, Nederland
END:VEVENT
BEGIN:VEVENT
DTSTART;TZID=Europe/Amsterdam:20260705T100000
DTEND;TZID=Europe/Amsterdam:20260705T110000
DTSTAMP:20260420T074427
CREATED:20260215T205311Z
LAST-MODIFIED:20260215T205311Z
UID:5089-1783245600-1783249200@pkn-duiven.nl
SUMMARY:Viering
DESCRIPTION:Voorganger: Ds. Jolande van Baardewijk\nAmbtsdrager: Henk Overhaal \nEerste collecte: Gevangenenzorg Nederland\nTweede collecte: Beheer en onderhoud
URL:https://pkn-duiven.nl/agenda/viering-123/
LOCATION:SOW kapel\, Duiven
END:VEVENT
END:VCALENDAR