BEGIN:VCALENDAR
VERSION:2.0
PRODID:-//PKN-Duiven - ECPv6.15.20//NONSGML v1.0//EN
CALSCALE:GREGORIAN
METHOD:PUBLISH
X-WR-CALNAME:PKN-Duiven
X-ORIGINAL-URL:https://pkn-duiven.nl
X-WR-CALDESC:Evenementen voor PKN-Duiven
REFRESH-INTERVAL;VALUE=DURATION:PT1H
X-Robots-Tag:noindex
X-PUBLISHED-TTL:PT1H
BEGIN:VTIMEZONE
TZID:Europe/Amsterdam
BEGIN:DAYLIGHT
TZOFFSETFROM:+0100
TZOFFSETTO:+0200
TZNAME:CEST
DTSTART:20240331T010000
END:DAYLIGHT
BEGIN:STANDARD
TZOFFSETFROM:+0200
TZOFFSETTO:+0100
TZNAME:CET
DTSTART:20241027T010000
END:STANDARD
BEGIN:DAYLIGHT
TZOFFSETFROM:+0100
TZOFFSETTO:+0200
TZNAME:CEST
DTSTART:20250330T010000
END:DAYLIGHT
BEGIN:STANDARD
TZOFFSETFROM:+0200
TZOFFSETTO:+0100
TZNAME:CET
DTSTART:20251026T010000
END:STANDARD
BEGIN:DAYLIGHT
TZOFFSETFROM:+0100
TZOFFSETTO:+0200
TZNAME:CEST
DTSTART:20260329T010000
END:DAYLIGHT
BEGIN:STANDARD
TZOFFSETFROM:+0200
TZOFFSETTO:+0100
TZNAME:CET
DTSTART:20261025T010000
END:STANDARD
BEGIN:DAYLIGHT
TZOFFSETFROM:+0100
TZOFFSETTO:+0200
TZNAME:CEST
DTSTART:20270328T010000
END:DAYLIGHT
BEGIN:STANDARD
TZOFFSETFROM:+0200
TZOFFSETTO:+0100
TZNAME:CET
DTSTART:20271031T010000
END:STANDARD
END:VTIMEZONE
BEGIN:VEVENT
DTSTART;TZID=Europe/Amsterdam:20260301T100000
DTEND;TZID=Europe/Amsterdam:20260301T110000
DTSTAMP:20260423T224728
CREATED:20251231T104708Z
LAST-MODIFIED:20251231T104708Z
UID:4983-1772359200-1772362800@pkn-duiven.nl
SUMMARY:Viering
DESCRIPTION:Voorganger: ds. Jolande van Baardewijk\nAmbtsdrager van dienst: Henk Overhaal\nBijzonderheden: 2e zondag 40-dagentijd | Werelddiaconaat ZWO\nEerste collecte: Werelddiaconaat Moldavië\nTweede collecte: Jeugd en Jongerenwerk
URL:https://pkn-duiven.nl/agenda/viering-108/
LOCATION:SOW kapel\, Duiven
CATEGORIES:Vieringen
END:VEVENT
BEGIN:VEVENT
DTSTART;TZID=Europe/Amsterdam:20260222T100000
DTEND;TZID=Europe/Amsterdam:20260222T110000
DTSTAMP:20260423T224728
CREATED:20251231T104524Z
LAST-MODIFIED:20251231T104524Z
UID:4981-1771754400-1771758000@pkn-duiven.nl
SUMMARY:Viering
DESCRIPTION:Voorganger: Ds. Peter van den Berg\nAmbtsdrager van dienst: Edward Pfeiffer\nBijzonderheden: 1e zondag 40-dagen tijd\nEerste collecte: Leger des Heils\nTweede collecte: Algemeen kerkenwerk
URL:https://pkn-duiven.nl/agenda/viering-107/
LOCATION:SOW kapel\, Duiven
CATEGORIES:Vieringen
END:VEVENT
BEGIN:VEVENT
DTSTART;TZID=Europe/Amsterdam:20260215T100000
DTEND;TZID=Europe/Amsterdam:20260215T110000
DTSTAMP:20260423T224728
CREATED:20251231T104400Z
LAST-MODIFIED:20251231T104400Z
UID:4979-1771149600-1771153200@pkn-duiven.nl
SUMMARY:Viering
DESCRIPTION:Voorganger: Meinie Visser\nAmbtsdrager van dienst: Don den Hoed\nBijzonderheden: 6e van Epifanie\nEerste collecte: Plaatselijke diaconie\nTweede collecte: Beheer en onderhoud
URL:https://pkn-duiven.nl/agenda/viering-106/
LOCATION:SOW kapel\, Duiven
CATEGORIES:Vieringen
END:VEVENT
BEGIN:VEVENT
DTSTART;TZID=Europe/Amsterdam:20260208T100000
DTEND;TZID=Europe/Amsterdam:20260208T110000
DTSTAMP:20260423T224728
CREATED:20251231T104243Z
LAST-MODIFIED:20251231T104243Z
UID:4977-1770544800-1770548400@pkn-duiven.nl
SUMMARY:Viering
DESCRIPTION:Voorganger: Susanna\nAmbtsdrager van dienst: Edward Pfeiffer\nBijzonderheden: 5e van Epifanie | Crèche\nEerste collecte: Project Blij\nTweede collecte: Jeugd en Jongerenwerk
URL:https://pkn-duiven.nl/agenda/viering-105/
LOCATION:SOW kapel\, Duiven
CATEGORIES:Vieringen
END:VEVENT
BEGIN:VEVENT
DTSTART;TZID=Europe/Amsterdam:20260201T100000
DTEND;TZID=Europe/Amsterdam:20260201T110000
DTSTAMP:20260423T224728
CREATED:20251231T104108Z
LAST-MODIFIED:20251231T104108Z
UID:4975-1769940000-1769943600@pkn-duiven.nl
SUMMARY:Viering
DESCRIPTION:Voorganger: Margreet en ds. Jolande van Baardewijk\nAmbtsdrager van dienst: Willem Lindeman\nBijzonderheden: 4e van Epifanie | Maaltijd van de Heer\nEerste collecte: Werelddiaconaat Bangladesh\nTweede collecte: Algemeen kerkenwerk
URL:https://pkn-duiven.nl/agenda/viering-104/
LOCATION:SOW kapel\, Duiven
CATEGORIES:Vieringen
END:VEVENT
BEGIN:VEVENT
DTSTART;TZID=Europe/Amsterdam:20260125T100000
DTEND;TZID=Europe/Amsterdam:20260125T100000
DTSTAMP:20260423T224728
CREATED:20251231T103645Z
LAST-MODIFIED:20260108T210125Z
UID:4972-1769335200-1769335200@pkn-duiven.nl
SUMMARY:Viering
DESCRIPTION:Voorganger: Willem Lindeman\nAmbtsdrager van dienst: Don den Hoed\nBijzonderheden: 3e van Epifanie | Crèche\nEerste collecte: Gevangenenzorg Nederland (nieuw doel)\nTweede collecte: Beheer en onderhoud \nHet thema is: “Wil je met me rouwen?” \nDe Bijbelgedeelten hierbij zijn:\nLucas 8: 43 t/m 48 De bloedvloeiende vrouw\nPsalm 121: 1 t/m 8\nJesaja 40: 28 t/m 31 \nRouw werkt voor iedereen anders. Er is geen tijdlijn\, geen “juiste” manier om te rouwen.\nJim Carrey zei: “Verdriet is geen last om verborgen te blijven. Het is geen zwakte om je voor te schamen. Het is het diepste bewijs dat liefde bestond/bestaat\, dat iets moois ooit je leven heeft geraakt. Dus laat het jezelf voelen. Laat jezelf rouwen. Laat jezelf herinneren. Herkennen we dit? Of werkt het voor jou\, voor u anders? \nWe stellen ons hierbij ook de vraag: “Wat voor rol speelt het geloof voor jou bij het rouwen?” Ook hier geldt mijns inziens dat dat voor iedereen niet hetzelfde hoeft te zijn. Wat zou het mooi zijn om dit met elkaar te delen\, de verbinding te voelen\, de Liefde van God\, waarbij het woord “moeten” niet aan de orde is!
URL:https://pkn-duiven.nl/agenda/viering-103/
CATEGORIES:Vieringen
END:VEVENT
BEGIN:VEVENT
DTSTART;TZID=Europe/Amsterdam:20260111T100000
DTEND;TZID=Europe/Amsterdam:20260111T110000
DTSTAMP:20260423T224728
CREATED:20251231T103431Z
LAST-MODIFIED:20260108T205418Z
UID:4970-1768125600-1768129200@pkn-duiven.nl
SUMMARY:Viering
DESCRIPTION:Voorganger: Willem Lindeman\nAmbtsdrager van dienst: Henk Overhaal\nBijzonderheden: 1e van Epifanie | Crèche \nEerste collecte: Project diaconie Duiven: Leger des Heils in Arnhem (financiering activiteiten rondom ontspanning cliënten)\nTweede collecte: Algemeen kerkenwerk \nBang zijn dat iets voorbijgaat\, voordat het nog begonnen is (Stef Bos).\nEen goed voornemen voor het nieuwe jaar zou kunnen zijn dat we wat gaan onthaasten\, zodat we meer in het nu en met elkaar leven. In deze dienst gaan we in op de gevolgen als we dat niet of te weinig doen. Die zijn ernstig. \nSpreuken 21: 5 spreekt wat dat betreft geen woord Spaans!\nIn Prediker 1: 8 legt de schrijver de vinger op de zere plek!\nMattheüs 4: 1 t/m 8 waar Jezus zich terugtrekt in de woestijn\, zal ook een grote rol spelen bij dit thema.\nEn natuurlijk aan ons de vraag: “Wat doen wij om te onthaasten?”
URL:https://pkn-duiven.nl/agenda/viering-102/
CATEGORIES:Vieringen
END:VEVENT
BEGIN:VEVENT
DTSTART;TZID=Europe/Amsterdam:20260104T100000
DTEND;TZID=Europe/Amsterdam:20260104T110000
DTSTAMP:20260423T224728
CREATED:20251231T102914Z
LAST-MODIFIED:20251231T103844Z
UID:4968-1767520800-1767524400@pkn-duiven.nl
SUMMARY:Nieuwjaarsviering
DESCRIPTION:Voorganger: ds. Jolande van Baardewijk\nAmbtsdrager van dienst: Paul Vlaardingerbroek\nBijzonderheden: Driekoningen en Epifanie\nEerste collecte: Plaatselijke diaconie\nTweede collecte: Beheer en onderhoud
URL:https://pkn-duiven.nl/agenda/viering-101/
LOCATION:SOW kapel\, Duiven
CATEGORIES:Vieringen
END:VEVENT
BEGIN:VEVENT
DTSTART;TZID=Europe/Amsterdam:20251228T100000
DTEND;TZID=Europe/Amsterdam:20251228T110000
DTSTAMP:20260423T224728
CREATED:20251014T193737Z
LAST-MODIFIED:20251022T164900Z
UID:4813-1766916000-1766919600@pkn-duiven.nl
SUMMARY:Viering
DESCRIPTION:Voorganger: ds. Jolande van Baardewijk en Willem Lindeman\nAmbtsdrager van dienst: Don den Hoed\nBijzonderheden: Kindercrèche De Schaapjes\nEerste collecte: Plaatselijke diaconie\nTweede collecte: Jeugd- en jongerenwerk
URL:https://pkn-duiven.nl/agenda/viering-100/
LOCATION:SOW kapel\, Duiven
CATEGORIES:Vieringen
END:VEVENT
BEGIN:VEVENT
DTSTART;TZID=Europe/Amsterdam:20251225T100000
DTEND;TZID=Europe/Amsterdam:20251225T110000
DTSTAMP:20260423T224728
CREATED:20251014T193531Z
LAST-MODIFIED:20251125T220949Z
UID:4811-1766656800-1766660400@pkn-duiven.nl
SUMMARY:Kerstochtend - gezinsdienst
DESCRIPTION:Voorganger: ds. Jolande\nAmbtsdrager van dienst: Marian Rijnbende\nBijzonderheden: Gezinsdienst\, Kindercrèche De Schaapjes\nEerste collecte: Kinderen in de knel\nTweede collecte: Algemeen kerkenwerk \nIedereen welkom in de Kerstviering! Of: welcome to all\, zoals de Iona zanggroep zal zingen tijdens deze gezinsdienst. De speciaal gevormde zanggroep zal de viering opluisteren met mooie muziek.\nNa afloop is er koffie en chocolademelk.
URL:https://pkn-duiven.nl/agenda/kerstochtend-gezinsdienst-2/
CATEGORIES:Vieringen
END:VEVENT
BEGIN:VEVENT
DTSTART;TZID=Europe/Amsterdam:20251224T220000
DTEND;TZID=Europe/Amsterdam:20251224T230000
DTSTAMP:20260423T224728
CREATED:20251014T193342Z
LAST-MODIFIED:20251014T193342Z
UID:4809-1766613600-1766617200@pkn-duiven.nl
SUMMARY:Kerstavond
DESCRIPTION:Voorganger: Willem Lindeman\nAmbtsdrager van dienst: Edward Pfeiffer\nBijzonderheden:\nEerste collecte: Nachtopvang de Duif\nTweede collecte: Beheer en onderhoud
URL:https://pkn-duiven.nl/agenda/kerstavond/
LOCATION:SOW kapel\, Duiven
CATEGORIES:Vieringen
END:VEVENT
BEGIN:VEVENT
DTSTART;TZID=Europe/Amsterdam:20251221T193000
DTEND;TZID=Europe/Amsterdam:20251221T203000
DTSTAMP:20260423T224728
CREATED:20251014T193155Z
LAST-MODIFIED:20251209T202510Z
UID:4807-1766345400-1766349000@pkn-duiven.nl
SUMMARY:Kerstsamenzang-avond met YES
DESCRIPTION:Gospelkoor YES zingt kerstliederen in een extra zangdienst \n \n 
URL:https://pkn-duiven.nl/agenda/kerstsamenzang-met-yes/
LOCATION:SOW kapel\, Duiven
CATEGORIES:Vieringen
END:VEVENT
BEGIN:VEVENT
DTSTART;TZID=Europe/Amsterdam:20251221T100000
DTEND;TZID=Europe/Amsterdam:20251221T110000
DTSTAMP:20260423T224728
CREATED:20251014T193023Z
LAST-MODIFIED:20251125T215835Z
UID:4805-1766311200-1766314800@pkn-duiven.nl
SUMMARY:Viering 9 lessons & carols
DESCRIPTION:Voorganger: Jolande van Baardewijk\nAmbtsdrager van dienst: Willem Lindeman\nBijzonderheden: 4e Adventszondag\, Kindercrèche De Schaapjes\nEerste collecte: Leger des Heils\nTweede collecte: Jeugd- en jongerenwerk \nIn 9 adventslezingen in het oude en nieuwe testament leven we toe naar de geboorte van Jezus: elke lezing wordt afgewisseld met een lied!
URL:https://pkn-duiven.nl/agenda/viering-99/
LOCATION:SOW kapel\, Duiven
CATEGORIES:Vieringen
END:VEVENT
BEGIN:VEVENT
DTSTART;TZID=Europe/Amsterdam:20251214T100000
DTEND;TZID=Europe/Amsterdam:20251214T110000
DTSTAMP:20260423T224728
CREATED:20251014T192842Z
LAST-MODIFIED:20251014T192842Z
UID:4803-1765706400-1765710000@pkn-duiven.nl
SUMMARY:Viering
DESCRIPTION:Voorganger: Willem Lindeman\nAmbtsdrager van dienst: Henk\nBijzonderheden: 3e Adventszondag\nEerste collecte: Advent\, gezamenlijke collecte diaconie Lathum Stichting Leergeld de Liemers\nTweede collecte: Algemeen kerkenwerk
URL:https://pkn-duiven.nl/agenda/viering-98/
LOCATION:SOW kapel\, Duiven
CATEGORIES:Vieringen
END:VEVENT
BEGIN:VEVENT
DTSTART;TZID=Europe/Amsterdam:20251207T100000
DTEND;TZID=Europe/Amsterdam:20251207T110000
DTSTAMP:20260423T224728
CREATED:20251014T192643Z
LAST-MODIFIED:20251022T165110Z
UID:4801-1765101600-1765105200@pkn-duiven.nl
SUMMARY:Viering
DESCRIPTION:Voorganger: ds. Jolande van Baardewijk\nAmbtsdrager van dienst: Don den Hoed\nBijzonderheden: 2e Adventszondag\, Maaltijd van de Heer\, Kindercrèche\nEerste collecte: Plaatselijke diaconie\nTweede collecte: Beheer en onderhoud
URL:https://pkn-duiven.nl/agenda/viering-97/
LOCATION:SOW kapel\, Duiven
CATEGORIES:Vieringen
END:VEVENT
BEGIN:VEVENT
DTSTART;TZID=Europe/Amsterdam:20251130T100000
DTEND;TZID=Europe/Amsterdam:20251130T100000
DTSTAMP:20260423T224728
CREATED:20251014T192458Z
LAST-MODIFIED:20251014T192458Z
UID:4799-1764496800-1764496800@pkn-duiven.nl
SUMMARY:Viering
DESCRIPTION:Voorganger: ds. Peter van den Berg\nAmbtsdrager van dienst: Edward Pfeiffer\nBijzonderheden: 1e Adventszondag\nEerste collecte: Schuldhulpmaatje\nTweede collecte: Jeugd- en jongerenwerk
URL:https://pkn-duiven.nl/agenda/viering-96/
LOCATION:SOW kapel\, Duiven
CATEGORIES:Vieringen
END:VEVENT
BEGIN:VEVENT
DTSTART;TZID=Europe/Amsterdam:20251123T100000
DTEND;TZID=Europe/Amsterdam:20251123T110000
DTSTAMP:20260423T224728
CREATED:20251014T185835Z
LAST-MODIFIED:20251029T220424Z
UID:4797-1763892000-1763895600@pkn-duiven.nl
SUMMARY:Viering
DESCRIPTION:Voorganger: ds. Jolande van Baardewijk\nAmbtsdrager van dienst: Marian Rijnbende\nBijzonderheden: Laatste zondag kerkelijk jaar\, kindercrèche De Schaapjes\nEerste collecte: Leger des Heils\nTweede collecte: Algemeen kerkenwerk \nOp Eeuwigheidszondag worden de namen van de overledenen van afgelopen jaar genoemd. Tijdens de dienst kunnen kinderen naar de crèche\, na afloop is er gelegenheid samen koffie te drinken.
URL:https://pkn-duiven.nl/agenda/viering-95/
LOCATION:SOW kapel\, Duiven
CATEGORIES:Vieringen
END:VEVENT
BEGIN:VEVENT
DTSTART;TZID=Europe/Amsterdam:20251116T100000
DTEND;TZID=Europe/Amsterdam:20251116T110000
DTSTAMP:20260423T224728
CREATED:20251014T185627Z
LAST-MODIFIED:20251014T185627Z
UID:4795-1763287200-1763290800@pkn-duiven.nl
SUMMARY:Viering
DESCRIPTION:Voorganger: Mariecke v.d. Berg\nAmbtsdrager van dienst: Don den Hoed\nBijzonderheden:\nEerste collecte: Plaatselijke diaconie\nTweede collecte: Beheer en onderhoud
URL:https://pkn-duiven.nl/agenda/viering-94/
LOCATION:SOW kapel\, Duiven
CATEGORIES:Vieringen
END:VEVENT
BEGIN:VEVENT
DTSTART;TZID=Europe/Amsterdam:20251109T100000
DTEND;TZID=Europe/Amsterdam:20251109T110000
DTSTAMP:20260423T224728
CREATED:20251014T185450Z
LAST-MODIFIED:20251102T211448Z
UID:4793-1762682400-1762686000@pkn-duiven.nl
SUMMARY:Viering
DESCRIPTION:Voorganger: ds. Jolande van Baardewijk\nAmbtsdrager van dienst: Willem Lindeman\nBijzonderheden: ZWO-dienst over Oeganda\, start kindercrèche De Schaapjes\nEerste collecte: Werelddiaconaatsdienst Moldavië\nTweede collecte: Jeugd- en jongerenwerk \nHet is ‘werelddiaconaat’ zondag en Stichting Upenda Oeganda zal zich weer laten zien: een update hoe het is met de kliniek waarvoor we collecteren. Én een uitnodiging om een Oegandees kind te sponsoren\, zodat dit naar school kan en te eten krijgt. We lezen 1 Kon. 17\, over Elia die in hongersnood in\nJordanië moet gaan bijeten bij een bijna verhongerende weduwe en daarna in Libanon. Voor het eerst is er deze zondag CRECHE! O.l.v. Nynke Rietvink\, Joanne van de Beeten en Sanne Arends.
URL:https://pkn-duiven.nl/agenda/viering-93/
LOCATION:SOW kapel\, Duiven
CATEGORIES:Vieringen
END:VEVENT
BEGIN:VEVENT
DTSTART;TZID=Europe/Amsterdam:20251102T100000
DTEND;TZID=Europe/Amsterdam:20251102T110000
DTSTAMP:20260423T224728
CREATED:20251014T185213Z
LAST-MODIFIED:20251022T153819Z
UID:4791-1762077600-1762081200@pkn-duiven.nl
SUMMARY:Viering
DESCRIPTION:Voorganger: Willem Lindeman\nAmbtsdrager van dienst: Edward Pfeiffer\nBijzonderheden: Dankdag voor Gewas en Arbeid\nEerste collecte: Plaatselijke diaconie\nTweede collecte: Algemeen kerkenwerk \nWoensdag 5 november is de jaarlijkse Dankdag voor Gewas en Arbeid. Een dag om God te danken voor wat Hij geeft. En om – uit dankbaarheid – dit met elkaar te delen! \nZondag 2 november willen we dit binnen de PKN Duiven vieren. De Diaconie wil graag met uw hulp weer een voedsel-oogst-tafel maken in de kerk om samen deze dankdag “zichtbaar” te maken. \nWilt u bijdragen? Op zaterdagmiddag 1 november van 16.00-17.00 uur is de kerk open voor uw bijdrage.\nDat kan ook nog voor de dienst van 2 november\, zodat we tijdens de dienst weer een mooie tafel voorin de kapel hebben staan. \nUw gaven zullen worden geschonken aan de Voedselbank in de Liemers\, daarom vragen we met name wat langer houdbare producten mee te brengen. Maar als u uw eigen oogst of zelfgemaakte jam met anderen wilt delen\, kan dat natuurlijk ook. Hiermee kunnen we mensen met weinig leefgeld in onze eigen regio een extra ‘steuntje in de rug geven’.
URL:https://pkn-duiven.nl/agenda/viering-92/
LOCATION:SOW kapel\, Duiven
CATEGORIES:Vieringen
END:VEVENT
BEGIN:VEVENT
DTSTART;TZID=Europe/Amsterdam:20251026T100000
DTEND;TZID=Europe/Amsterdam:20251026T110000
DTSTAMP:20260423T224728
CREATED:20250913T125127Z
LAST-MODIFIED:20250929T200146Z
UID:4723-1761472800-1761476400@pkn-duiven.nl
SUMMARY:Viering
DESCRIPTION:Voorganger: ds. Susanna Kamminga\nAmbtsdrager van dienst: Don den Hoed\nEerste collecte: Schuldhulpmaatje\nTweede collecte: Beheer en onderhoud
URL:https://pkn-duiven.nl/agenda/viering-91/
LOCATION:SOW kapel\, Duiven
CATEGORIES:Vieringen
END:VEVENT
BEGIN:VEVENT
DTSTART;TZID=Europe/Amsterdam:20251019T100000
DTEND;TZID=Europe/Amsterdam:20251019T110000
DTSTAMP:20260423T224728
CREATED:20250913T124929Z
LAST-MODIFIED:20250913T124929Z
UID:4721-1760868000-1760871600@pkn-duiven.nl
SUMMARY:Viering
DESCRIPTION:Voorganger: Willem Lindeman\nAmbtsdrager van dienst: Paul Vlaardingerbroek\nEerste collecte: Plaatselijke diaconie\nTweede collecte: Jeugd- en jongerenwerk
URL:https://pkn-duiven.nl/agenda/viering-90/
LOCATION:SOW kapel\, Duiven
CATEGORIES:Vieringen
END:VEVENT
BEGIN:VEVENT
DTSTART;TZID=Europe/Amsterdam:20251012T100000
DTEND;TZID=Europe/Amsterdam:20251012T110000
DTSTAMP:20260423T224728
CREATED:20250913T124800Z
LAST-MODIFIED:20250913T124800Z
UID:4719-1760263200-1760266800@pkn-duiven.nl
SUMMARY:Viering
DESCRIPTION:Voorganger: ds. David Heek\nAmbtsdrager van dienst: Marian Rijnbende\nEerste collecte: Project Blij\nTweede collecte: Algemeen kerkenwerk
URL:https://pkn-duiven.nl/agenda/viering-89/
LOCATION:SOW kapel\, Duiven
CATEGORIES:Vieringen
END:VEVENT
BEGIN:VEVENT
DTSTART;TZID=Europe/Amsterdam:20251005T100000
DTEND;TZID=Europe/Amsterdam:20251005T110000
DTSTAMP:20260423T224728
CREATED:20250913T124643Z
LAST-MODIFIED:20250929T193938Z
UID:4717-1759658400-1759662000@pkn-duiven.nl
SUMMARY:Viering
DESCRIPTION:Voorganger: ds. Jolande\nAmbtsdrager van dienst: Henk\nEerste collecte: Kerk in Actie\nTweede collecte: Beheer en onderhoud \nEerste zondag van oktober: de onlosmakelijke band van de kerk met het Joodse volk \nDe eerste zondag in oktober wordt traditioneel ‘Israëlzondag’ gevierd: om de onlosmakelijke band met het volk Israël uit te drukken. In deze noodsituatie hebben we ervoor gekozen om de band met het Joodse volk uit te drukken met de viering van het Loofhuttenfeest: dan viert het Joodse volk dat je in dit leven niets meekrijgt bij geboorte en uit dit leven niets meeneemt aan materiele zaken. Het Bijbelboek Prediker wordt daarbij gelezen\, als feestrol. \nWij bouwen onze rust\, zekerheid en houvast net zo goed als wie op huis\, bezit\, buurt\, werk (carrière)\, hoogte van het salaris en noem maar op. Maar ons leven is een tijdelijk ‘onderkomen’. \nIsraël trok na de bevrijding uit Egypte en het slavenbestaan daar de woestijn in. Daar leefde het volk 40 jaar in tenten\, hutten. In het Hebreeuws: in ‘sukkot’. Het Loofhuttenfeest wordt naast ‘Sukkot’ ook ‘feest van de tabernakels’ genoemd. \nGod zelf namelijk was solidair: voor God werd een tabernakel\, een tent\, meegedragen door het volk\, geen stenen gebouw. Pas toen Israël in het land Kanaän woonde en er rust en vrede heerste\, mocht koning Salomo een tempel bouwen. Deze is bij de ballingschap naar Babel verwoest door de Babyloniërs. Niets is blijvend\, alles voorbijgaand\, zei de Prediker al. De Joden leven deze week van 5 tot 12 oktober in tenten en hutjes in eigen tuin: om terug te denken aan de tijd dat je via je open dak zo naar de hemel keek en je geen stenen huis of dergelijke zekerheden had om je bestaan op te bouwen. Stilstaan bij het naakte bestaan. Nu lijkt mij dit om twee redenen goed voor ons om ook mee te vieren: wij worstelen met de situatie in Gaza waar amper iets overeind staat en de noodzakelijke levensmiddelen ontbreken. We willen solidair een tent of hut oprichten en wie tegen de temperatuur kan\, uitnodigen deze week vooral buiten te bivakkeren en stil te staan bij wie het met het naakte bestaan onder de sterrenhemel en zelfs in de kou moet uithouden. \nDaarnaast zullen we als ‘bewoners’ van de kapel ook zelf dit jaar gaan ‘tabernakelen’: tijdens de verbouwing zal het voor ons aanpassen zijn en verduren om een tijdje misschien wel tegen de blote sterrenhemel aan te kijken… nee\, nou zo ver zal het niet gaan\, maar misschien zullen we wel even ‘kamperen’!
URL:https://pkn-duiven.nl/agenda/viering-88/
LOCATION:SOW kapel\, Duiven
CATEGORIES:Vieringen
END:VEVENT
BEGIN:VEVENT
DTSTART;TZID=Europe/Amsterdam:20250928T100000
DTEND;TZID=Europe/Amsterdam:20250928T110000
DTSTAMP:20260423T224728
CREATED:20250819T180547Z
LAST-MODIFIED:20250913T124314Z
UID:4633-1759053600-1759057200@pkn-duiven.nl
SUMMARY:Viering
DESCRIPTION:Voorganger: ds. Jolande\nAmbtsdrager van dienst: Edward Pfeiffer\nEerste collecte: Leger des Heils\nTweede collecte: Jeugd en jongerenwerk
URL:https://pkn-duiven.nl/agenda/viering-87/
LOCATION:SOW kapel\, Duiven
CATEGORIES:Vieringen
END:VEVENT
BEGIN:VEVENT
DTSTART;TZID=Europe/Amsterdam:20250921T100000
DTEND;TZID=Europe/Amsterdam:20250921T110000
DTSTAMP:20260423T224728
CREATED:20250819T180439Z
LAST-MODIFIED:20250913T124213Z
UID:4631-1758448800-1758452400@pkn-duiven.nl
SUMMARY:Viering
DESCRIPTION:Voorganger: ds. Peter van den Berg\nAmbtsdrager van dienst: Marian Rijnbende\nEerste collecte: Plaatselijke diaconie\nTweede collecte: Algemeen kerkenwerk
URL:https://pkn-duiven.nl/agenda/viering-86/
LOCATION:SOW kapel\, Duiven
CATEGORIES:Vieringen
END:VEVENT
BEGIN:VEVENT
DTSTART;TZID=Europe/Amsterdam:20250914T100000
DTEND;TZID=Europe/Amsterdam:20250914T100000
DTSTAMP:20260423T224728
CREATED:20250806T200059Z
LAST-MODIFIED:20250819T180227Z
UID:4622-1757844000-1757844000@pkn-duiven.nl
SUMMARY:Startzondag
DESCRIPTION:Tijdens deze startzondag is het jaarthema van de landelijke PKN (‘Kijk! Laat je verrassen door het werk van Gods Geest’) onze leidraad\, uitgewerkt naar de situatie in onze eigen kerk in Duiven: \nKijk! Laat je verrassen door Gods Geest tijdens de verbouw van de kapel en van je eigen leven! Een onderhoudsrenovatie doet wonderen! \nTijdens de viering zullen we o.a. uiteen gaan in groepjes om na te denken over een gedenkhoek\, een kinderhoek in de verbouwde kapel\, een muziekplek in de kapel\, enz. \nWelkom! \n(voorganger: ds. Jolande\, ambtsdrager van dienst: Don den Hoed\, eerste collecte: Stichting Eerste Levensbehoefte Rijnwaardig te Aerdt\, tweede collecte: Beheer en Onderhoud)
URL:https://pkn-duiven.nl/agenda/startzondag-2/
LOCATION:SOW kapel\, Duiven
CATEGORIES:Vieringen
END:VEVENT
BEGIN:VEVENT
DTSTART;TZID=Europe/Amsterdam:20250907T100000
DTEND;TZID=Europe/Amsterdam:20250907T110000
DTSTAMP:20260423T224728
CREATED:20250619T092557Z
LAST-MODIFIED:20250619T092557Z
UID:4555-1757239200-1757242800@pkn-duiven.nl
SUMMARY:Viering
DESCRIPTION:Voorganger: ds. Willem Lindeman\nAmbtsdrager van dienst: Marian Rijnbende\nBijzonderheden: geen\nEerste collecte: Plaatselijke diaconie\nTweede collecte: Jeugd- en jongerenwerk
URL:https://pkn-duiven.nl/agenda/viering-85/
LOCATION:SOW kapel\, Duiven
CATEGORIES:Vieringen
END:VEVENT
BEGIN:VEVENT
DTSTART;TZID=Europe/Amsterdam:20250831T100000
DTEND;TZID=Europe/Amsterdam:20250831T110000
DTSTAMP:20260423T224728
CREATED:20250619T092431Z
LAST-MODIFIED:20250619T092431Z
UID:4553-1756634400-1756638000@pkn-duiven.nl
SUMMARY:Viering
DESCRIPTION:Voorganger: ds. Jolande\nAmbtsdrager van dienst: Paul Vlaardingerbroek\nBijzonderheden: geen\nEerste collecte: ZWO – Indonesië – opvang voor straatkinderen\nTweede collecte: Algemeen kerkenwerk
URL:https://pkn-duiven.nl/agenda/viering-84/
LOCATION:SOW kapel\, Duiven
CATEGORIES:Vieringen
END:VEVENT
BEGIN:VEVENT
DTSTART;TZID=Europe/Amsterdam:20250824T100000
DTEND;TZID=Europe/Amsterdam:20250824T110000
DTSTAMP:20260423T224728
CREATED:20250619T092305Z
LAST-MODIFIED:20250823T151816Z
UID:4551-1756029600-1756033200@pkn-duiven.nl
SUMMARY:Viering in Westervoort
DESCRIPTION:In Westervoort vindt de tiener-terugkom-viering plaats om 10.00 uur. In deze gezamenlijk georganiseerde\ndienst van PG Duiven en Westervoort staat het laatste – en 50ste! – tienerkamp centraal. \nVoorganger: ds. Jolande en ds. Margreet\nAmbtsdrager van dienst: Edward Pfeiffer\nBijzonderheden: in Westervoort!\nEerste collecte: Leger des Heils\nTweede collecte: Beheer en onderhoud
URL:https://pkn-duiven.nl/agenda/viering-83/
LOCATION:Werenfriedkerk Westervoort\, Dorpstraat 61\, Westervoort
CATEGORIES:Vieringen
END:VEVENT
END:VCALENDAR