BEGIN:VCALENDAR
VERSION:2.0
PRODID:-//PKN-Duiven - ECPv6.15.20//NONSGML v1.0//EN
CALSCALE:GREGORIAN
METHOD:PUBLISH
X-ORIGINAL-URL:https://pkn-duiven.nl
X-WR-CALDESC:Evenementen voor PKN-Duiven
REFRESH-INTERVAL;VALUE=DURATION:PT1H
X-Robots-Tag:noindex
X-PUBLISHED-TTL:PT1H
BEGIN:VTIMEZONE
TZID:Europe/Amsterdam
BEGIN:DAYLIGHT
TZOFFSETFROM:+0100
TZOFFSETTO:+0200
TZNAME:CEST
DTSTART:20210328T010000
END:DAYLIGHT
BEGIN:STANDARD
TZOFFSETFROM:+0200
TZOFFSETTO:+0100
TZNAME:CET
DTSTART:20211031T010000
END:STANDARD
BEGIN:DAYLIGHT
TZOFFSETFROM:+0100
TZOFFSETTO:+0200
TZNAME:CEST
DTSTART:20220327T010000
END:DAYLIGHT
BEGIN:STANDARD
TZOFFSETFROM:+0200
TZOFFSETTO:+0100
TZNAME:CET
DTSTART:20221030T010000
END:STANDARD
BEGIN:DAYLIGHT
TZOFFSETFROM:+0100
TZOFFSETTO:+0200
TZNAME:CEST
DTSTART:20230326T010000
END:DAYLIGHT
BEGIN:STANDARD
TZOFFSETFROM:+0200
TZOFFSETTO:+0100
TZNAME:CET
DTSTART:20231029T010000
END:STANDARD
BEGIN:DAYLIGHT
TZOFFSETFROM:+0100
TZOFFSETTO:+0200
TZNAME:CEST
DTSTART:20240331T010000
END:DAYLIGHT
BEGIN:STANDARD
TZOFFSETFROM:+0200
TZOFFSETTO:+0100
TZNAME:CET
DTSTART:20241027T010000
END:STANDARD
BEGIN:DAYLIGHT
TZOFFSETFROM:+0100
TZOFFSETTO:+0200
TZNAME:CEST
DTSTART:20250330T010000
END:DAYLIGHT
BEGIN:STANDARD
TZOFFSETFROM:+0200
TZOFFSETTO:+0100
TZNAME:CET
DTSTART:20251026T010000
END:STANDARD
BEGIN:DAYLIGHT
TZOFFSETFROM:+0100
TZOFFSETTO:+0200
TZNAME:CEST
DTSTART:20260329T010000
END:DAYLIGHT
BEGIN:STANDARD
TZOFFSETFROM:+0200
TZOFFSETTO:+0100
TZNAME:CET
DTSTART:20261025T010000
END:STANDARD
END:VTIMEZONE
BEGIN:VEVENT
DTSTART;TZID=Europe/Amsterdam:20250815T150000
DTEND;TZID=Europe/Amsterdam:20250817T170000
DTSTAMP:20260423T001443
CREATED:20250626T192446Z
LAST-MODIFIED:20250626T192446Z
UID:4596-1755270000-1755450000@pkn-duiven.nl
SUMMARY:Tienerkamp
DESCRIPTION:Deze keer is het de 50e keer dat de tieners op kamp gaan. Een speciale editie! \nHier lees je er alles over: tienerkamp 2025
URL:https://pkn-duiven.nl/agenda/tienerkamp/
CATEGORIES:Activiteit,Tienerdienst
END:VEVENT
BEGIN:VEVENT
DTSTART;TZID=Europe/Amsterdam:20231001T161500
DTEND;TZID=Europe/Amsterdam:20231001T161500
DTSTAMP:20260423T001443
CREATED:20230906T171540Z
LAST-MODIFIED:20230911T190427Z
UID:3219-1696176900-1696176900@pkn-duiven.nl
SUMMARY:Heart4U
DESCRIPTION:Heart4U is een leuk\, Liemers feestje voor alle leeftijden: kinderen\, tieners voorop en vooruit\, hun ouders en opa’s en oma’s mogen mee komen!!\nElke maand een familie uitje. Thema 1 oktober: ONTWAPENING = VREDE? Iedereen kan iets voor vrede doen! Locatie: school tegenover de kerk in Lathum. We beginnen om 16.15 uur. Bekijk hier een filmpje.\nDe HEART4Uviering is: niet in een kerk\, wel in een knutsel- en eetcafé mét voetbalveld\, tafeltennistafel en spelletjes! Voor ieder wat wils!’ \nKijk voor meer informatie ook op Facebook.
URL:https://pkn-duiven.nl/agenda/heart4u/
CATEGORIES:Kinderkerk,Tienerdienst
END:VEVENT
BEGIN:VEVENT
DTSTART;TZID=Europe/Amsterdam:20220320T103000
DTEND;TZID=Europe/Amsterdam:20220320T103000
DTSTAMP:20260423T001443
CREATED:20211128T202604Z
LAST-MODIFIED:20211128T202604Z
UID:1029-1647772200-1647772200@pkn-duiven.nl
SUMMARY:viering
DESCRIPTION:Voorganger: Ds. Jolande van Baardewijk\nAmbtsdrager van dienst: Louise Docter \nBijzonderheden: Derde zondag 40-dagentijd. Ook kinderkerk en tienerdienst. \nCollectes:\n1. Vast project: Leger des Heils\n2. Jeugd- en jongerenwerk
URL:https://pkn-duiven.nl/agenda/viering-20-03-2022/
LOCATION:SOW kapel\, Duiven
CATEGORIES:Kinderkerk,Tienerdienst,Vieringen
END:VEVENT
BEGIN:VEVENT
DTSTART;TZID=Europe/Amsterdam:20220220T103000
DTEND;TZID=Europe/Amsterdam:20220220T103000
DTSTAMP:20260423T001443
CREATED:20211128T201624Z
LAST-MODIFIED:20211128T201624Z
UID:1019-1645353000-1645353000@pkn-duiven.nl
SUMMARY:viering
DESCRIPTION:Voorganger: Ds. Jolande van Baardewijk\nAmbtsdrager van dienst: Willem Lindeman \nBijzonderheden: Rondom 4. Ook kinderkerk en tienerdienst. \nCollectes:\n1. Vast project: Schuldhulpmaatje\n2. Algemeen kerkenwerk
URL:https://pkn-duiven.nl/agenda/viering-20-02-2022/
LOCATION:SOW kapel\, Duiven
CATEGORIES:Kinderkerk,Tienerdienst,Vieringen
END:VEVENT
BEGIN:VEVENT
DTSTART;TZID=Europe/Amsterdam:20220116T103000
DTEND;TZID=Europe/Amsterdam:20220116T103000
DTSTAMP:20260423T001443
CREATED:20211125T200321Z
LAST-MODIFIED:20230112T202612Z
UID:983-1642329000-1642329000@pkn-duiven.nl
SUMMARY:viering
DESCRIPTION:Voorganger: ds. Jolande van Baardewijk\nAmbtsdrager van dienst: Marian Rijnbende \nBijzonderheden: er is ook tienerdienst \nCollectes:\n1. Vast project: Leger des Heils\n2. Jeugd- en jongerenwerk
URL:https://pkn-duiven.nl/agenda/viering-16-01-2022/
LOCATION:SOW kapel\, Duiven
CATEGORIES:Kinderkerk,Tienerdienst,Vieringen
END:VEVENT
END:VCALENDAR