BEGIN:VCALENDAR
VERSION:2.0
PRODID:-//PKN-Duiven - ECPv6.15.20//NONSGML v1.0//EN
CALSCALE:GREGORIAN
METHOD:PUBLISH
X-ORIGINAL-URL:https://pkn-duiven.nl
X-WR-CALDESC:Evenementen voor PKN-Duiven
REFRESH-INTERVAL;VALUE=DURATION:PT1H
X-Robots-Tag:noindex
X-PUBLISHED-TTL:PT1H
BEGIN:VTIMEZONE
TZID:Europe/Amsterdam
BEGIN:DAYLIGHT
TZOFFSETFROM:+0100
TZOFFSETTO:+0200
TZNAME:CEST
DTSTART:20210328T010000
END:DAYLIGHT
BEGIN:STANDARD
TZOFFSETFROM:+0200
TZOFFSETTO:+0100
TZNAME:CET
DTSTART:20211031T010000
END:STANDARD
BEGIN:DAYLIGHT
TZOFFSETFROM:+0100
TZOFFSETTO:+0200
TZNAME:CEST
DTSTART:20220327T010000
END:DAYLIGHT
BEGIN:STANDARD
TZOFFSETFROM:+0200
TZOFFSETTO:+0100
TZNAME:CET
DTSTART:20221030T010000
END:STANDARD
BEGIN:DAYLIGHT
TZOFFSETFROM:+0100
TZOFFSETTO:+0200
TZNAME:CEST
DTSTART:20230326T010000
END:DAYLIGHT
BEGIN:STANDARD
TZOFFSETFROM:+0200
TZOFFSETTO:+0100
TZNAME:CET
DTSTART:20231029T010000
END:STANDARD
END:VTIMEZONE
BEGIN:VEVENT
DTSTART;TZID=Europe/Amsterdam:20221020T170000
DTEND;TZID=Europe/Amsterdam:20221020T170000
DTSTAMP:20260424T133759
CREATED:20221003T120020Z
LAST-MODIFIED:20221003T122541Z
UID:2507-1666285200-1666285200@pkn-duiven.nl
SUMMARY:Ronde tafelmaaltijd
DESCRIPTION:Je herkent het vast: samen eten is genieten! Samen eten is ook samen delen: recepten\, mooie ervaringen\, culturele achtergrondinformatie\, maar ook onzekerheden\, zorgen en verdriet. Aan de hand van wisselende thema’s organiseren de Protestantse Gemeente en Parochie Sint Willibrordus in Duiven ELKE MAAND een gezellige ontmoeting met een heerlijke maaltijd van o.a. pasta en salade. En met een bijzonder toetje: kampvuur met marshmallows en muziek! \nWe starten om 17.00 uur met een HAPPY HOUR. Zo kunnen we al wat kennismaken voor we aan tafel gaan. Alle leeftijden zijn welkom\, het hele gezin mag aanschuiven. En voor de kinderen is er een speelhoek. Wil je ook meehelpen? Dat kan. Graag zelfs! \nWaar:  Samen Op Weg kapel\, Rijksweg 56b\, 6921 AJ Duiven\nWanneer: Donderdag 20 oktober om 17.00 uur\nHoeveel: Richtbedrag: € 3\,00. Je kunt ook een gerecht meebrengen. Geef dat dan door bij aanmelding! Dank je wel! \nLaat het ons even weten als je meehelpt en/of aanschuift. Neem contact op met Aurore Boersma\, 06 – 36 22 68 55\, auroreboersma@gmail.com.
URL:https://pkn-duiven.nl/agenda/ronde-tafelmaaltijd/
LOCATION:SOW kapel\, Duiven
CATEGORIES:Activiteit
END:VEVENT
BEGIN:VEVENT
DTSTART;TZID=Europe/Amsterdam:20221015T103000
DTEND;TZID=Europe/Amsterdam:20221015T130000
DTSTAMP:20260424T133759
CREATED:20220828T125509Z
LAST-MODIFIED:20221003T122658Z
UID:2339-1665829800-1665838800@pkn-duiven.nl
SUMMARY:Pelgrimswandeling 'De grens opzoeken'
DESCRIPTION:Op zaterdag 15 oktober staat er weer een Pelgrimswandeling op het programma. \nAl wandelend trekt de wereld aan je voorbij.\nVooral als je stil bent en goed kijkt ontdek je de meest verrassende dingen.\nOnderweg verwonderen we ons over de natuur en nemen we de omgeving in ons op.\nOok stoppen we enkele keren om na te denken en met elkaar in gesprek te gaan over inspirerende en spirituele teksten. \nDeze keer gaan we wandelen in de buurt van Stokkum.\nWe parkeren op parkeerplaats Hulzenberg aan de Elterweg in Stokkum\, vlak voor de grensovergang.\nDan lopen we de Loopgravenroute\, een route van ongeveer 7 km. Het thema is “De grens opzoeken”. \nWe vertrekken om 10.30 uur en zijn naar verwachting rond 13.00 uur weer terug op de parkeerplaats.\nNeem je zelf voor onderweg een lunchpakket mee? \nAanmelden bij Henk Bonnink: habonnink@live.nl \nDe grens opzoeken
URL:https://pkn-duiven.nl/agenda/pelgrimswandeling-de-grens-opzoeken/
CATEGORIES:Activiteit
ORGANIZER;CN="Inspiratie%2C Bezinning en Ontmoeting":MAILTO:info@pkn-duiven.nl
END:VEVENT
BEGIN:VEVENT
DTSTART;TZID=Europe/Amsterdam:20221010T200000
DTEND;TZID=Europe/Amsterdam:20221010T200000
DTSTAMP:20260424T133759
CREATED:20220828T125324Z
LAST-MODIFIED:20220828T125324Z
UID:2337-1665432000-1665432000@pkn-duiven.nl
SUMMARY:Over klimaat gesproken
DESCRIPTION:Gerrit Vossers heeft een weerstation en hij wil graag het een en ander vertellen en laten zien over het weer en het klimaat. Daar valt natuurlijk veel over te zeggen en hij vertelt op zijn geheel eigen wijze over zijn waarnemingen. Dus noteer deze datum en wie weet leert u hoe het weer te voorspellen is. Altijd makkelijk voor een wandeling of een fietstocht. \nDatum: maandag 10 oktober 2022\nPlaats: Ons Huis\, Dr. Honigstraat 3 te Zevenaar\nAanvang: 20.00 uur\nLeiding: Gerrit Vossers\nKosten: € 5\,-\nContactpersoon: Alies Rutgers\, 2003alies@gmail.com \nS.v.p. opgeven vóór woensdag 5 oktober \n 
URL:https://pkn-duiven.nl/agenda/over-klimaat-gesproken/
LOCATION:Ons Huis\, Zevenaar\, Dokter Honigstraat 3\, Zevenaar\, 6901AP
CATEGORIES:Activiteit
ORGANIZER;CN="Inspiratie%2C Bezinning en Ontmoeting":MAILTO:info@pkn-duiven.nl
END:VEVENT
BEGIN:VEVENT
DTSTART;TZID=Europe/Amsterdam:20220930T170000
DTEND;TZID=Europe/Amsterdam:20220930T170000
DTSTAMP:20260424T133759
CREATED:20220828T130004Z
LAST-MODIFIED:20220828T130004Z
UID:2341-1664557200-1664557200@pkn-duiven.nl
SUMMARY:Ronde tafel maaltijd
DESCRIPTION:Je herkent het vast: samen eten is genieten! Samen eten is ook samen delen: recepten\, mooie ervaringen\, culturele achtergrondinformatie\, maar ook onzekerheden\, zorgen en verdriet. Aan de hand van wisselende thema’s organiseren de Protestantse Gemeente en Parochie Sint Willibrordus in Duiven ELKE MAAND een gezellige ontmoeting met een heerlijke maaltijd van o.a. pasta en salade. En met een bijzonder toetje: kampvuur met marshmallows en muziek! \nWe starten om 17.00 uur met een HAPPY HOUR. Zo kunnen we al wat kennismaken voor we aan tafel gaan. Alle leeftijden zijn welkom\, het hele gezin mag aanschuiven. En voor de kinderen is er een speelhoek. Wil je ook meehelpen? Dat kan. Graag zelfs! \nWaar:  Samen Op Weg kapel\, Rijksweg 56b\, 6921 AJ Duiven\nWanneer: Vrijdag 30 september om 17.00 uur\nHoeveel: Richtbedrag: € 3\,00. Je kunt ook een gerecht meebrengen. Geef dat dan door bij aanmelding! Dank je wel! \nLaat het ons even weten als je meehelpt en/of aanschuift. Neem contact op met Aurore Boersma\, 06 – 36 22 68 55\, auroreboersma@gmail.com.
URL:https://pkn-duiven.nl/agenda/ronde-tafel-maaltijd-300922/
LOCATION:SOW kapel\, Duiven
CATEGORIES:Activiteit
END:VEVENT
BEGIN:VEVENT
DTSTART;TZID=Europe/Amsterdam:20220831T143000
DTEND;TZID=Europe/Amsterdam:20220831T170000
DTSTAMP:20260424T133759
CREATED:20220731T164143Z
LAST-MODIFIED:20220731T164143Z
UID:2275-1661956200-1661965200@pkn-duiven.nl
SUMMARY:Bijeenkomst OASE
DESCRIPTION:Vaste deelnemers en\, ook geïnteresseerden die eens willen komen kennis maken\, zijn van harte uitgenodigd voor de bijeenkomsten van OASE. \nHans Brezet bijt op 31 augustus het spits af met zijn ‘andere Hans kant’ en komt ons wat vertellen en laten zien over… \nHoe wordt iemand amateur (kunst-)schilder ?\nHans: “Hoe wordt je schilder ?\nZoals bij alles wat je wilt leren: door fouten te maken.\nEentje heb ik er ooit kunnen verkopen … Voor 25 gulden. Maar dat heb ik toen niet gedaan.\nEn toch heeft een andere tamelijk veel geld opgebracht ….\nSchilderen is leuker dan fotograferen\, want fotograferen\, dat doet het toestel voor jou.\nSchilderen moet je helemaal zelf doen ….”
URL:https://pkn-duiven.nl/agenda/bijeenkomst-oase310822/
LOCATION:SOW kapel\, Duiven
CATEGORIES:Activiteit,Senioren
END:VEVENT
BEGIN:VEVENT
DTSTART;TZID=Europe/Amsterdam:20220826T170000
DTEND;TZID=Europe/Amsterdam:20220826T170000
DTSTAMP:20260424T133759
CREATED:20220724T134251Z
LAST-MODIFIED:20220724T134251Z
UID:2266-1661533200-1661533200@pkn-duiven.nl
SUMMARY:Ronde Tafelmaaltijd
DESCRIPTION:Je herkent het vast: samen eten is genieten! Samen eten is ook samen delen: recepten\, mooie ervaringen\, culturele achtergrondinformatie\, maar ook onzekerheden\, zorgen en verdriet. Aan de hand van wisselende thema’s organiseren de Protestantse Gemeente en Parochie Sint Willibrordus in Duiven ELKE MAAND een gezellige ontmoeting met een heerlijke maaltijd van o.a. pasta en salade. En met een bijzonder toetje: kampvuur met marshmallows en muziek! \nWe starten om 17.00 uur met een HAPPY HOUR. Zo kunnen we al wat kennismaken voor we aan tafel gaan. Alle leeftijden zijn welkom\, het hele gezin mag aanschuiven. En voor de kinderen is er een speelhoek. Wil je ook meehelpen? Dat kan. Graag zelfs! \nWaar:  Samen Op Weg kapel\, Rijksweg 56b\, 6921 AJ Duiven\nWanneer: Donderdag 26 augustus om 17.00 uur\nHoeveel: Richtbedrag: € 3\,00. Je kunt ook een gerecht meebrengen. Geef dat dan door bij aanmelding! Dank je wel! \nLaat het ons even weten als je meehelpt en/of aanschuift. Neem contact op met Aurore Boersma\, 06 – 36 22 68 55\, auroreboersma@gmail.com. \n  \n 
URL:https://pkn-duiven.nl/agenda/ronde-tafelmaaltijd-260822/
LOCATION:SOW kapel\, Duiven
CATEGORIES:Activiteit
END:VEVENT
BEGIN:VEVENT
DTSTART;TZID=Europe/Amsterdam:20220820T103000
DTEND;TZID=Europe/Amsterdam:20220820T130000
DTSTAMP:20260424T133759
CREATED:20220711T134930Z
LAST-MODIFIED:20220711T134930Z
UID:2249-1660991400-1661000400@pkn-duiven.nl
SUMMARY:Pelgrimswandeling. Thema: Oogsttijd
DESCRIPTION:Het thema van deze wandeling is: Oogsttijd. \nWe verzamelen op de parkeerplaats bij het Nationaal Verstrooiterrein Delhuyzen.\nParkeren aan de Apeldoornseweg ter hoogte van hectometerpaal 5\,3 (de Apeldoornseweg loopt parallel aan de A50 richting Apeldoorn en ga dan richting vliegveld Terlet).\nWe vertrekken om 10.30 uur van de verzamelplaats en zijn daar naar verwachting rond de klok van 13.00 uur weer terug.\nZorg je zelf voor een lunchpakket? \nOpgave bij Henk Bonnink\, via email: habonnink@live.nl of telefonisch: 026-3114522.
URL:https://pkn-duiven.nl/agenda/pelgrimswandeling-thema-oogsttijd/
LOCATION:Nationaal verstrooiterrein Delhuyzen
CATEGORIES:Activiteit
END:VEVENT
BEGIN:VEVENT
DTSTART;TZID=Europe/Amsterdam:20220622T123000
DTEND;TZID=Europe/Amsterdam:20220622T150000
DTSTAMP:20260424T133759
CREATED:20220418T180826Z
LAST-MODIFIED:20220615T180608Z
UID:2101-1655901000-1655910000@pkn-duiven.nl
SUMMARY:Bijeenkomst OASE: afsluiting seizoen
DESCRIPTION:Vandaag hopen we het seizoen met een feestelijk tintje af te sluiten. We hebben om 12.30 uur een uitgebreide luxe lunch in de Kapel. \nInloop vanaf 12 uur. \n 
URL:https://pkn-duiven.nl/agenda/bijeenkomst-oase-afsluiting-seizoen/
LOCATION:SOW kapel\, Duiven
CATEGORIES:Activiteit
END:VEVENT
BEGIN:VEVENT
DTSTART;TZID=Europe/Amsterdam:20220620T193000
DTEND;TZID=Europe/Amsterdam:20220620T213000
DTSTAMP:20260424T133759
CREATED:20220529T192305Z
LAST-MODIFIED:20220529T192730Z
UID:2183-1655753400-1655760600@pkn-duiven.nl
SUMMARY:ABC gespreksgroep geloofsopvoeding
DESCRIPTION:Er zijn in onze gemeente jonge ouders die de doop aangevraagd hebben\, hun kind al hebben laten dopen of hopen komend jaar een kind te laten dopen. Deze jonge ouders en geïnteresseerden wil ik graag gelegenheid bieden SAMEN te ontdekken\, wat geloofs-opvoeding van je kinderen met zich meebrengt en hoe je samen met je kind hierin mee opgroeit. \nWelkom bij de introductieavond! Meld je aan bij dominee@pkn-duiven.nl. \nDeze introductieavond gebruiken we voor kennismaken en eerste afspraken. De ABC gespreksgroep met cursuselement kunnen we oppakken aan de hand van een kindergebedenboek dat net uit is: ‘Een wereld vol gebeden’. Voor een indruk kun je kijken op: https://www.kokboekencentrum.nl/wp-content/uploads/2021/10/wereld-vol-gebeden.pdf. \nMeer info? Bel of mail me van tevoren\, 0316-242026\, ds. Jolande van Baardewijk \n 
URL:https://pkn-duiven.nl/agenda/abc-gespreksgroep-geloofsopvoeding/
LOCATION:SOW kapel\, Duiven
CATEGORIES:Activiteit
END:VEVENT
BEGIN:VEVENT
DTSTART;TZID=Europe/Amsterdam:20220619T113000
DTEND;TZID=Europe/Amsterdam:20220619T113000
DTSTAMP:20260424T133759
CREATED:20220423T202134Z
LAST-MODIFIED:20220520T194954Z
UID:2139-1655638200-1655638200@pkn-duiven.nl
SUMMARY:Gemeenteberaad (3)
DESCRIPTION:In de huiskamer of in de Kapel. \nWaarover gaat het gemeenteberaad 2022? \nOp de agenda staan 4 onderwerpen: \n\nConclusies gemeenteberaad 2021\nSamenwerking Protestantse gemeenten in de Liemers\nBeleid van onze Protestantse Gemeente Duiven: huidig beleidsplan 2019-2023 heeft als focus ‘Back to basics en kerk2025’. Het nieuwe beleidsplan moet komend najaar gemaakt worden en ‘kerk2030’ uitwerken.\nJaarthema 2022-2023 is: ‘Aan tafel!’ De kookgelegenheid wordt nu voorbereid\, zodat we rond en na de zomer letterlijk aan tafel kunnen met elkaar en samen eten.\n\nDe gemeenteberaden staan gepland op zondag 12 juni\, maandagavond 13 juni\, donderdagmiddag 16 juni. Als je nu geen van deze drie gelegenheden samen te praten over deze 4 onderwerpen kunt\, ben jij welkom om je meedenken en aanbevelingen aan de kerkenraad te delen via voorzitter@pkn-duiven.nl. \nVan harte welkom! We zien uit naar een mooi samenzijn en goed gesprek! \nDs. Jolande van Baardewijk
URL:https://pkn-duiven.nl/agenda/gemeenteberaad-3/
LOCATION:SOW kapel\, Duiven
CATEGORIES:Activiteit
END:VEVENT
BEGIN:VEVENT
DTSTART;TZID=Europe/Amsterdam:20220616T133000
DTEND;TZID=Europe/Amsterdam:20220616T133000
DTSTAMP:20260424T133759
CREATED:20220423T202032Z
LAST-MODIFIED:20220520T194935Z
UID:2137-1655386200-1655386200@pkn-duiven.nl
SUMMARY:Gemeenteberaad (2)
DESCRIPTION:In de huiskamer of in de Kapel. \nWaarover gaat het gemeenteberaad 2022? \nOp de agenda staan 4 onderwerpen: \n\nConclusies gemeenteberaad 2021\nSamenwerking Protestantse gemeenten in de Liemers\nBeleid van onze Protestantse Gemeente Duiven: huidig beleidsplan 2019-2023 heeft als focus ‘Back to basics en kerk2025’. Het nieuwe beleidsplan moet komend najaar gemaakt worden en ‘kerk2030’ uitwerken.\nJaarthema 2022-2023 is: ‘Aan tafel!’ De kookgelegenheid wordt nu voorbereid\, zodat we rond en na de zomer letterlijk aan tafel kunnen met elkaar en samen eten.\n\nDe gemeenteberaden staan gepland op zondag 12 juni\, maandagavond 13 juni\, donderdagmiddag 16 juni. Als je nu geen van deze drie gelegenheden samen te praten over deze 4 onderwerpen kunt\, ben jij welkom om je meedenken en aanbevelingen aan de kerkenraad te delen via voorzitter@pkn-duiven.nl. \nVan harte welkom! We zien uit naar een mooi samenzijn en goed gesprek! \nDs. Jolande van Baardewijk
URL:https://pkn-duiven.nl/agenda/gemeenteberaad-2/
LOCATION:SOW kapel\, Duiven
CATEGORIES:Activiteit
END:VEVENT
BEGIN:VEVENT
DTSTART;TZID=Europe/Amsterdam:20220613T193000
DTEND;TZID=Europe/Amsterdam:20220613T193000
DTSTAMP:20260424T133759
CREATED:20220423T201926Z
LAST-MODIFIED:20220520T194915Z
UID:2135-1655148600-1655148600@pkn-duiven.nl
SUMMARY:Gemeenteberaad (1)
DESCRIPTION:In de huiskamer of in de Kapel. \nWaarover gaat het gemeenteberaad 2022? \nOp de agenda staan 4 onderwerpen: \n\nConclusies gemeenteberaad 2021\nSamenwerking Protestantse gemeenten in de Liemers\nBeleid van onze Protestantse Gemeente Duiven: huidig beleidsplan 2019-2023 heeft als focus ‘Back to basics en kerk2025’. Het nieuwe beleidsplan moet komend najaar gemaakt worden en ‘kerk2030’ uitwerken.\nJaarthema 2022-2023 is: ‘Aan tafel!’ De kookgelegenheid wordt nu voorbereid\, zodat we rond en na de zomer letterlijk aan tafel kunnen met elkaar en samen eten.\n\nDe gemeenteberaden staan gepland op zondag 12 juni\, maandagavond 13 juni\, donderdagmiddag 16 juni. Als je nu geen van deze drie gelegenheden samen te praten over deze 4 onderwerpen kunt\, ben jij welkom om je meedenken en aanbevelingen aan de kerkenraad te delen via voorzitter@pkn-duiven.nl. \nVan harte welkom! We zien uit naar een mooi samenzijn en goed gesprek! \nDs. Jolande van Baardewijk
URL:https://pkn-duiven.nl/agenda/gemeenteberaad-1/
LOCATION:SOW kapel\, Duiven
CATEGORIES:Activiteit
END:VEVENT
BEGIN:VEVENT
DTSTART;TZID=Europe/Amsterdam:20220518T143000
DTEND;TZID=Europe/Amsterdam:20220518T163000
DTSTAMP:20260424T133759
CREATED:20220418T180655Z
LAST-MODIFIED:20220423T200412Z
UID:2098-1652884200-1652891400@pkn-duiven.nl
SUMMARY:Bijeenkomst OASE: muzikale middag
DESCRIPTION:Zin in een gezellige\, muzikale middag? Dan bent u van harte uitgenodigd.\nWoensdagmiddag 18 mei komt het mannenkoor ’Tijdloos’ voor ons optreden.\nHet koor is een zijtak van het Liemers mannenkoor\, zeer de moeite waard dus!\nOm 14.30 uur wordt u ontvangen met een kopje koffie of thee.\nDe toegang is gratis en vrij.\nDe organisatie is in handen van het Oase team.
URL:https://pkn-duiven.nl/agenda/bijeenkomst-oase-muzikale-middag/
LOCATION:SOW kapel\, Duiven
CATEGORIES:Activiteit
END:VEVENT
BEGIN:VEVENT
DTSTART;TZID=Europe/Amsterdam:20220409T103000
DTEND;TZID=Europe/Amsterdam:20220409T130000
DTSTAMP:20260424T133759
CREATED:20220323T211021Z
LAST-MODIFIED:20220328T114713Z
UID:1990-1649500200-1649509200@pkn-duiven.nl
SUMMARY:Pelgrimswandeling 'Vergezichten' 9 april
DESCRIPTION:Op zaterdag 9 april gaan we de Pelgrimswandeling maken die op 15 januari vanwege corona niet door kon gaan. Het thema is dan “Vergezichten”. Over dit thema zullen we met elkaar in gesprek gaan onder leiding van ds. Jolande van Baardewijk. Ze wil dit toespitsen op: “Hoe moet het met onze aarde\, nu gevaren als oorlog en kern-klimaatrampen dreigen?” \nTijdens de wandeling kijken we om ons heen\, ontmoeten elkaar en gaan met elkaar in gesprek. We zien de schoonheid van de natuur en worden verrast door enkele mooie doorkijkjes en vergezichten.\nWe verzamelen om 10.30 uur op de parkeerplaats bij ’t Peeske in Beek\, Peeskeweg. Dan wandelen we de paarse route. Die kleur past overigens ook goed in de 40 dagen tijd.  De wandeling is ongeveer 7 km lang.\nNaar verwachting zijn we tussen 12.30 uur en 13.00 uur weer terug bij de parkeerplaats. \nHet is handig om voor onderweg een lunchpakket en iets te drinken mee te nemen.\nOpgeven kan via e-mail: habonnink@live.nl of telefonisch: 026-3114522. \n(23-03-2022)
URL:https://pkn-duiven.nl/agenda/pelgrimswandeling-vergezichten/
LOCATION:Parkeerplaats Peeskesbult\, Beek\, Oude Eltenseweg 12\, Beek Gem. Montferland\, 7037 CG\, Nederland
CATEGORIES:Activiteit
END:VEVENT
BEGIN:VEVENT
DTSTART;TZID=Europe/Amsterdam:20220322T140000
DTEND;TZID=Europe/Amsterdam:20220322T140000
DTSTAMP:20260424T133759
CREATED:20220228T182950Z
LAST-MODIFIED:20220228T183111Z
UID:1920-1647957600-1647957600@pkn-duiven.nl
SUMMARY:OASE - met bezoek van politie over veiligheid in en rond het huis
DESCRIPTION:Op 22-02-2022 kwam de Ontmoetingssoos Oase\, na de lange coronatijd\, weer bijeen. Het was een gezellige bijeenkomst. Met een high tea\, een kwis en vooral ook het elkaar weer zien! \nOp 22 maart is de volgende bijeenkomst. Dan komt de politie op bezoek om ons te informeren over veiligheid in en rond het huis. \nAlle belangstellenden zijn welkom. \nMeer informatie over OASE leest u hier.
URL:https://pkn-duiven.nl/agenda/oase-22-03-2022/
LOCATION:SOW kapel\, Duiven
CATEGORIES:Activiteit
END:VEVENT
BEGIN:VEVENT
DTSTART;TZID=Europe/Amsterdam:20220313T153000
DTEND;TZID=Europe/Amsterdam:20220313T170000
DTSTAMP:20260424T133759
CREATED:20220310T203452Z
LAST-MODIFIED:20220310T204056Z
UID:1963-1647185400-1647190800@pkn-duiven.nl
SUMMARY:Liemerskids: Kijk! Wat groeit daar?
DESCRIPTION:Verhaal – muziek – pannenkoeken! \nDeze activiteit op zondag 13 maart is vooral bestemd voor (Liemers)kids van 6 tot 12 jaar\, maar iedereen is natuurlijk van harte welkom! \nKom van 15.30 tot 17.00 uur naar ‘Ons Huis’\, naast de Ontmoetingskerk in Zevenaar. Parkeren kan op het Masiusplein. \nInlichtingen: dsallejonkman@outlook.com\, 06-54355968\, organisatie: Protestants Liemers \n 
URL:https://pkn-duiven.nl/agenda/liemerskids-kijk-wat-groeit-daar/
LOCATION:Ons Huis\, Zevenaar\, Dokter Honigstraat 3\, Zevenaar\, 6901AP
CATEGORIES:Activiteit,Kinderkerk
END:VEVENT
END:VCALENDAR