BEGIN:VCALENDAR
VERSION:2.0
PRODID:-//PKN-Duiven - ECPv6.15.20//NONSGML v1.0//EN
CALSCALE:GREGORIAN
METHOD:PUBLISH
X-ORIGINAL-URL:https://pkn-duiven.nl
X-WR-CALDESC:Evenementen voor PKN-Duiven
REFRESH-INTERVAL;VALUE=DURATION:PT1H
X-Robots-Tag:noindex
X-PUBLISHED-TTL:PT1H
BEGIN:VTIMEZONE
TZID:Europe/Amsterdam
BEGIN:DAYLIGHT
TZOFFSETFROM:+0100
TZOFFSETTO:+0200
TZNAME:CEST
DTSTART:20240331T010000
END:DAYLIGHT
BEGIN:STANDARD
TZOFFSETFROM:+0200
TZOFFSETTO:+0100
TZNAME:CET
DTSTART:20241027T010000
END:STANDARD
BEGIN:DAYLIGHT
TZOFFSETFROM:+0100
TZOFFSETTO:+0200
TZNAME:CEST
DTSTART:20250330T010000
END:DAYLIGHT
BEGIN:STANDARD
TZOFFSETFROM:+0200
TZOFFSETTO:+0100
TZNAME:CET
DTSTART:20251026T010000
END:STANDARD
BEGIN:DAYLIGHT
TZOFFSETFROM:+0100
TZOFFSETTO:+0200
TZNAME:CEST
DTSTART:20260329T010000
END:DAYLIGHT
BEGIN:STANDARD
TZOFFSETFROM:+0200
TZOFFSETTO:+0100
TZNAME:CET
DTSTART:20261025T010000
END:STANDARD
END:VTIMEZONE
BEGIN:VEVENT
DTSTART;TZID=Europe/Amsterdam:20251102T100000
DTEND;TZID=Europe/Amsterdam:20251102T110000
DTSTAMP:20260423T100312
CREATED:20251014T185213Z
LAST-MODIFIED:20251022T153819Z
UID:4791-1762077600-1762081200@pkn-duiven.nl
SUMMARY:Viering
DESCRIPTION:Voorganger: Willem Lindeman\nAmbtsdrager van dienst: Edward Pfeiffer\nBijzonderheden: Dankdag voor Gewas en Arbeid\nEerste collecte: Plaatselijke diaconie\nTweede collecte: Algemeen kerkenwerk \nWoensdag 5 november is de jaarlijkse Dankdag voor Gewas en Arbeid. Een dag om God te danken voor wat Hij geeft. En om – uit dankbaarheid – dit met elkaar te delen! \nZondag 2 november willen we dit binnen de PKN Duiven vieren. De Diaconie wil graag met uw hulp weer een voedsel-oogst-tafel maken in de kerk om samen deze dankdag “zichtbaar” te maken. \nWilt u bijdragen? Op zaterdagmiddag 1 november van 16.00-17.00 uur is de kerk open voor uw bijdrage.\nDat kan ook nog voor de dienst van 2 november\, zodat we tijdens de dienst weer een mooie tafel voorin de kapel hebben staan. \nUw gaven zullen worden geschonken aan de Voedselbank in de Liemers\, daarom vragen we met name wat langer houdbare producten mee te brengen. Maar als u uw eigen oogst of zelfgemaakte jam met anderen wilt delen\, kan dat natuurlijk ook. Hiermee kunnen we mensen met weinig leefgeld in onze eigen regio een extra ‘steuntje in de rug geven’.
URL:https://pkn-duiven.nl/agenda/viering-92/
LOCATION:SOW kapel\, Duiven
CATEGORIES:Vieringen
END:VEVENT
END:VCALENDAR