BEGIN:VCALENDAR
VERSION:2.0
PRODID:-//PKN-Duiven - ECPv6.15.20//NONSGML v1.0//EN
CALSCALE:GREGORIAN
METHOD:PUBLISH
X-ORIGINAL-URL:https://pkn-duiven.nl
X-WR-CALDESC:Evenementen voor PKN-Duiven
REFRESH-INTERVAL;VALUE=DURATION:PT1H
X-Robots-Tag:noindex
X-PUBLISHED-TTL:PT1H
BEGIN:VTIMEZONE
TZID:Europe/Amsterdam
BEGIN:DAYLIGHT
TZOFFSETFROM:+0100
TZOFFSETTO:+0200
TZNAME:CEST
DTSTART:20240331T010000
END:DAYLIGHT
BEGIN:STANDARD
TZOFFSETFROM:+0200
TZOFFSETTO:+0100
TZNAME:CET
DTSTART:20241027T010000
END:STANDARD
BEGIN:DAYLIGHT
TZOFFSETFROM:+0100
TZOFFSETTO:+0200
TZNAME:CEST
DTSTART:20250330T010000
END:DAYLIGHT
BEGIN:STANDARD
TZOFFSETFROM:+0200
TZOFFSETTO:+0100
TZNAME:CET
DTSTART:20251026T010000
END:STANDARD
BEGIN:DAYLIGHT
TZOFFSETFROM:+0100
TZOFFSETTO:+0200
TZNAME:CEST
DTSTART:20260329T010000
END:DAYLIGHT
BEGIN:STANDARD
TZOFFSETFROM:+0200
TZOFFSETTO:+0100
TZNAME:CET
DTSTART:20261025T010000
END:STANDARD
END:VTIMEZONE
BEGIN:VEVENT
DTSTART;TZID=Europe/Amsterdam:20251029T143000
DTEND;TZID=Europe/Amsterdam:20251029T163000
DTSTAMP:20260423T004708
CREATED:20250911T210739Z
LAST-MODIFIED:20250911T213352Z
UID:4673-1761748200-1761755400@pkn-duiven.nl
SUMMARY:Oase bijeenkomst
DESCRIPTION:Deze middag een presentatie met als titel ‘Brandveilig leven’ door brandweer dhr. René Bierman. \nOase is in mei 1990 ontstaan als een activiteit van de Protestantse Gemeente te Duiven. Een soos waar mensen elkaar op een gezellige wijze kunnen ontmoeten en leren kennen. Bezinning\, ontspanning en betrokkenheid op elkaar in lief en leed zijn vaste onderdelen van het programma.  \nVoor informatie over Oase\, bel gerust met Baukje Boschker\, tel. 06-14159761.
URL:https://pkn-duiven.nl/agenda/oase-bijeenkomst-4/
END:VEVENT
END:VCALENDAR