BEGIN:VCALENDAR
VERSION:2.0
PRODID:-//PKN-Duiven - ECPv6.15.20//NONSGML v1.0//EN
CALSCALE:GREGORIAN
METHOD:PUBLISH
X-ORIGINAL-URL:https://pkn-duiven.nl
X-WR-CALDESC:Evenementen voor PKN-Duiven
REFRESH-INTERVAL;VALUE=DURATION:PT1H
X-Robots-Tag:noindex
X-PUBLISHED-TTL:PT1H
BEGIN:VTIMEZONE
TZID:Europe/Amsterdam
BEGIN:DAYLIGHT
TZOFFSETFROM:+0100
TZOFFSETTO:+0200
TZNAME:CEST
DTSTART:20240331T010000
END:DAYLIGHT
BEGIN:STANDARD
TZOFFSETFROM:+0200
TZOFFSETTO:+0100
TZNAME:CET
DTSTART:20241027T010000
END:STANDARD
BEGIN:DAYLIGHT
TZOFFSETFROM:+0100
TZOFFSETTO:+0200
TZNAME:CEST
DTSTART:20250330T010000
END:DAYLIGHT
BEGIN:STANDARD
TZOFFSETFROM:+0200
TZOFFSETTO:+0100
TZNAME:CET
DTSTART:20251026T010000
END:STANDARD
BEGIN:DAYLIGHT
TZOFFSETFROM:+0100
TZOFFSETTO:+0200
TZNAME:CEST
DTSTART:20260329T010000
END:DAYLIGHT
BEGIN:STANDARD
TZOFFSETFROM:+0200
TZOFFSETTO:+0100
TZNAME:CET
DTSTART:20261025T010000
END:STANDARD
END:VTIMEZONE
BEGIN:VEVENT
DTSTART;TZID=Europe/Amsterdam:20251025T190000
DTEND;TZID=Europe/Amsterdam:20251025T200000
DTSTAMP:20260422T185114
CREATED:20250917T190650Z
LAST-MODIFIED:20250917T193910Z
UID:4768-1761418800-1761422400@pkn-duiven.nl
SUMMARY:Taizé-viering
DESCRIPTION:Durf te vertrouwen: Taizé-viering\nIedereen is van harte uitgenodigd voor deze Taizé-viering in Zevenaar op 25 oktober 2025 van 19.00 tot 20.00 uur. Thema is: Durf te vertrouwen. In deze meditatieviering staan gebed\, een lezing\, liederen uit Taizé\, zelf geformuleerde voorbeden en stilte centraal.  \nMeezingen met het gelegenheidskoor\nDe liederen tijdens de viering worden gezongen door een gelegenheidskoor. Daaraan kan iedereen meedoen\, zanger/es of instrumentalist/e. Dit koor oefent o.l.v. organist\, dirigent Regina Witte\, op de maandagavonden 6\, 13 en 20 oktober vanaf 19.15 tot ca 21.00 uur in het parochiecentrum van de St. Remigiuskerk in Duiven\, gelegen aan de Kastanjelaan 2 te Duiven. Koor plus muzikanten repeteren nogmaals kort voor de diensten om 17.00 uur en eten vervolgens gezamenlijk een broodje. \nVoor het gelegenheidskoor kunt u zich spontaan aanmelden op de repetitieavonden of via taizeliemers@gmail.com. \nWat is Taizé?\nTaizé ligt in Bourgondië\, Frankrijk. Daar leeft en woont de oecumenische broedergemeenschap\, gesticht door frère (broeder) Roger. Zij ontvangt ieder jaar\, week na week\, duizenden jongeren op zoek naar zingeving/geloofsverdieping. De jongeren doen mee in het dagritme van de geloofsgemeenschap aldaar en zingen voluit de Taizéliederen in de gebedsdiensten mee. \nMeditatief vieren\nDe Taizévieringen worden gehouden naar voorbeeld van Taizé. De vieringen zijn meditatief en bestaan uit veel zang. De gezongen liederen kun je wel vergelijken met het mantra-zingen. Ze bestaan uit één of een paar gebedsregels die meerdere malen worden herhaald. Hierdoor wordt de tekst intens beleefd en kom je tot diep gebed. \nVoel u welkom in onze Taizévieringen! \nVolg ons via onze Facebook-pagina op @Taizedeliemers of bezoek onze website.  Meer info over Taizé is te vinden op www.taize.fr/en \nWerkgroep Taizévieringen Duiven Westervoort Zevenaar\, \nDs. Margreet de Bree\, Regina Witte en Afina Mekkink
URL:https://pkn-duiven.nl/agenda/taize-viering-2/
LOCATION:St. Andreaskerk\, Kerkstraat 2\, Zevenaar\, Netherlands
END:VEVENT
END:VCALENDAR