BEGIN:VCALENDAR
VERSION:2.0
PRODID:-//PKN-Duiven - ECPv6.15.20//NONSGML v1.0//EN
CALSCALE:GREGORIAN
METHOD:PUBLISH
X-WR-CALNAME:PKN-Duiven
X-ORIGINAL-URL:https://pkn-duiven.nl
X-WR-CALDESC:Evenementen voor PKN-Duiven
REFRESH-INTERVAL;VALUE=DURATION:PT1H
X-Robots-Tag:noindex
X-PUBLISHED-TTL:PT1H
BEGIN:VTIMEZONE
TZID:Europe/Amsterdam
BEGIN:DAYLIGHT
TZOFFSETFROM:+0100
TZOFFSETTO:+0200
TZNAME:CEST
DTSTART:20240331T010000
END:DAYLIGHT
BEGIN:STANDARD
TZOFFSETFROM:+0200
TZOFFSETTO:+0100
TZNAME:CET
DTSTART:20241027T010000
END:STANDARD
BEGIN:DAYLIGHT
TZOFFSETFROM:+0100
TZOFFSETTO:+0200
TZNAME:CEST
DTSTART:20250330T010000
END:DAYLIGHT
BEGIN:STANDARD
TZOFFSETFROM:+0200
TZOFFSETTO:+0100
TZNAME:CET
DTSTART:20251026T010000
END:STANDARD
BEGIN:DAYLIGHT
TZOFFSETFROM:+0100
TZOFFSETTO:+0200
TZNAME:CEST
DTSTART:20260329T010000
END:DAYLIGHT
BEGIN:STANDARD
TZOFFSETFROM:+0200
TZOFFSETTO:+0100
TZNAME:CET
DTSTART:20261025T010000
END:STANDARD
END:VTIMEZONE
BEGIN:VEVENT
DTSTART;TZID=Europe/Amsterdam:20251018T103000
DTEND;TZID=Europe/Amsterdam:20251018T160000
DTSTAMP:20260423T021536
CREATED:20250911T221546Z
LAST-MODIFIED:20250911T223837Z
UID:4702-1760783400-1760803200@pkn-duiven.nl
SUMMARY:Museumpark Orientalis
DESCRIPTION:Excursie naar Museumpark Orientalis in Heilig Landstichting \nVerruim je wereld en ontdek de pelgrim in jezelf! Kom met ons mee naar Museumpark Orientalis\, waar de kleurrijke wereld van het jodendom\, christendom en de islam tot leven komt. \nMuseumpark Orientalis is een 30 hectare groot rijksmonument en laat een unieke combinatie zien van religie\, cultuur en natuur. Beleef op een leerzame en leuke manier de overeenkomsten en de verschillen van de culturen en tradities van de drie religies in ons Joodse en Arabische dorp en in de Romeinse\nstraat. Het park ademt rust en cultuur in de natuur. \nDatum en tijd: Zaterdag 18 oktober. Vertrek: 10.30 uur\, terug rond 16.00 uur. \nVerzamel- en aankomstplaats: Parkeerplaats station Duiven \nKosten: 7\,50 euro\, of gratis met museumjaarkaart en vriendenloterij \nInformatie en opgave: Margreet de Bree\, email: predikant@pgwestervoort.nl \n  \nEen activiteit van Inspiratie\, Bezinning en Ontmoeting van de protestantse gemeenten in de Liemers
URL:https://pkn-duiven.nl/agenda/museumpark-orientalis/
LOCATION:Station Duiven\, Visserlaan 21\, Duiven\, Netherlands
END:VEVENT
END:VCALENDAR