BEGIN:VCALENDAR
VERSION:2.0
PRODID:-//PKN-Duiven - ECPv6.15.20//NONSGML v1.0//EN
CALSCALE:GREGORIAN
METHOD:PUBLISH
X-ORIGINAL-URL:https://pkn-duiven.nl
X-WR-CALDESC:Evenementen voor PKN-Duiven
REFRESH-INTERVAL;VALUE=DURATION:PT1H
X-Robots-Tag:noindex
X-PUBLISHED-TTL:PT1H
BEGIN:VTIMEZONE
TZID:Europe/Amsterdam
BEGIN:DAYLIGHT
TZOFFSETFROM:+0100
TZOFFSETTO:+0200
TZNAME:CEST
DTSTART:20240331T010000
END:DAYLIGHT
BEGIN:STANDARD
TZOFFSETFROM:+0200
TZOFFSETTO:+0100
TZNAME:CET
DTSTART:20241027T010000
END:STANDARD
BEGIN:DAYLIGHT
TZOFFSETFROM:+0100
TZOFFSETTO:+0200
TZNAME:CEST
DTSTART:20250330T010000
END:DAYLIGHT
BEGIN:STANDARD
TZOFFSETFROM:+0200
TZOFFSETTO:+0100
TZNAME:CET
DTSTART:20251026T010000
END:STANDARD
BEGIN:DAYLIGHT
TZOFFSETFROM:+0100
TZOFFSETTO:+0200
TZNAME:CEST
DTSTART:20260329T010000
END:DAYLIGHT
BEGIN:STANDARD
TZOFFSETFROM:+0200
TZOFFSETTO:+0100
TZNAME:CET
DTSTART:20261025T010000
END:STANDARD
END:VTIMEZONE
BEGIN:VEVENT
DTSTART;TZID=Europe/Amsterdam:20250929T190000
DTEND;TZID=Europe/Amsterdam:20250929T190000
DTSTAMP:20260422T125957
CREATED:20250911T201023Z
LAST-MODIFIED:20250911T223953Z
UID:4659-1759172400-1759172400@pkn-duiven.nl
SUMMARY:Bijbelgespreksavond
DESCRIPTION:Bijbelgespreksavond over Genesis\nWe zoeken naar de motivatie voor de naam ‘Genesis’\, het allereerste Bijbelboek. Ook gaan we op zoek naar het zogenaamde ‘leitmotiv’ dat we hierin aantreffen; dit boek als eerste en toonzetting voor de Bijbel. ‘Genesis’ is een Grieks woord\, terwijl het Oude Testament in het Hebreeuws geschreven is. Vanwaar dus deze naam? \nInformatie en opgave:\nds. Jolande van Baardewijk\, email: dominee@pkn-duiven.nl \nEen avond van Inspiratie\, Bezinning en Ontmoeting van de protestantse gemeenten in de Liemers
URL:https://pkn-duiven.nl/agenda/bijbelgespreksavond/
LOCATION:Ons Huis\, Zevenaar\, Dokter Honigstraat 3\, Zevenaar\, 6901AP
END:VEVENT
END:VCALENDAR