BEGIN:VCALENDAR
VERSION:2.0
PRODID:-//PKN-Duiven - ECPv6.15.20//NONSGML v1.0//EN
CALSCALE:GREGORIAN
METHOD:PUBLISH
X-ORIGINAL-URL:https://pkn-duiven.nl
X-WR-CALDESC:Evenementen voor PKN-Duiven
REFRESH-INTERVAL;VALUE=DURATION:PT1H
X-Robots-Tag:noindex
X-PUBLISHED-TTL:PT1H
BEGIN:VTIMEZONE
TZID:Europe/Amsterdam
BEGIN:DAYLIGHT
TZOFFSETFROM:+0100
TZOFFSETTO:+0200
TZNAME:CEST
DTSTART:20240331T010000
END:DAYLIGHT
BEGIN:STANDARD
TZOFFSETFROM:+0200
TZOFFSETTO:+0100
TZNAME:CET
DTSTART:20241027T010000
END:STANDARD
BEGIN:DAYLIGHT
TZOFFSETFROM:+0100
TZOFFSETTO:+0200
TZNAME:CEST
DTSTART:20250330T010000
END:DAYLIGHT
BEGIN:STANDARD
TZOFFSETFROM:+0200
TZOFFSETTO:+0100
TZNAME:CET
DTSTART:20251026T010000
END:STANDARD
BEGIN:DAYLIGHT
TZOFFSETFROM:+0100
TZOFFSETTO:+0200
TZNAME:CEST
DTSTART:20260329T010000
END:DAYLIGHT
BEGIN:STANDARD
TZOFFSETFROM:+0200
TZOFFSETTO:+0100
TZNAME:CET
DTSTART:20261025T010000
END:STANDARD
END:VTIMEZONE
BEGIN:VEVENT
DTSTART;TZID=Europe/Amsterdam:20250924T143000
DTEND;TZID=Europe/Amsterdam:20250924T163000
DTSTAMP:20260423T051414
CREATED:20250911T205300Z
LAST-MODIFIED:20250911T205548Z
UID:4667-1758724200-1758731400@pkn-duiven.nl
SUMMARY:Oase bijeenkomst
DESCRIPTION:Rob van Maanen\, voormalig filmer bij defensie\, vertoont tijdens deze bijeenkomst van Oase de film die hij maakte over de Rijksweg tussen 1900 en nu. \nVoor meer informatie over Oase\, bel gerust met Baukje Boschker\, tel. 06-14159761.
URL:https://pkn-duiven.nl/agenda/oase-bijeenkomst-2/
LOCATION:SOW kapel\, Duiven
END:VEVENT
BEGIN:VEVENT
DTSTART;TZID=Europe/Amsterdam:20250924T180000
DTEND;TZID=Europe/Amsterdam:20250924T180000
DTSTAMP:20260423T051414
CREATED:20250911T203633Z
LAST-MODIFIED:20250911T203821Z
UID:4663-1758736800-1758736800@pkn-duiven.nl
SUMMARY:Eet-je-mee-café
DESCRIPTION:Iedereen is welkom! Eet je mee? \nWaar? Huiskamer van de Samen-op-Wegkapel\, Rijksweg 56b\, 6921 AJ Duiven\nWanneer? Woensdag 24 september 2025 \nRichtbedrag: 3 euro.\nBreng je een salade mee? Geef dat dan door bij de aanmelding. Dank je wel! \nLaat het ons even weten als je meehelpt en/of aanschuift.\nNeem contact op met Meindert Thedinga via meindert.thedinga@upcmail.com.
URL:https://pkn-duiven.nl/agenda/eet-je-mee-cafe-9/
LOCATION:Huiskamer SOW kapel\, Rijksweg 56b\, Duiven\, Nederland
END:VEVENT
END:VCALENDAR