BEGIN:VCALENDAR
VERSION:2.0
PRODID:-//PKN-Duiven - ECPv6.15.20//NONSGML v1.0//EN
CALSCALE:GREGORIAN
METHOD:PUBLISH
X-ORIGINAL-URL:https://pkn-duiven.nl
X-WR-CALDESC:Evenementen voor PKN-Duiven
REFRESH-INTERVAL;VALUE=DURATION:PT1H
X-Robots-Tag:noindex
X-PUBLISHED-TTL:PT1H
BEGIN:VTIMEZONE
TZID:Europe/Amsterdam
BEGIN:DAYLIGHT
TZOFFSETFROM:+0100
TZOFFSETTO:+0200
TZNAME:CEST
DTSTART:20240331T010000
END:DAYLIGHT
BEGIN:STANDARD
TZOFFSETFROM:+0200
TZOFFSETTO:+0100
TZNAME:CET
DTSTART:20241027T010000
END:STANDARD
BEGIN:DAYLIGHT
TZOFFSETFROM:+0100
TZOFFSETTO:+0200
TZNAME:CEST
DTSTART:20250330T010000
END:DAYLIGHT
BEGIN:STANDARD
TZOFFSETFROM:+0200
TZOFFSETTO:+0100
TZNAME:CET
DTSTART:20251026T010000
END:STANDARD
BEGIN:DAYLIGHT
TZOFFSETFROM:+0100
TZOFFSETTO:+0200
TZNAME:CEST
DTSTART:20260329T010000
END:DAYLIGHT
BEGIN:STANDARD
TZOFFSETFROM:+0200
TZOFFSETTO:+0100
TZNAME:CET
DTSTART:20261025T010000
END:STANDARD
END:VTIMEZONE
BEGIN:VEVENT
DTSTART;TZID=Europe/Amsterdam:20250919T173000
DTEND;TZID=Europe/Amsterdam:20250919T190000
DTSTAMP:20260423T072348
CREATED:20250911T202754Z
LAST-MODIFIED:20250911T202917Z
UID:4661-1758303000-1758308400@pkn-duiven.nl
SUMMARY:Rondetafelmaaltijd
DESCRIPTION:Je herkent het vast: samen eten is genieten! Samen eten is ook samen delen: recepten\, mooie ervaringen\, culturele achtergronden\, maar ook onzekerheden\, zorgen en verdriet. De Protestantse Gemeente en Parochie Sint Willibrordus in Duiven organiseren elke maand een gezellige ontmoeting met een heerlijke maaltijd. \nWe starten om 17.00 uur met een happy hour. Zo kunnen we al kennismaken voor we aan tafel gaan. Alle leeftijden zijn welkom\, het hele gezin mag aanschuiven. En voor kinderen is er een speelhoek. Wil je ook meehelpen? Dat kan\, graag zelfs! \nWaar? Samen-op-Wegkapel\, Rijksweg 56b\, 6921 AJ Duiven\nWanneer? Woensdag 26 maart 2025 \nRichtbedrag: 3 euro.\nBreng je een salade mee? Geef dat dan door bij de aanmelding. Dank je wel! \nLaat het ons even weten als je meehelpt en/of aanschuift. Neem contact op met Aurore Boersma\, telefonisch via 06 – 36 22 68 55 of mail naar auroreboersma@gmail.com.
URL:https://pkn-duiven.nl/agenda/rondetafelmaaltijd-3/
LOCATION:Huiskamer SOW kapel\, Rijksweg 56b\, Duiven\, Nederland
END:VEVENT
END:VCALENDAR