BEGIN:VCALENDAR
VERSION:2.0
PRODID:-//PKN-Duiven - ECPv6.15.20//NONSGML v1.0//EN
CALSCALE:GREGORIAN
METHOD:PUBLISH
X-ORIGINAL-URL:https://pkn-duiven.nl
X-WR-CALDESC:Evenementen voor PKN-Duiven
REFRESH-INTERVAL;VALUE=DURATION:PT1H
X-Robots-Tag:noindex
X-PUBLISHED-TTL:PT1H
BEGIN:VTIMEZONE
TZID:Europe/Amsterdam
BEGIN:DAYLIGHT
TZOFFSETFROM:+0100
TZOFFSETTO:+0200
TZNAME:CEST
DTSTART:20240331T010000
END:DAYLIGHT
BEGIN:STANDARD
TZOFFSETFROM:+0200
TZOFFSETTO:+0100
TZNAME:CET
DTSTART:20241027T010000
END:STANDARD
BEGIN:DAYLIGHT
TZOFFSETFROM:+0100
TZOFFSETTO:+0200
TZNAME:CEST
DTSTART:20250330T010000
END:DAYLIGHT
BEGIN:STANDARD
TZOFFSETFROM:+0200
TZOFFSETTO:+0100
TZNAME:CET
DTSTART:20251026T010000
END:STANDARD
BEGIN:DAYLIGHT
TZOFFSETFROM:+0100
TZOFFSETTO:+0200
TZNAME:CEST
DTSTART:20260329T010000
END:DAYLIGHT
BEGIN:STANDARD
TZOFFSETFROM:+0200
TZOFFSETTO:+0100
TZNAME:CET
DTSTART:20261025T010000
END:STANDARD
END:VTIMEZONE
BEGIN:VEVENT
DTSTART;VALUE=DATE:20250614
DTEND;VALUE=DATE:20250615
DTSTAMP:20260423T063058
CREATED:20250524T080644Z
LAST-MODIFIED:20250524T151128Z
UID:4520-1749859200-1749945599@pkn-duiven.nl
SUMMARY:Pelgrimswandeling
DESCRIPTION:Op zaterdag 14 juni is er weer een pelgrimswandeling. Deze keer starten we op de parkeerplaats in het centrum van Elden. De wandeling boordevol met verrassingen gaat door een landgoed\, langs waterpartijen \, nevengeulen en zachthoutooibossen in de voormalige uiterwaarden van de Rijn. De wandelroute maakt deel uit van het klompenpad en is goed aangegeven. De wandeling duurt 2 uur en 15 minuten\, incl. rustpunten. Voor de liefhebbers is er op een kwartier lopen van het eind een pannenkoekenrestaurant. Goede wandelschoenen zijn aanbevolen. \nNeem voor meer informatie en aanmelden contact op met Peter Mekkink via info@pkn-duiven.nl \n  \n  \n  \n  \n  \n  \n 
URL:https://pkn-duiven.nl/agenda/pelgrimswandeling-5/
CATEGORIES:Activiteit
END:VEVENT
END:VCALENDAR