BEGIN:VCALENDAR
VERSION:2.0
PRODID:-//PKN-Duiven - ECPv6.15.20//NONSGML v1.0//EN
CALSCALE:GREGORIAN
METHOD:PUBLISH
X-ORIGINAL-URL:https://pkn-duiven.nl
X-WR-CALDESC:Evenementen voor PKN-Duiven
REFRESH-INTERVAL;VALUE=DURATION:PT1H
X-Robots-Tag:noindex
X-PUBLISHED-TTL:PT1H
BEGIN:VTIMEZONE
TZID:Europe/Amsterdam
BEGIN:DAYLIGHT
TZOFFSETFROM:+0100
TZOFFSETTO:+0200
TZNAME:CEST
DTSTART:20240331T010000
END:DAYLIGHT
BEGIN:STANDARD
TZOFFSETFROM:+0200
TZOFFSETTO:+0100
TZNAME:CET
DTSTART:20241027T010000
END:STANDARD
BEGIN:DAYLIGHT
TZOFFSETFROM:+0100
TZOFFSETTO:+0200
TZNAME:CEST
DTSTART:20250330T010000
END:DAYLIGHT
BEGIN:STANDARD
TZOFFSETFROM:+0200
TZOFFSETTO:+0100
TZNAME:CET
DTSTART:20251026T010000
END:STANDARD
BEGIN:DAYLIGHT
TZOFFSETFROM:+0100
TZOFFSETTO:+0200
TZNAME:CEST
DTSTART:20260329T010000
END:DAYLIGHT
BEGIN:STANDARD
TZOFFSETFROM:+0200
TZOFFSETTO:+0100
TZNAME:CET
DTSTART:20261025T010000
END:STANDARD
END:VTIMEZONE
BEGIN:VEVENT
DTSTART;TZID=Europe/Amsterdam:20250504T100000
DTEND;TZID=Europe/Amsterdam:20250504T100000
DTSTAMP:20260422T040223
CREATED:20250418T103711Z
LAST-MODIFIED:20250418T103711Z
UID:4428-1746352800-1746352800@pkn-duiven.nl
SUMMARY:Geen ochtenddienst
DESCRIPTION:
URL:https://pkn-duiven.nl/agenda/geen-ochtenddienst/
END:VEVENT
BEGIN:VEVENT
DTSTART;TZID=Europe/Amsterdam:20250504T184500
DTEND;TZID=Europe/Amsterdam:20250504T191500
DTSTAMP:20260422T040223
CREATED:20250418T104048Z
LAST-MODIFIED:20250418T104048Z
UID:4430-1746384300-1746386100@pkn-duiven.nl
SUMMARY:Dodenherdenking
DESCRIPTION:Voorganger: Ds. Jolande\nAmbtsdrager van dienst: Edward Pfeiffer \nBijzonderheden: we staan stil bij 80 jaar einde Tweede Wereldoorlog. De dienst wordt voorbereid door de gezamenlijke kerken van Duiven en duurt ongeveer 30 minuten. \nNa de dienst kunt u zich aansluiten bij de Stille Tocht die begint op het Remigiusplein\, 5 minuten lopen vanaf de Kapel. Om 20.00 uur zal er bij het herdenkingsmonument aan de Van Dorth tot Medlerstraat 2 minuten stilte worden gehouden\, waarna er kransen worden gelegd bij het monument voor de gevallenen uit de Tweede Wereldoorlog en alle conflicten daarna. \n 
URL:https://pkn-duiven.nl/agenda/dodenherdenking-2/
LOCATION:SOW kapel\, Duiven
CATEGORIES:Vieringen
END:VEVENT
END:VCALENDAR