BEGIN:VCALENDAR
VERSION:2.0
PRODID:-//PKN-Duiven - ECPv6.15.20//NONSGML v1.0//EN
CALSCALE:GREGORIAN
METHOD:PUBLISH
X-ORIGINAL-URL:https://pkn-duiven.nl
X-WR-CALDESC:Evenementen voor PKN-Duiven
REFRESH-INTERVAL;VALUE=DURATION:PT1H
X-Robots-Tag:noindex
X-PUBLISHED-TTL:PT1H
BEGIN:VTIMEZONE
TZID:Europe/Amsterdam
BEGIN:DAYLIGHT
TZOFFSETFROM:+0100
TZOFFSETTO:+0200
TZNAME:CEST
DTSTART:20240331T010000
END:DAYLIGHT
BEGIN:STANDARD
TZOFFSETFROM:+0200
TZOFFSETTO:+0100
TZNAME:CET
DTSTART:20241027T010000
END:STANDARD
BEGIN:DAYLIGHT
TZOFFSETFROM:+0100
TZOFFSETTO:+0200
TZNAME:CEST
DTSTART:20250330T010000
END:DAYLIGHT
BEGIN:STANDARD
TZOFFSETFROM:+0200
TZOFFSETTO:+0100
TZNAME:CET
DTSTART:20251026T010000
END:STANDARD
BEGIN:DAYLIGHT
TZOFFSETFROM:+0100
TZOFFSETTO:+0200
TZNAME:CEST
DTSTART:20260329T010000
END:DAYLIGHT
BEGIN:STANDARD
TZOFFSETFROM:+0200
TZOFFSETTO:+0100
TZNAME:CET
DTSTART:20261025T010000
END:STANDARD
END:VTIMEZONE
BEGIN:VEVENT
DTSTART;TZID=Europe/Amsterdam:20250430T143000
DTEND;TZID=Europe/Amsterdam:20250430T160000
DTSTAMP:20260423T012005
CREATED:20250419T105033Z
LAST-MODIFIED:20250419T105033Z
UID:4458-1746023400-1746028800@pkn-duiven.nl
SUMMARY:Oase bijeenkomst
DESCRIPTION:Woensdagmiddag 30 april om 14.30u is er een Oasebijeenkomst met Moldavië als onderwerp. \nMoldavië is een land waarvoor ZWO (zending\, ontwikkelingssamenwerking en werelddiaconaat) onze aandacht vraagt. Arjen Overweg van KerkInActie die pas nog in Moldavië is geweest\, zal op deze middag aanwezig zijn en samen met Paul Vlaardingerbroek ons infomeren over dit land en de acties van ZWO voor dit land. \nVoor meer informatie over deze bijeenkomsten bel gerust met \nBaukje Boschker 06-14159761
URL:https://pkn-duiven.nl/agenda/oase-bijeenkomst/
LOCATION:SOW kapel\, Duiven
END:VEVENT
END:VCALENDAR