BEGIN:VCALENDAR
VERSION:2.0
PRODID:-//PKN-Duiven - ECPv6.15.20//NONSGML v1.0//EN
CALSCALE:GREGORIAN
METHOD:PUBLISH
X-WR-CALNAME:PKN-Duiven
X-ORIGINAL-URL:https://pkn-duiven.nl
X-WR-CALDESC:Evenementen voor PKN-Duiven
REFRESH-INTERVAL;VALUE=DURATION:PT1H
X-Robots-Tag:noindex
X-PUBLISHED-TTL:PT1H
BEGIN:VTIMEZONE
TZID:Europe/Amsterdam
BEGIN:DAYLIGHT
TZOFFSETFROM:+0100
TZOFFSETTO:+0200
TZNAME:CEST
DTSTART:20240331T010000
END:DAYLIGHT
BEGIN:STANDARD
TZOFFSETFROM:+0200
TZOFFSETTO:+0100
TZNAME:CET
DTSTART:20241027T010000
END:STANDARD
BEGIN:DAYLIGHT
TZOFFSETFROM:+0100
TZOFFSETTO:+0200
TZNAME:CEST
DTSTART:20250330T010000
END:DAYLIGHT
BEGIN:STANDARD
TZOFFSETFROM:+0200
TZOFFSETTO:+0100
TZNAME:CET
DTSTART:20251026T010000
END:STANDARD
BEGIN:DAYLIGHT
TZOFFSETFROM:+0100
TZOFFSETTO:+0200
TZNAME:CEST
DTSTART:20260329T010000
END:DAYLIGHT
BEGIN:STANDARD
TZOFFSETFROM:+0200
TZOFFSETTO:+0100
TZNAME:CET
DTSTART:20261025T010000
END:STANDARD
END:VTIMEZONE
BEGIN:VEVENT
DTSTART;TZID=Europe/Amsterdam:20250315T120000
DTEND;TZID=Europe/Amsterdam:20250315T140000
DTSTAMP:20260421T190706
CREATED:20250305T205218Z
LAST-MODIFIED:20250305T205218Z
UID:4339-1742040000-1742047200@pkn-duiven.nl
SUMMARY:Kom jij knutselen?
DESCRIPTION:Vind jij knutselen ook leuk en ben je tussen de 3 en 12 jaar oud\, lees dan vooral verder! \nWij gaan knutselen voor goede doelen! Neem je ouders\, vrienden\, opa’s en oma’s vooral mee! Er zijn pannenkoeken en limonade. Deze activiteit is gratis. \nVoor opgeven en meer informatie: Denise Bodd\, tel. 06-43110651 (graag via app) \n \n 
URL:https://pkn-duiven.nl/agenda/kom-jij-knutselen/
LOCATION:Huiskamer SOW kapel\, Rijksweg 56b\, Duiven\, Nederland
CATEGORIES:Activiteit
END:VEVENT
END:VCALENDAR