BEGIN:VCALENDAR
VERSION:2.0
PRODID:-//PKN-Duiven - ECPv6.15.20//NONSGML v1.0//EN
CALSCALE:GREGORIAN
METHOD:PUBLISH
X-ORIGINAL-URL:https://pkn-duiven.nl
X-WR-CALDESC:Evenementen voor PKN-Duiven
REFRESH-INTERVAL;VALUE=DURATION:PT1H
X-Robots-Tag:noindex
X-PUBLISHED-TTL:PT1H
BEGIN:VTIMEZONE
TZID:Europe/Amsterdam
BEGIN:DAYLIGHT
TZOFFSETFROM:+0100
TZOFFSETTO:+0200
TZNAME:CEST
DTSTART:20240331T010000
END:DAYLIGHT
BEGIN:STANDARD
TZOFFSETFROM:+0200
TZOFFSETTO:+0100
TZNAME:CET
DTSTART:20241027T010000
END:STANDARD
BEGIN:DAYLIGHT
TZOFFSETFROM:+0100
TZOFFSETTO:+0200
TZNAME:CEST
DTSTART:20250330T010000
END:DAYLIGHT
BEGIN:STANDARD
TZOFFSETFROM:+0200
TZOFFSETTO:+0100
TZNAME:CET
DTSTART:20251026T010000
END:STANDARD
BEGIN:DAYLIGHT
TZOFFSETFROM:+0100
TZOFFSETTO:+0200
TZNAME:CEST
DTSTART:20260329T010000
END:DAYLIGHT
BEGIN:STANDARD
TZOFFSETFROM:+0200
TZOFFSETTO:+0100
TZNAME:CET
DTSTART:20261025T010000
END:STANDARD
END:VTIMEZONE
BEGIN:VEVENT
DTSTART;TZID=Europe/Amsterdam:20250313T110000
DTEND;TZID=Europe/Amsterdam:20250313T140000
DTSTAMP:20260423T021821
CREATED:20250225T182724Z
LAST-MODIFIED:20250225T182724Z
UID:4317-1741863600-1741874400@pkn-duiven.nl
SUMMARY:Open huiskamer
DESCRIPTION:Loop eens binnen in onze kapel voor een kopje koffie\, thee\, een praatje of een rustig moment.\nWe zijn er elke dinsdag en donderdag van 11.00 tot 14.00 uur. \nVan harte welkom!
URL:https://pkn-duiven.nl/agenda/open-huiskamer-195/
LOCATION:Huiskamer SOW kapel\, Rijksweg 56b\, Duiven\, Nederland
CATEGORIES:Inloop
END:VEVENT
BEGIN:VEVENT
DTSTART;TZID=Europe/Amsterdam:20250313T200000
DTEND;TZID=Europe/Amsterdam:20250313T200000
DTSTAMP:20260423T021821
CREATED:20241224T134058Z
LAST-MODIFIED:20241224T134058Z
UID:4275-1741896000-1741896000@pkn-duiven.nl
SUMMARY:Lezing over Marc Chagall
DESCRIPTION:aan de hand van afbeeldingen van het werk van Marc Chagall door theoloog en kunstenaar Ruud Bartlema \nDe schilder Marc Chagall (1887 – 1985) is een fenomeen. Geboren in een milieu dat getekend wordt door het gedachtegoed van het Chassidisme\, een Joods mystieke stroming\, begint hij in 1906 op negentienjarige leeftijd voor het eerst te schilderen. Hij is dat onafgebroken blijven doen tot aan de dag van zijn dood in 1985. Marc Chagall vond zijn eigen vormentaal\, waarin hij ons deelgenoot maakt van zijn geschilderde dromen en visioenen.\nDe bijbel vormt een bijzondere bron van inspiratie voor Chagall. In 1973 wordt het Museum van de Bijbels Boodschap in het Franse Nice geopend. Het is geheel gewijd aan de 19 bijbelse schilderijen die Marc Chagall maakte: 12 grote doeken waarop verhalen uit Genesis en Exodus zijn uit geschilderd en nog 5 schilderijen over het Hooglied. Opvallend is de rol die de figuur van Jezus van Nazareth in het werk van Chagall. Aan de hand van afbeeldingen van Chagalls’ schilderijen gaat Ruud Bartlema in op de achtergrond en de betekenis van deze schilderijen in Nice.\nRuud Bartlema (1944) beeldend kunstenaar en leraar Joodse Mystiek\, studeerde theologie\, met speciale belangstelling voor mystieke stromingen uit het Jodendom. Daarnaast bekwaamde hij zich als beeldend kunstenaar. Al meer dan een kwart eeuw is hij gefascineerd door het werk van Marc Chagall en is bekend door zijn cursussen\, lezingen o.a. aan de HOVO’s in Amsterdam en een aantal reizen naar het werk van Chagall in Frankrijk. \nPlaats en tijd: Protestantse kerk van Westervoort\, Dorpstraat 61\, Westervoort op 13 maart om 20:00 uur\nInfo: Margreet de Bree\, email: predikant@pgwestervoort.nl
URL:https://pkn-duiven.nl/agenda/lezing-over-marc-chagall/
LOCATION:Protestantse Werenfried kerk Westervoort\, Dorpstraat 61\, Westervoort
CATEGORIES:Activiteit
ORGANIZER;CN="Inspiratie%2C Bezinning en Ontmoeting":MAILTO:info@pkn-duiven.nl
END:VEVENT
END:VCALENDAR