BEGIN:VCALENDAR
VERSION:2.0
PRODID:-//PKN-Duiven - ECPv6.15.20//NONSGML v1.0//EN
CALSCALE:GREGORIAN
METHOD:PUBLISH
X-ORIGINAL-URL:https://pkn-duiven.nl
X-WR-CALDESC:Evenementen voor PKN-Duiven
REFRESH-INTERVAL;VALUE=DURATION:PT1H
X-Robots-Tag:noindex
X-PUBLISHED-TTL:PT1H
BEGIN:VTIMEZONE
TZID:Europe/Amsterdam
BEGIN:DAYLIGHT
TZOFFSETFROM:+0100
TZOFFSETTO:+0200
TZNAME:CEST
DTSTART:20240331T010000
END:DAYLIGHT
BEGIN:STANDARD
TZOFFSETFROM:+0200
TZOFFSETTO:+0100
TZNAME:CET
DTSTART:20241027T010000
END:STANDARD
BEGIN:DAYLIGHT
TZOFFSETFROM:+0100
TZOFFSETTO:+0200
TZNAME:CEST
DTSTART:20250330T010000
END:DAYLIGHT
BEGIN:STANDARD
TZOFFSETFROM:+0200
TZOFFSETTO:+0100
TZNAME:CET
DTSTART:20251026T010000
END:STANDARD
BEGIN:DAYLIGHT
TZOFFSETFROM:+0100
TZOFFSETTO:+0200
TZNAME:CEST
DTSTART:20260329T010000
END:DAYLIGHT
BEGIN:STANDARD
TZOFFSETFROM:+0200
TZOFFSETTO:+0100
TZNAME:CET
DTSTART:20261025T010000
END:STANDARD
END:VTIMEZONE
BEGIN:VEVENT
DTSTART;TZID=Europe/Amsterdam:20250218T110000
DTEND;TZID=Europe/Amsterdam:20250218T140000
DTSTAMP:20260424T014709
CREATED:20250114T185338Z
LAST-MODIFIED:20250114T185338Z
UID:4301-1739876400-1739887200@pkn-duiven.nl
SUMMARY:Open huiskamer
DESCRIPTION:Loop eens binnen in onze kapel voor een kopje koffie\, thee\, een praatje of een rustig moment.\nWe zijn er elke dinsdag en donderdag van 11.00 tot 14.00 uur. \nVan harte welkom!
URL:https://pkn-duiven.nl/agenda/open-huiskamer-187/
LOCATION:Huiskamer SOW kapel\, Rijksweg 56b\, Duiven\, Nederland
CATEGORIES:Inloop
END:VEVENT
BEGIN:VEVENT
DTSTART;TZID=Europe/Amsterdam:20250218T200000
DTEND;TZID=Europe/Amsterdam:20250218T200000
DTSTAMP:20260424T014709
CREATED:20241224T133717Z
LAST-MODIFIED:20241224T133717Z
UID:4271-1739908800-1739908800@pkn-duiven.nl
SUMMARY:“De beste helft” Van kenniseconomie naar wijsheidscultuur - lezing door Arjan Broers
DESCRIPTION:Wat wil je later worden? Die vraag krijg je vaak als kind. Maar er komt een moment dat je iets of iemand bent geworden. En dan moet je nog een poos. Vroeger of later lopen mensen tegen de grenzen op van wat ze zijn geworden. Burnout\, een relatiecrisis\, de dood van een geliefd mens of een opkomend gevoel van verveling. Is dit alles? Dan begint de tweede helft van je leven. De beste helft\, noemt Arjan Broers het\, ‘of in ieder geval de helft waar het echt om gaat’.\nArjan Broers is auteur\, coach en pastor van de Dominicus in Amsterdam. Hij vertelt over zijn boek ‘De beste helft’\, dat inmiddels al een vijfde druk kreeg. De ondertitel van het boek is: ‘Kunnen we behalve alsmaar ouder ook wat wijzer worden?’ Eerlijk\, lichtvoetig en met humor verleidt hij je om zelf op onderzoek te gaan naar wat jij in je leven te doen hebt. Hoe je kunt oefenen aandachtig te zijn\, je schaduwwerk te doen en uit te reiken met wat je te geven hebt.\nDat onderzoek gaat niet alleen over jou. We leven in een tijd waarin er nog nooit zoveel mensen zo gezond zo oud geworden zijn. En ook is het een tijd waarin we zien dat onze manier van leven niet duurzaam is voor het leven om ons heen en voor de mensen die na ons komen. Een onwijze tijd is het. Zelden was er zo’n nood aan wijsheid.\n\nPlaats en tijd: Ons Huis (naast de Ontmoetingskerk)\, Dr. Honigstraat 3\, Zevenaar\, 18 februari om 20:00 uur\nInfo: Margreet de Bree\, email: predikant@pgwestervoort.nl
URL:https://pkn-duiven.nl/agenda/de-beste-helft-van-kenniseconomie-naar-wijsheidscultuur-lezing-door-arjan-broers/
LOCATION:Ons Huis\, Zevenaar\, Dokter Honigstraat 3\, Zevenaar\, 6901AP
CATEGORIES:Activiteit
ORGANIZER;CN="Inspiratie%2C Bezinning en Ontmoeting":MAILTO:info@pkn-duiven.nl
END:VEVENT
END:VCALENDAR