BEGIN:VCALENDAR
VERSION:2.0
PRODID:-//PKN-Duiven - ECPv6.15.20//NONSGML v1.0//EN
CALSCALE:GREGORIAN
METHOD:PUBLISH
X-WR-CALNAME:PKN-Duiven
X-ORIGINAL-URL:https://pkn-duiven.nl
X-WR-CALDESC:Evenementen voor PKN-Duiven
REFRESH-INTERVAL;VALUE=DURATION:PT1H
X-Robots-Tag:noindex
X-PUBLISHED-TTL:PT1H
BEGIN:VTIMEZONE
TZID:Europe/Amsterdam
BEGIN:DAYLIGHT
TZOFFSETFROM:+0100
TZOFFSETTO:+0200
TZNAME:CEST
DTSTART:20230326T010000
END:DAYLIGHT
BEGIN:STANDARD
TZOFFSETFROM:+0200
TZOFFSETTO:+0100
TZNAME:CET
DTSTART:20231029T010000
END:STANDARD
BEGIN:DAYLIGHT
TZOFFSETFROM:+0100
TZOFFSETTO:+0200
TZNAME:CEST
DTSTART:20240331T010000
END:DAYLIGHT
BEGIN:STANDARD
TZOFFSETFROM:+0200
TZOFFSETTO:+0100
TZNAME:CET
DTSTART:20241027T010000
END:STANDARD
BEGIN:DAYLIGHT
TZOFFSETFROM:+0100
TZOFFSETTO:+0200
TZNAME:CEST
DTSTART:20250330T010000
END:DAYLIGHT
BEGIN:STANDARD
TZOFFSETFROM:+0200
TZOFFSETTO:+0100
TZNAME:CET
DTSTART:20251026T010000
END:STANDARD
END:VTIMEZONE
BEGIN:VEVENT
DTSTART;TZID=Europe/Amsterdam:20241102T103000
DTEND;TZID=Europe/Amsterdam:20241102T133000
DTSTAMP:20260420T084458
CREATED:20240910T202355Z
LAST-MODIFIED:20241014T190442Z
UID:4096-1730543400-1730554200@pkn-duiven.nl
SUMMARY:Pelgrimswandeling
DESCRIPTION:Op zaterdag 2 november is er een Pelgrimswandeling voor gemeenteleden en belangstellenden uit de Liemerse gemeenten. Tijdens deze wandeling is er gelegenheid om kennis te maken met elkaar en wederzijdse ervaringen uit te wisselen. Er zijn stiltemomenten en de bezinningsmomenten worden verzorgd door Margreet de Bree\, predikant in Westervoort. \nDeze keer gaan we naar Rozendaal. De wandeling in een glooiend stuwwallenlandschap is 6 km lang met daarin vier heuvels. De Koningsberg\, de Tonberg\, de Breeberg en de Kapellenberg. We genieten van de mooie herfstkleuren en zoeken naar sporen van wilde zwijnen\, herten en reeën. \nDeelnemers aan de pelgrimswandeling kunnen zich verzamelen om 10.30 uur op de parkeerplaats tegenover de ingang van park Kasteel Rozendaal. De wandeling duurt ongeveer 2 ½ uur. Het is aan te bevelen om goede wandelschoenen aan te trekken en eten en drinken mee te nemen. \nDeelnemers kunnen zich bij mij aanmelden. \nPeter Mekkink\nexcursieleider \nE-mail: petermekkink@gmail.com\nTel.: 06 48 303200
URL:https://pkn-duiven.nl/agenda/pelgrimswandeling-4/
LOCATION:Parkeerplaats Kasteel Rozendaal\, Beekhuizenseweg 3\, Rozendaal\, 6891 CZ\, Nederland
CATEGORIES:Activiteit
END:VEVENT
END:VCALENDAR