BEGIN:VCALENDAR
VERSION:2.0
PRODID:-//PKN-Duiven - ECPv6.15.20//NONSGML v1.0//EN
CALSCALE:GREGORIAN
METHOD:PUBLISH
X-WR-CALNAME:PKN-Duiven
X-ORIGINAL-URL:https://pkn-duiven.nl
X-WR-CALDESC:Evenementen voor PKN-Duiven
REFRESH-INTERVAL;VALUE=DURATION:PT1H
X-Robots-Tag:noindex
X-PUBLISHED-TTL:PT1H
BEGIN:VTIMEZONE
TZID:Europe/Amsterdam
BEGIN:DAYLIGHT
TZOFFSETFROM:+0100
TZOFFSETTO:+0200
TZNAME:CEST
DTSTART:20230326T010000
END:DAYLIGHT
BEGIN:STANDARD
TZOFFSETFROM:+0200
TZOFFSETTO:+0100
TZNAME:CET
DTSTART:20231029T010000
END:STANDARD
BEGIN:DAYLIGHT
TZOFFSETFROM:+0100
TZOFFSETTO:+0200
TZNAME:CEST
DTSTART:20240331T010000
END:DAYLIGHT
BEGIN:STANDARD
TZOFFSETFROM:+0200
TZOFFSETTO:+0100
TZNAME:CET
DTSTART:20241027T010000
END:STANDARD
BEGIN:DAYLIGHT
TZOFFSETFROM:+0100
TZOFFSETTO:+0200
TZNAME:CEST
DTSTART:20250330T010000
END:DAYLIGHT
BEGIN:STANDARD
TZOFFSETFROM:+0200
TZOFFSETTO:+0100
TZNAME:CET
DTSTART:20251026T010000
END:STANDARD
END:VTIMEZONE
BEGIN:VEVENT
DTSTART;TZID=Europe/Amsterdam:20240703T193000
DTEND;TZID=Europe/Amsterdam:20240703T213000
DTSTAMP:20260423T180434
CREATED:20240614T205622Z
LAST-MODIFIED:20240614T205622Z
UID:3978-1720035000-1720042200@pkn-duiven.nl
SUMMARY:Gebruiken in onze gemeente (vervolg)
DESCRIPTION:Afgelopen woensdag 29 mei hadden we als groep van 13 gemeenteleden een gesprek over welke gebruiken ons helpen in geloven; en als gemeente om in contact met God en Gods heiligheid en in groeiende verbondenheid met elkaar te komen. Er kwamen in dit gesprek vele voor ieder van ons belangrijke gebruiken aan de orde. Ieder had zo haar of zijn eigen gebruik\, waar zij of hij waarde aan hecht of veel bij beleeft in geloof. \nDit gesprek riep ook om een vervolg. Op 3 juli praten we door. Ook (of juist!) als u er de eerste keer niet bij was\, bent u van harte welkom om mee te praten! Ds. Jolande van Baardewijk en Willem Lindeman begeleiden deze avond het gesprek. \nLees meer over deze avond in dit bericht.
URL:https://pkn-duiven.nl/agenda/gebruiken-in-onze-gemeente-vervolg/
LOCATION:Huiskamer SOW kapel\, Rijksweg 56b\, Duiven\, Nederland
END:VEVENT
END:VCALENDAR