BEGIN:VCALENDAR
VERSION:2.0
PRODID:-//PKN-Duiven - ECPv6.15.20//NONSGML v1.0//EN
CALSCALE:GREGORIAN
METHOD:PUBLISH
X-ORIGINAL-URL:https://pkn-duiven.nl
X-WR-CALDESC:Evenementen voor PKN-Duiven
REFRESH-INTERVAL;VALUE=DURATION:PT1H
X-Robots-Tag:noindex
X-PUBLISHED-TTL:PT1H
BEGIN:VTIMEZONE
TZID:Europe/Amsterdam
BEGIN:DAYLIGHT
TZOFFSETFROM:+0100
TZOFFSETTO:+0200
TZNAME:CEST
DTSTART:20230326T010000
END:DAYLIGHT
BEGIN:STANDARD
TZOFFSETFROM:+0200
TZOFFSETTO:+0100
TZNAME:CET
DTSTART:20231029T010000
END:STANDARD
BEGIN:DAYLIGHT
TZOFFSETFROM:+0100
TZOFFSETTO:+0200
TZNAME:CEST
DTSTART:20240331T010000
END:DAYLIGHT
BEGIN:STANDARD
TZOFFSETFROM:+0200
TZOFFSETTO:+0100
TZNAME:CET
DTSTART:20241027T010000
END:STANDARD
BEGIN:DAYLIGHT
TZOFFSETFROM:+0100
TZOFFSETTO:+0200
TZNAME:CEST
DTSTART:20250330T010000
END:DAYLIGHT
BEGIN:STANDARD
TZOFFSETFROM:+0200
TZOFFSETTO:+0100
TZNAME:CET
DTSTART:20251026T010000
END:STANDARD
END:VTIMEZONE
BEGIN:VEVENT
DTSTART;TZID=Europe/Amsterdam:20240330T220000
DTEND;TZID=Europe/Amsterdam:20240330T230000
DTSTAMP:20260425T173552
CREATED:20240115T105104Z
LAST-MODIFIED:20240223T151849Z
UID:3693-1711836000-1711839600@pkn-duiven.nl
SUMMARY:viering - stille zaterdag
DESCRIPTION:Voorganger: Willem Lindeman\nAmbtsdrager van dienst: Tammo Hoogakker \nBijzonderheden: Stille Zaterdag\, Paasnachtdienst \nWe bevinden ons in het gebied tussen dood en leven.\nWat geloven wij? Dat het met de dood is afgelopen of verlangen wij naar\, vertrouwen wij op de geboorte van nieuw leven? Laten we de stilte gebruiken om hierover na te denken.\n\nDe dienst begint om 22.00u. In deze dienst zal de nieuwe paaskaars worden binnengedragen en worden aangestoken.\n\n\nTot dan!\nWillem Lindeman\nCollectes:\nGeen
URL:https://pkn-duiven.nl/agenda/viering-stille-zaterdag-3/
LOCATION:SOW kapel\, Duiven
CATEGORIES:Vieringen
END:VEVENT
END:VCALENDAR