BEGIN:VCALENDAR
VERSION:2.0
PRODID:-//PKN-Duiven - ECPv6.15.20//NONSGML v1.0//EN
CALSCALE:GREGORIAN
METHOD:PUBLISH
X-WR-CALNAME:PKN-Duiven
X-ORIGINAL-URL:https://pkn-duiven.nl
X-WR-CALDESC:Evenementen voor PKN-Duiven
REFRESH-INTERVAL;VALUE=DURATION:PT1H
X-Robots-Tag:noindex
X-PUBLISHED-TTL:PT1H
BEGIN:VTIMEZONE
TZID:Europe/Amsterdam
BEGIN:DAYLIGHT
TZOFFSETFROM:+0100
TZOFFSETTO:+0200
TZNAME:CEST
DTSTART:20230326T010000
END:DAYLIGHT
BEGIN:STANDARD
TZOFFSETFROM:+0200
TZOFFSETTO:+0100
TZNAME:CET
DTSTART:20231029T010000
END:STANDARD
BEGIN:DAYLIGHT
TZOFFSETFROM:+0100
TZOFFSETTO:+0200
TZNAME:CEST
DTSTART:20240331T010000
END:DAYLIGHT
BEGIN:STANDARD
TZOFFSETFROM:+0200
TZOFFSETTO:+0100
TZNAME:CET
DTSTART:20241027T010000
END:STANDARD
BEGIN:DAYLIGHT
TZOFFSETFROM:+0100
TZOFFSETTO:+0200
TZNAME:CEST
DTSTART:20250330T010000
END:DAYLIGHT
BEGIN:STANDARD
TZOFFSETFROM:+0200
TZOFFSETTO:+0100
TZNAME:CET
DTSTART:20251026T010000
END:STANDARD
END:VTIMEZONE
BEGIN:VEVENT
DTSTART;TZID=Europe/Amsterdam:20240329T193000
DTEND;TZID=Europe/Amsterdam:20240329T203000
DTSTAMP:20260425T135953
CREATED:20240115T104950Z
LAST-MODIFIED:20240223T150940Z
UID:3691-1711740600-1711744200@pkn-duiven.nl
SUMMARY:viering - goede vrijdag
DESCRIPTION:Voorganger: Willem Lindeman\nAmbtsdrager van dienst: Marian Rijnbende \nBijzonderheden: Goede Vrijdag \nWe herdenken het lijden en sterven van onze Heer Jezus Christus\, als heling tussen ons en God.\nOm een nieuw begin te creëren\, moest hij gaan tot het bittere einde\, met als dieptepunt: “Mijn God\, mijn God\, waarom hebt Gij mij verlaten?” Liefde en solidariteit tot in de dood.\n\nLaten we samenkomen om onze Heer te gedenken!\n\nWillem Lindeman\nEr is geen collecte.
URL:https://pkn-duiven.nl/agenda/viering-goede-vrijdag-2/
LOCATION:SOW kapel\, Duiven
CATEGORIES:Vieringen
END:VEVENT
END:VCALENDAR