BEGIN:VCALENDAR
VERSION:2.0
PRODID:-//PKN-Duiven - ECPv6.15.20//NONSGML v1.0//EN
CALSCALE:GREGORIAN
METHOD:PUBLISH
X-ORIGINAL-URL:https://pkn-duiven.nl
X-WR-CALDESC:Evenementen voor PKN-Duiven
REFRESH-INTERVAL;VALUE=DURATION:PT1H
X-Robots-Tag:noindex
X-PUBLISHED-TTL:PT1H
BEGIN:VTIMEZONE
TZID:Europe/Amsterdam
BEGIN:DAYLIGHT
TZOFFSETFROM:+0100
TZOFFSETTO:+0200
TZNAME:CEST
DTSTART:20220327T010000
END:DAYLIGHT
BEGIN:STANDARD
TZOFFSETFROM:+0200
TZOFFSETTO:+0100
TZNAME:CET
DTSTART:20221030T010000
END:STANDARD
BEGIN:DAYLIGHT
TZOFFSETFROM:+0100
TZOFFSETTO:+0200
TZNAME:CEST
DTSTART:20230326T010000
END:DAYLIGHT
BEGIN:STANDARD
TZOFFSETFROM:+0200
TZOFFSETTO:+0100
TZNAME:CET
DTSTART:20231029T010000
END:STANDARD
BEGIN:DAYLIGHT
TZOFFSETFROM:+0100
TZOFFSETTO:+0200
TZNAME:CEST
DTSTART:20240331T010000
END:DAYLIGHT
BEGIN:STANDARD
TZOFFSETFROM:+0200
TZOFFSETTO:+0100
TZNAME:CET
DTSTART:20241027T010000
END:STANDARD
END:VTIMEZONE
BEGIN:VEVENT
DTSTART;TZID=Europe/Amsterdam:20231214T110000
DTEND;TZID=Europe/Amsterdam:20231214T140000
DTSTAMP:20260425T135347
CREATED:20231126T103852Z
LAST-MODIFIED:20231126T103852Z
UID:3509-1702551600-1702562400@pkn-duiven.nl
SUMMARY:open huiskamer
DESCRIPTION:Loop eens binnen in onze kapel voor een kopje koffie\, thee\, een praatje of een rustig moment.\nWe zijn er elke dinsdag en donderdag van 11.00 tot 14.00 uur. \nVan harte welkom!
URL:https://pkn-duiven.nl/agenda/open-huiskamer-66/
LOCATION:Huiskamer SOW kapel\, Rijksweg 56b\, Duiven\, Nederland
CATEGORIES:Inloop
END:VEVENT
BEGIN:VEVENT
DTSTART;TZID=Europe/Amsterdam:20231214T200000
DTEND;TZID=Europe/Amsterdam:20231214T200000
DTSTAMP:20260425T135347
CREATED:20230724T082644Z
LAST-MODIFIED:20230724T082644Z
UID:3106-1702584000-1702584000@pkn-duiven.nl
SUMMARY:“Elite en schorriemorrie - Kerst\, kunst en geloofssymbolen”
DESCRIPTION:“Elite en schorriemorrie – Kerst\, kunst en geloofssymbolen”\, dr. Alfred C. Bronswijk Kerst is de tijd voor de allermooiste verhalen. Bijvoorbeeld over ‘Elite’\, of over ‘schorremorrie’. U kent ze wel\, die kleurrijke koningen uit het verre oosten en die horkerige herders uit Bethlehem. Hoe ze heetten\, hoe ze er uitzagen\, hoeveel het er waren? – de bijbel doet daar geen boekje over open. Evenmin over die wonderlijke ster met zijn stralen.\nMaar daarvoor moet je dan ook bij de beeldende kunst te rade gaan. Of bij de geloofsboeken uit het vroegste christendom. Geschriften die de rang van bijbelboek nooit haalden\, maar wel razend populair waren bij het vrome volk. Daaruit kun je leren dat er bij de heilige geboorte twee vroedvrouwen waren. Dat Jozef het kindje wikkelde in een oude sok. Dat Maria prachtig lang gouden haar had. Dat het stalletje\nhelemaal geen stal was maar gewoon een ordinaire grot. En dat Jozef en Maria beslist geen toeslagenaffaire-slachtoffers waren. \nDit en alles komt naar voren in onze bijzondere beeld- en verhalenreis rond de kunst en symboliek van het Kerstfeest\, op 14 december. Alfred Bronswijk\, theoloog en dichter\, neemt ons mee naar fascinerende geloofskunst uit vroeger eeuwen. Naar prachtige legendes en diepzinnige symbolen. Naar oude tradities\, zoals de groene boom met z’n piek en kleurige ballen. Tradities die we\, onwetend\, als gelovigen en ongelovigen toch jaarlijks herhalen… Zo beleven we een verrassende en verrijkende avond in woord en beeld met ‘Elite en schorriemorrie’ in de hoofdrol. \nPlaats en tijd: protestantse kerk Lathum\, Kerkstraat 8\, Lathum op 14 december om 20.00 uur\nIedereen welkom!
URL:https://pkn-duiven.nl/agenda/elite-en-schorriemorrie-kerst-kunst-en-geloofssymbolen/
LOCATION:Protestantse Kerk Lathum\, Kerkstraat 8\, Lathum\, Nederland
CATEGORIES:Activiteit
ORGANIZER;CN="Inspiratie%2C Bezinning en Ontmoeting":MAILTO:info@pkn-duiven.nl
END:VEVENT
END:VCALENDAR