BEGIN:VCALENDAR
VERSION:2.0
PRODID:-//PKN-Duiven - ECPv6.15.20//NONSGML v1.0//EN
CALSCALE:GREGORIAN
METHOD:PUBLISH
X-ORIGINAL-URL:https://pkn-duiven.nl
X-WR-CALDESC:Evenementen voor PKN-Duiven
REFRESH-INTERVAL;VALUE=DURATION:PT1H
X-Robots-Tag:noindex
X-PUBLISHED-TTL:PT1H
BEGIN:VTIMEZONE
TZID:Europe/Amsterdam
BEGIN:DAYLIGHT
TZOFFSETFROM:+0100
TZOFFSETTO:+0200
TZNAME:CEST
DTSTART:20220327T010000
END:DAYLIGHT
BEGIN:STANDARD
TZOFFSETFROM:+0200
TZOFFSETTO:+0100
TZNAME:CET
DTSTART:20221030T010000
END:STANDARD
BEGIN:DAYLIGHT
TZOFFSETFROM:+0100
TZOFFSETTO:+0200
TZNAME:CEST
DTSTART:20230326T010000
END:DAYLIGHT
BEGIN:STANDARD
TZOFFSETFROM:+0200
TZOFFSETTO:+0100
TZNAME:CET
DTSTART:20231029T010000
END:STANDARD
BEGIN:DAYLIGHT
TZOFFSETFROM:+0100
TZOFFSETTO:+0200
TZNAME:CEST
DTSTART:20240331T010000
END:DAYLIGHT
BEGIN:STANDARD
TZOFFSETFROM:+0200
TZOFFSETTO:+0100
TZNAME:CET
DTSTART:20241027T010000
END:STANDARD
END:VTIMEZONE
BEGIN:VEVENT
DTSTART;TZID=Europe/Amsterdam:20231120T193000
DTEND;TZID=Europe/Amsterdam:20231120T203000
DTSTAMP:20260421T201555
CREATED:20231101T183437Z
LAST-MODIFIED:20231101T183437Z
UID:3396-1700508600-1700512200@pkn-duiven.nl
SUMMARY:Gemeenteberaad
DESCRIPTION:GEMEENTEBERAAD OP 19 EN 20 NOVEMEBER 2023 \nDe Kerkenraad nodigt u uit voor het gemeenteberaad \nHoofdonderwerp is de Liemersbrede samenwerking. In de eerste fase gaat het om de samenwerking van Diaconie en Kerkrentmeesters. Dit jaar neemt de kerkenraad hier een besluit over\, dus denk en praat mee. Kunt u 19 of 20 november niet komen\, neem dan (eerder) contact op met een ambtsdrager\, zodat uw geluid meegewogen kan worden. \nHet tweede belangrijke onderwerp is de toekomst van onze gemeente. Er staat veel op het spel de komende tijd. We hebben hard vrijwilligers nodig die zich inzetten voor onze gemeente. Met name ambtsdragers\, maar ook schoonmakers\, meedenkers voor de vieringen\, mensen die graag organiseren en regelen van 80+ verjaardags- en vrijwilligersfeestjes\, koffiezetters en klussers. \nGraag tot 19 of 20 november\, \nEdward Pfeiffer (voorzitter) en ds. Jolande van Baardewijk (predikant)
URL:https://pkn-duiven.nl/agenda/gemeenteberaad-4/
LOCATION:SOW kapel\, Duiven
END:VEVENT
END:VCALENDAR