BEGIN:VCALENDAR
VERSION:2.0
PRODID:-//PKN-Duiven - ECPv6.15.20//NONSGML v1.0//EN
CALSCALE:GREGORIAN
METHOD:PUBLISH
X-ORIGINAL-URL:https://pkn-duiven.nl
X-WR-CALDESC:Evenementen voor PKN-Duiven
REFRESH-INTERVAL;VALUE=DURATION:PT1H
X-Robots-Tag:noindex
X-PUBLISHED-TTL:PT1H
BEGIN:VTIMEZONE
TZID:Europe/Amsterdam
BEGIN:DAYLIGHT
TZOFFSETFROM:+0100
TZOFFSETTO:+0200
TZNAME:CEST
DTSTART:20220327T010000
END:DAYLIGHT
BEGIN:STANDARD
TZOFFSETFROM:+0200
TZOFFSETTO:+0100
TZNAME:CET
DTSTART:20221030T010000
END:STANDARD
BEGIN:DAYLIGHT
TZOFFSETFROM:+0100
TZOFFSETTO:+0200
TZNAME:CEST
DTSTART:20230326T010000
END:DAYLIGHT
BEGIN:STANDARD
TZOFFSETFROM:+0200
TZOFFSETTO:+0100
TZNAME:CET
DTSTART:20231029T010000
END:STANDARD
BEGIN:DAYLIGHT
TZOFFSETFROM:+0100
TZOFFSETTO:+0200
TZNAME:CEST
DTSTART:20240331T010000
END:DAYLIGHT
BEGIN:STANDARD
TZOFFSETFROM:+0200
TZOFFSETTO:+0100
TZNAME:CET
DTSTART:20241027T010000
END:STANDARD
END:VTIMEZONE
BEGIN:VEVENT
DTSTART;TZID=Europe/Amsterdam:20231118T190000
DTEND;TZID=Europe/Amsterdam:20231118T200000
DTSTAMP:20260421T184105
CREATED:20231019T203303Z
LAST-MODIFIED:20231019T204709Z
UID:3304-1700334000-1700337600@pkn-duiven.nl
SUMMARY:Taizé-viering
DESCRIPTION:In de Remigiuskerk te Duiven is er op zaterdagavond 18 november om 19.00 uur een Taizéviering. Vanaf 18.30 uur is de kerk open. \nThema: Her-denken \nIn deze meditatieviering met een openingsgebed\, psalm\, korte lezing\, veel zang met liederen uit Taizé\, en voorbeden door u/jouzelf geformuleerd\, past ook stilte…. \nIn aanloop naar de viering worden een paar repetitieavonden gehouden voor enthousiaste zangers en zangeressen\, én muzikanten\, onder leiding van dirigent/organist/koorleider Regina Witte. \nDe repetitieavonden voor dit gelegenheidskoor én muzikanten\, zijn in het parochiecentrum naast de Remigiuskerk van 19.15 uur tot ca 21.00 uur op de vrijdagen van 3\, 10 en 17 november. Wees welkom! Het koor plus de muzikanten repeteren nogmaals kort voor de zaterdagavonddiensten om 17.00 uur en eten vervolgens gezamenlijk een broodje.
URL:https://pkn-duiven.nl/agenda/taize-viering/
LOCATION:Remigiuskerk Duiven\, Remigiusplein 4\, Duiven\, 6921 BL\, Nederland
END:VEVENT
END:VCALENDAR