BEGIN:VCALENDAR
VERSION:2.0
PRODID:-//PKN-Duiven - ECPv6.15.20//NONSGML v1.0//EN
CALSCALE:GREGORIAN
METHOD:PUBLISH
X-ORIGINAL-URL:https://pkn-duiven.nl
X-WR-CALDESC:Evenementen voor PKN-Duiven
REFRESH-INTERVAL;VALUE=DURATION:PT1H
X-Robots-Tag:noindex
X-PUBLISHED-TTL:PT1H
BEGIN:VTIMEZONE
TZID:Europe/Amsterdam
BEGIN:DAYLIGHT
TZOFFSETFROM:+0100
TZOFFSETTO:+0200
TZNAME:CEST
DTSTART:20220327T010000
END:DAYLIGHT
BEGIN:STANDARD
TZOFFSETFROM:+0200
TZOFFSETTO:+0100
TZNAME:CET
DTSTART:20221030T010000
END:STANDARD
BEGIN:DAYLIGHT
TZOFFSETFROM:+0100
TZOFFSETTO:+0200
TZNAME:CEST
DTSTART:20230326T010000
END:DAYLIGHT
BEGIN:STANDARD
TZOFFSETFROM:+0200
TZOFFSETTO:+0100
TZNAME:CET
DTSTART:20231029T010000
END:STANDARD
BEGIN:DAYLIGHT
TZOFFSETFROM:+0100
TZOFFSETTO:+0200
TZNAME:CEST
DTSTART:20240331T010000
END:DAYLIGHT
BEGIN:STANDARD
TZOFFSETFROM:+0200
TZOFFSETTO:+0100
TZNAME:CET
DTSTART:20241027T010000
END:STANDARD
END:VTIMEZONE
BEGIN:VEVENT
DTSTART;TZID=Europe/Amsterdam:20231105T103000
DTEND;TZID=Europe/Amsterdam:20231105T113000
DTSTAMP:20260421T171923
CREATED:20230918T094849Z
LAST-MODIFIED:20231101T180135Z
UID:3273-1699180200-1699183800@pkn-duiven.nl
SUMMARY:Viering
DESCRIPTION:Voorganger: Ds. Mariecke van den Berg\nAmbtsdrager van dienst: Tammo Hoogakker \nBijzonderheden: Oogstdienst \nCollectes:\n1. Stichting Blij\n2. Algemeen kerkenwerk \nVan de oogsttijd tot de herfst (2 Samuël 21: 1-14) \nHet begin van het koningschap van David verloopt moeizaam. Er is een hongersnood gaande in het land. David komt erachter wat de oorzaak is: er is door zijn voorganger Saul geweld gebruikt tegen de Gibeonieten\, ondanks dat er met hen een verbond was gesloten. De prijs voor het ‘goedmaken’ van die schending is hoog: zeven mannen\, allen familie van de dan al gesneuvelde Saul\, worden ter dood gebracht en\, tegen de bepalingen van de wet in\, niet begraven. Dan stelt Rispa\, de moeder van twee van de omgekomen mannen\, een moedige daad. Zij houdt een wake bij de lichamen\, niet een of twee nachten\, maar maandenlang. In een context waarin er een spiraal van onrecht en geweld is ingezet die niet meer te stoppen lijkt\, laat zij een andere weg zien. Het is een heftig\, rauw verhaal\, maar juist daarin komt het heel dichtbij het geweld en onrecht waar we ook vandaag mee moeten leven. Als we dit verhaal niet vergeten\, maar aandurven met elkaar\, opent zich de mogelijkheid dat Rispa ook ons andere wegen laat zien.
URL:https://pkn-duiven.nl/agenda/viering-051123/
LOCATION:SOW kapel\, Duiven
CATEGORIES:Vieringen
END:VEVENT
END:VCALENDAR