BEGIN:VCALENDAR
VERSION:2.0
PRODID:-//PKN-Duiven - ECPv6.15.20//NONSGML v1.0//EN
CALSCALE:GREGORIAN
METHOD:PUBLISH
X-WR-CALNAME:PKN-Duiven
X-ORIGINAL-URL:https://pkn-duiven.nl
X-WR-CALDESC:Evenementen voor PKN-Duiven
REFRESH-INTERVAL;VALUE=DURATION:PT1H
X-Robots-Tag:noindex
X-PUBLISHED-TTL:PT1H
BEGIN:VTIMEZONE
TZID:Europe/Amsterdam
BEGIN:DAYLIGHT
TZOFFSETFROM:+0100
TZOFFSETTO:+0200
TZNAME:CEST
DTSTART:20220327T010000
END:DAYLIGHT
BEGIN:STANDARD
TZOFFSETFROM:+0200
TZOFFSETTO:+0100
TZNAME:CET
DTSTART:20221030T010000
END:STANDARD
BEGIN:DAYLIGHT
TZOFFSETFROM:+0100
TZOFFSETTO:+0200
TZNAME:CEST
DTSTART:20230326T010000
END:DAYLIGHT
BEGIN:STANDARD
TZOFFSETFROM:+0200
TZOFFSETTO:+0100
TZNAME:CET
DTSTART:20231029T010000
END:STANDARD
BEGIN:DAYLIGHT
TZOFFSETFROM:+0100
TZOFFSETTO:+0200
TZNAME:CEST
DTSTART:20240331T010000
END:DAYLIGHT
BEGIN:STANDARD
TZOFFSETFROM:+0200
TZOFFSETTO:+0100
TZNAME:CET
DTSTART:20241027T010000
END:STANDARD
END:VTIMEZONE
BEGIN:VEVENT
DTSTART;TZID=Europe/Amsterdam:20230405T173000
DTEND;TZID=Europe/Amsterdam:20230405T193000
DTSTAMP:20260425T123442
CREATED:20230219T171519Z
LAST-MODIFIED:20230219T171519Z
UID:2935-1680715800-1680723000@pkn-duiven.nl
SUMMARY:Eet-je-mee-café
DESCRIPTION:Maandelijks op woensdagavond is het Eet-je-mee-café in de huiskamer. De inloop is om 17.30 uur en we eten samen om 18.00 uur.\nIn het boodschappen- en kookteam mag iedereen meedoen. De harde kern wordt gevormd door 3 dames die klant van de voedselbank zijn. Dat zijn dames met een groot hart en een passie voor koken.\nOm mee te doen hoef je niets te doen\, dus ben je gewoon welkom zoals je bent! De eigen bijdrage – als het lukt – is € 2\,50 per maaltijd. \nGeef je op voor het Eet-je-mee-café bij: info@pkn-duiven.nl
URL:https://pkn-duiven.nl/agenda/eet-je-mee-cafe-3/
LOCATION:Huiskamer SOW kapel\, Rijksweg 56b\, Duiven\, Nederland
CATEGORIES:Activiteit
END:VEVENT
END:VCALENDAR