BEGIN:VCALENDAR
VERSION:2.0
PRODID:-//PKN-Duiven - ECPv6.15.20//NONSGML v1.0//EN
CALSCALE:GREGORIAN
METHOD:PUBLISH
X-WR-CALNAME:PKN-Duiven
X-ORIGINAL-URL:https://pkn-duiven.nl
X-WR-CALDESC:Evenementen voor PKN-Duiven
REFRESH-INTERVAL;VALUE=DURATION:PT1H
X-Robots-Tag:noindex
X-PUBLISHED-TTL:PT1H
BEGIN:VTIMEZONE
TZID:Europe/Amsterdam
BEGIN:DAYLIGHT
TZOFFSETFROM:+0100
TZOFFSETTO:+0200
TZNAME:CEST
DTSTART:20220327T010000
END:DAYLIGHT
BEGIN:STANDARD
TZOFFSETFROM:+0200
TZOFFSETTO:+0100
TZNAME:CET
DTSTART:20221030T010000
END:STANDARD
BEGIN:DAYLIGHT
TZOFFSETFROM:+0100
TZOFFSETTO:+0200
TZNAME:CEST
DTSTART:20230326T010000
END:DAYLIGHT
BEGIN:STANDARD
TZOFFSETFROM:+0200
TZOFFSETTO:+0100
TZNAME:CET
DTSTART:20231029T010000
END:STANDARD
BEGIN:DAYLIGHT
TZOFFSETFROM:+0100
TZOFFSETTO:+0200
TZNAME:CEST
DTSTART:20240331T010000
END:DAYLIGHT
BEGIN:STANDARD
TZOFFSETFROM:+0200
TZOFFSETTO:+0100
TZNAME:CET
DTSTART:20241027T010000
END:STANDARD
END:VTIMEZONE
BEGIN:VEVENT
DTSTART;TZID=Europe/Amsterdam:20230323T110000
DTEND;TZID=Europe/Amsterdam:20230323T140000
DTSTAMP:20260425T051519
CREATED:20230109T143236Z
LAST-MODIFIED:20230109T143236Z
UID:2879-1679569200-1679580000@pkn-duiven.nl
SUMMARY:Open huiskamer
DESCRIPTION:Loop eens binnen in onze kapel voor een kopje koffie\, thee\, een praatje of een rustig moment.\nWe zijn er elke dinsdag en donderdag van 11.00 tot 14.00 uur. \nVan harte welkom!
URL:https://pkn-duiven.nl/agenda/open-huiskamer-230323/
LOCATION:Huiskamer SOW kapel\, Rijksweg 56b\, Duiven\, Nederland
CATEGORIES:Inloop
END:VEVENT
BEGIN:VEVENT
DTSTART;TZID=Europe/Amsterdam:20230323T200000
DTEND;TZID=Europe/Amsterdam:20230323T200000
DTSTAMP:20260425T051519
CREATED:20230109T144632Z
LAST-MODIFIED:20230109T144701Z
UID:2889-1679601600-1679601600@pkn-duiven.nl
SUMMARY:IBO bijeenkomst: VOORDRACHT EN MUZIEK VAN HET PAASEPOS
DESCRIPTION:De weg naar Pasen is een intensief traject. Een proces waarin verdriet\, zelfkennis en verlichting ruimte krijgen. Stephen Boonzaaijer kruipt in de huid van Maria van Magdala\, Petrus\, Judas en een buitenstaander. Hij neemt ons mee in zijn voordracht om het\npaasmysterie te ervaren. Figuren rond Jezus krijgen een menselijk gezicht. Na afloop kunnen we met Stephen in gesprek.\nStephen Boonzaaijer is mysticus\, dichter\, theoloog en psycholoog. \nU/je bent welkom in de protestantse Werenfriedkerk\, aan de Dorpstraat 61 in Westervoort. Aanvang: 20.00 uur.
URL:https://pkn-duiven.nl/agenda/ibo-230323/
LOCATION:Werenfriedkerk Westervoort\, Dorpstraat 61\, Westervoort
CATEGORIES:Activiteit
ORGANIZER;CN="Inspiratie%2C Bezinning en Ontmoeting":MAILTO:info@pkn-duiven.nl
END:VEVENT
END:VCALENDAR