BEGIN:VCALENDAR
VERSION:2.0
PRODID:-//PKN-Duiven - ECPv6.15.20//NONSGML v1.0//EN
CALSCALE:GREGORIAN
METHOD:PUBLISH
X-ORIGINAL-URL:https://pkn-duiven.nl
X-WR-CALDESC:Evenementen voor PKN-Duiven
REFRESH-INTERVAL;VALUE=DURATION:PT1H
X-Robots-Tag:noindex
X-PUBLISHED-TTL:PT1H
BEGIN:VTIMEZONE
TZID:Europe/Amsterdam
BEGIN:DAYLIGHT
TZOFFSETFROM:+0100
TZOFFSETTO:+0200
TZNAME:CEST
DTSTART:20220327T010000
END:DAYLIGHT
BEGIN:STANDARD
TZOFFSETFROM:+0200
TZOFFSETTO:+0100
TZNAME:CET
DTSTART:20221030T010000
END:STANDARD
BEGIN:DAYLIGHT
TZOFFSETFROM:+0100
TZOFFSETTO:+0200
TZNAME:CEST
DTSTART:20230326T010000
END:DAYLIGHT
BEGIN:STANDARD
TZOFFSETFROM:+0200
TZOFFSETTO:+0100
TZNAME:CET
DTSTART:20231029T010000
END:STANDARD
BEGIN:DAYLIGHT
TZOFFSETFROM:+0100
TZOFFSETTO:+0200
TZNAME:CEST
DTSTART:20240331T010000
END:DAYLIGHT
BEGIN:STANDARD
TZOFFSETFROM:+0200
TZOFFSETTO:+0100
TZNAME:CET
DTSTART:20241027T010000
END:STANDARD
END:VTIMEZONE
BEGIN:VEVENT
DTSTART;TZID=Europe/Amsterdam:20230205T103000
DTEND;TZID=Europe/Amsterdam:20230205T113000
DTSTAMP:20260426T000955
CREATED:20230109T140941Z
LAST-MODIFIED:20230109T140941Z
UID:2837-1675593000-1675596600@pkn-duiven.nl
SUMMARY:Viering
DESCRIPTION:Voorganger: Willem Lindeman\nAmbtsdrager van dienst: Tammo Hoogakker \nBijzonderheden: ZWO-werelddiaconaatsdienst \nCollectes:\n1. Kerk in Actie: Moldavië-Kerk helpt kwetsbare mensen\n2. Jeugd- en jongerenwerk
URL:https://pkn-duiven.nl/agenda/viering-4/
LOCATION:SOW kapel\, Duiven
CATEGORIES:Vieringen
END:VEVENT
BEGIN:VEVENT
DTSTART;TZID=Europe/Amsterdam:20230205T153000
DTEND;TZID=Europe/Amsterdam:20230205T170000
DTSTAMP:20260426T000955
CREATED:20230112T201045Z
LAST-MODIFIED:20230112T201119Z
UID:2896-1675611000-1675616400@pkn-duiven.nl
SUMMARY:Liemers Kids: Muziek = cool
DESCRIPTION:Muziek=cool!\nWat is jouw favoriete lied of muziek? Je kan het mailen naar liemerskids@gmail.com \nWat\nLiemers Kids is kliederkerk voor kinderen\, georganiseerd vanuit de gezamenlijke protestantse kerken in de Liemers. \nWaar\nIn ‘Ons Huis’ naast de Protestantse Kerk\, Dr. Honigstraat 3\, 6901 AP  Zevenaar.\nParkeren kan op het Masiusplein.
URL:https://pkn-duiven.nl/agenda/liemers-kids-050223/
LOCATION:Ons Huis\, Zevenaar\, Dokter Honigstraat 3\, Zevenaar\, 6901AP
CATEGORIES:Kinderkerk
END:VEVENT
END:VCALENDAR