BEGIN:VCALENDAR
VERSION:2.0
PRODID:-//PKN-Duiven - ECPv6.15.20//NONSGML v1.0//EN
CALSCALE:GREGORIAN
METHOD:PUBLISH
X-ORIGINAL-URL:https://pkn-duiven.nl
X-WR-CALDESC:Evenementen voor PKN-Duiven
REFRESH-INTERVAL;VALUE=DURATION:PT1H
X-Robots-Tag:noindex
X-PUBLISHED-TTL:PT1H
BEGIN:VTIMEZONE
TZID:Europe/Amsterdam
BEGIN:DAYLIGHT
TZOFFSETFROM:+0100
TZOFFSETTO:+0200
TZNAME:CEST
DTSTART:20210328T010000
END:DAYLIGHT
BEGIN:STANDARD
TZOFFSETFROM:+0200
TZOFFSETTO:+0100
TZNAME:CET
DTSTART:20211031T010000
END:STANDARD
BEGIN:DAYLIGHT
TZOFFSETFROM:+0100
TZOFFSETTO:+0200
TZNAME:CEST
DTSTART:20220327T010000
END:DAYLIGHT
BEGIN:STANDARD
TZOFFSETFROM:+0200
TZOFFSETTO:+0100
TZNAME:CET
DTSTART:20221030T010000
END:STANDARD
BEGIN:DAYLIGHT
TZOFFSETFROM:+0100
TZOFFSETTO:+0200
TZNAME:CEST
DTSTART:20230326T010000
END:DAYLIGHT
BEGIN:STANDARD
TZOFFSETFROM:+0200
TZOFFSETTO:+0100
TZNAME:CET
DTSTART:20231029T010000
END:STANDARD
END:VTIMEZONE
BEGIN:VEVENT
DTSTART;TZID=Europe/Amsterdam:20221216T170000
DTEND;TZID=Europe/Amsterdam:20221216T170000
DTSTAMP:20260420T174728
CREATED:20221119T161313Z
LAST-MODIFIED:20221128T192153Z
UID:2772-1671210000-1671210000@pkn-duiven.nl
SUMMARY:Kerst ronde tafelmaaltijd
DESCRIPTION:Op donderdag-\, afgewisseld met vrijdagavond eens per maand is er een ronde tafelmaaltijd.\nDit is een initiatief van ons pastoraat en de Willibrordus Parochie van Duiven samen.\nDe insteek is een pastorale en ook is er een inhoudelijke kant: we krijgen een gespreksaanzet bij de opening van de maaltijd.\nHet is ieder vrij om wel of niet iets bij te dragen of te zeggen. Kosten: € 3\,- bij binnenkomst te voldoen.\nJe mag voor een gerecht zorgen\, er moet niets. Je mag iets meebrengen\, er hoeft niets. \nWe starten om 17.00 uur met een happy hour. Zo kunnen we alvast wat kennismaken voor we aan tafel gaan. Alle leeftijden zijn welkom\, het hele gezin mag aanschuiven. En voor de kinderen is er een speelhoek. Wil je ook meehelpen? Dat kan\, graag zelfs! \nKom zoals je bent! \nWelkom! Geef je op voor de ronde tafelmaaltijd: auroreboersma@gmail.com of 06-36226855. \n \n 
URL:https://pkn-duiven.nl/agenda/ronde-tafelmaaltijd-161222/
LOCATION:Huiskamer SOW kapel\, Rijksweg 56b\, Duiven\, Nederland
CATEGORIES:Activiteit
END:VEVENT
END:VCALENDAR