BEGIN:VCALENDAR
VERSION:2.0
PRODID:-//PKN-Duiven - ECPv6.15.20//NONSGML v1.0//EN
CALSCALE:GREGORIAN
METHOD:PUBLISH
X-ORIGINAL-URL:https://pkn-duiven.nl
X-WR-CALDESC:Evenementen voor PKN-Duiven
REFRESH-INTERVAL;VALUE=DURATION:PT1H
X-Robots-Tag:noindex
X-PUBLISHED-TTL:PT1H
BEGIN:VTIMEZONE
TZID:Europe/Amsterdam
BEGIN:DAYLIGHT
TZOFFSETFROM:+0100
TZOFFSETTO:+0200
TZNAME:CEST
DTSTART:20210328T010000
END:DAYLIGHT
BEGIN:STANDARD
TZOFFSETFROM:+0200
TZOFFSETTO:+0100
TZNAME:CET
DTSTART:20211031T010000
END:STANDARD
BEGIN:DAYLIGHT
TZOFFSETFROM:+0100
TZOFFSETTO:+0200
TZNAME:CEST
DTSTART:20220327T010000
END:DAYLIGHT
BEGIN:STANDARD
TZOFFSETFROM:+0200
TZOFFSETTO:+0100
TZNAME:CET
DTSTART:20221030T010000
END:STANDARD
BEGIN:DAYLIGHT
TZOFFSETFROM:+0100
TZOFFSETTO:+0200
TZNAME:CEST
DTSTART:20230326T010000
END:DAYLIGHT
BEGIN:STANDARD
TZOFFSETFROM:+0200
TZOFFSETTO:+0100
TZNAME:CET
DTSTART:20231029T010000
END:STANDARD
END:VTIMEZONE
BEGIN:VEVENT
DTSTART;TZID=Europe/Amsterdam:20221029T171000
DTEND;TZID=Europe/Amsterdam:20221029T173000
DTSTAMP:20260422T201334
CREATED:20221028T204726Z
LAST-MODIFIED:20221028T204726Z
UID:2691-1667063400-1667064600@pkn-duiven.nl
SUMMARY:Kerk Duiven op NPO2
DESCRIPTION:Vandaag op NPO 2 om 17.10 uur: een uitzending van ‘Petrus in het land’ vanuit Duiven. Er is gefilmd in de kapel\, in de huiskamer bij een rondetafelmaaltijd\, op de voedseltuin Blij en met drones rond de kapel. Naast de predikant werkten verschillende gemeenteleden mee aan deze uitzending. Thema is ‘Voorbij de vooroordelen’\, aansluitend bij onze leesstof van Lucas en het jaarthema ‘Aan tafel!’ \n \n  \n 
URL:https://pkn-duiven.nl/agenda/kerk-duiven-op-npo2/
LOCATION:NPO2
END:VEVENT
END:VCALENDAR