BEGIN:VCALENDAR
VERSION:2.0
PRODID:-//PKN-Duiven - ECPv6.15.20//NONSGML v1.0//EN
CALSCALE:GREGORIAN
METHOD:PUBLISH
X-WR-CALNAME:PKN-Duiven
X-ORIGINAL-URL:https://pkn-duiven.nl
X-WR-CALDESC:Evenementen voor PKN-Duiven
REFRESH-INTERVAL;VALUE=DURATION:PT1H
X-Robots-Tag:noindex
X-PUBLISHED-TTL:PT1H
BEGIN:VTIMEZONE
TZID:Europe/Amsterdam
BEGIN:DAYLIGHT
TZOFFSETFROM:+0100
TZOFFSETTO:+0200
TZNAME:CEST
DTSTART:20210328T010000
END:DAYLIGHT
BEGIN:STANDARD
TZOFFSETFROM:+0200
TZOFFSETTO:+0100
TZNAME:CET
DTSTART:20211031T010000
END:STANDARD
BEGIN:DAYLIGHT
TZOFFSETFROM:+0100
TZOFFSETTO:+0200
TZNAME:CEST
DTSTART:20220327T010000
END:DAYLIGHT
BEGIN:STANDARD
TZOFFSETFROM:+0200
TZOFFSETTO:+0100
TZNAME:CET
DTSTART:20221030T010000
END:STANDARD
BEGIN:DAYLIGHT
TZOFFSETFROM:+0100
TZOFFSETTO:+0200
TZNAME:CEST
DTSTART:20230326T010000
END:DAYLIGHT
BEGIN:STANDARD
TZOFFSETFROM:+0200
TZOFFSETTO:+0100
TZNAME:CET
DTSTART:20231029T010000
END:STANDARD
END:VTIMEZONE
BEGIN:VEVENT
DTSTART;TZID=Europe/Amsterdam:20220925T103000
DTEND;TZID=Europe/Amsterdam:20220925T113000
DTSTAMP:20260423T124123
CREATED:20220731T165611Z
LAST-MODIFIED:20220828T132016Z
UID:2288-1664101800-1664105400@pkn-duiven.nl
SUMMARY:Viering
DESCRIPTION:Voorganger: Ds. Jolande van Baardewijk\nAmbtsdrager van dienst: Tammo Hoogakker \nBijzonderheden: Kinderkerk\, Tienerdienst\, Avondmaal\, Koffie \nHet is Vredeszondag met viering van de maaltijd van Jezus\, in een kring. Ds. Jolande gaat voor. Dan vindt ook de ‘Walk of peace’ plaats\, vanuit de Raad van Kerken. \nCollectes:\n1. Vast project: schuldhulpmaatje\n2. Jeugd en jongerenwerk
URL:https://pkn-duiven.nl/agenda/viering-25-09-2022/
LOCATION:SOW kapel\, Duiven
CATEGORIES:Vieringen
END:VEVENT
END:VCALENDAR