BEGIN:VCALENDAR
VERSION:2.0
PRODID:-//PKN-Duiven - ECPv6.15.20//NONSGML v1.0//EN
CALSCALE:GREGORIAN
METHOD:PUBLISH
X-ORIGINAL-URL:https://pkn-duiven.nl
X-WR-CALDESC:Evenementen voor PKN-Duiven
REFRESH-INTERVAL;VALUE=DURATION:PT1H
X-Robots-Tag:noindex
X-PUBLISHED-TTL:PT1H
BEGIN:VTIMEZONE
TZID:Europe/Amsterdam
BEGIN:DAYLIGHT
TZOFFSETFROM:+0100
TZOFFSETTO:+0200
TZNAME:CEST
DTSTART:20210328T010000
END:DAYLIGHT
BEGIN:STANDARD
TZOFFSETFROM:+0200
TZOFFSETTO:+0100
TZNAME:CET
DTSTART:20211031T010000
END:STANDARD
BEGIN:DAYLIGHT
TZOFFSETFROM:+0100
TZOFFSETTO:+0200
TZNAME:CEST
DTSTART:20220327T010000
END:DAYLIGHT
BEGIN:STANDARD
TZOFFSETFROM:+0200
TZOFFSETTO:+0100
TZNAME:CET
DTSTART:20221030T010000
END:STANDARD
BEGIN:DAYLIGHT
TZOFFSETFROM:+0100
TZOFFSETTO:+0200
TZNAME:CEST
DTSTART:20230326T010000
END:DAYLIGHT
BEGIN:STANDARD
TZOFFSETFROM:+0200
TZOFFSETTO:+0100
TZNAME:CET
DTSTART:20231029T010000
END:STANDARD
END:VTIMEZONE
BEGIN:VEVENT
DTSTART;TZID=Europe/Amsterdam:20220623T170000
DTEND;TZID=Europe/Amsterdam:20220623T200000
DTSTAMP:20260423T010441
CREATED:20220529T195744Z
LAST-MODIFIED:20220529T200627Z
UID:2195-1656003600-1656014400@pkn-duiven.nl
SUMMARY:Ronde tafel maaltijd
DESCRIPTION:Je herkent het vast: samen eten is genieten! Samen eten is ook samen delen: recepten\, mooie ervaringen\, culturele achtergrondinformatie\, maar ook onzekerheden\, zorgen en verdriet. Aan de hand van wisselende thema’s organiseren de Protestantse Gemeente en Parochie Sint Willibrordus elke maand een gezellige ontmoeting met een heerlijke maaltijd van o.a. pasta en salade. \nWe starten om 17.00 uur met een happy hour. Zo kunnen we alvast wat kennismaken voor we aan tafel gaan. Alle leeftijden zijn welkom\, het hele gezin mag aanschuiven. En voor de kinderen is er een speelhoek. Wil je ook meehelpen? Dat kan\, graag zelfs! \nThema: Verdwalen en thuiskomen\nHoeveel: richtbedrag is 3 euro. Je kunt ook een gerecht meebrengen. Geef dat dan door bij aanmelding. Dank je wel! \nLaat het ons even weten als je meehelpt en/of aanschuift. Neem daarvoor contact op met Aurore Boersma via 06-36226855 of auroreboersma@gmail.com.
URL:https://pkn-duiven.nl/agenda/ronde-tafel-maaltijd/
LOCATION:SOW kapel\, Duiven
END:VEVENT
END:VCALENDAR