BEGIN:VCALENDAR
VERSION:2.0
PRODID:-//PKN-Duiven - ECPv6.15.20//NONSGML v1.0//EN
CALSCALE:GREGORIAN
METHOD:PUBLISH
X-WR-CALNAME:PKN-Duiven
X-ORIGINAL-URL:https://pkn-duiven.nl
X-WR-CALDESC:Evenementen voor PKN-Duiven
REFRESH-INTERVAL;VALUE=DURATION:PT1H
X-Robots-Tag:noindex
X-PUBLISHED-TTL:PT1H
BEGIN:VTIMEZONE
TZID:Europe/Amsterdam
BEGIN:DAYLIGHT
TZOFFSETFROM:+0100
TZOFFSETTO:+0200
TZNAME:CEST
DTSTART:20210328T010000
END:DAYLIGHT
BEGIN:STANDARD
TZOFFSETFROM:+0200
TZOFFSETTO:+0100
TZNAME:CET
DTSTART:20211031T010000
END:STANDARD
BEGIN:DAYLIGHT
TZOFFSETFROM:+0100
TZOFFSETTO:+0200
TZNAME:CEST
DTSTART:20220327T010000
END:DAYLIGHT
BEGIN:STANDARD
TZOFFSETFROM:+0200
TZOFFSETTO:+0100
TZNAME:CET
DTSTART:20221030T010000
END:STANDARD
BEGIN:DAYLIGHT
TZOFFSETFROM:+0100
TZOFFSETTO:+0200
TZNAME:CEST
DTSTART:20230326T010000
END:DAYLIGHT
BEGIN:STANDARD
TZOFFSETFROM:+0200
TZOFFSETTO:+0100
TZNAME:CET
DTSTART:20231029T010000
END:STANDARD
END:VTIMEZONE
BEGIN:VEVENT
DTSTART;TZID=Europe/Amsterdam:20220504T190000
DTEND;TZID=Europe/Amsterdam:20220504T190000
DTSTAMP:20260421T215252
CREATED:20220228T185800Z
LAST-MODIFIED:20220502T180029Z
UID:1927-1651690800-1651690800@pkn-duiven.nl
SUMMARY:Viering - dodenherdenking
DESCRIPTION:Vandaag is er een herdenkingsdienst in de Remigiuskerk in Duiven. Aanvang 19.00 uur. De dienst wordt voorbereid door de voorgangers van de gezamenlijke kerken van Duiven: Maarten Smits van de parochie Sint Willibrordus\, Jolande van Baardewijk van de Protestantse kerk\, Christiaan Vos van de Kerk voor Nu en Rob Nijhoff van de Gereformeerde Kerk Vrijgemaakt. Zij zullen voorgaan in de herdenkingsdienst. \nRond half acht is er vanuit de kerk een Stille Tocht naar het herdenkingsmonument aan de Van Dordt tot Medlerstraat. Daar wordt om acht uur twee minuten stilte gehouden. Na het spelen van het Wilhelmus vindt de kranslegging plaats\, waaronder een krans namens de gezamenlijke kerken van Duiven. U bent daarvoor van harte uitgenodigd. \nPeter Mekkink\, coördinator 4-mei herdenking \nBekijk ook het persoonlijk ervaringsverhaal van Thea Rang: https://www.youtube.com/watch?v=xQZF1p3HBlc \n 
URL:https://pkn-duiven.nl/agenda/viering-dodenherdenking/
LOCATION:Remigiuskerk Duiven\, Remigiusplein 4\, Duiven\, 6921 BL\, Nederland
CATEGORIES:Vieringen
END:VEVENT
END:VCALENDAR