BEGIN:VCALENDAR
VERSION:2.0
PRODID:-//PKN-Duiven - ECPv6.15.20//NONSGML v1.0//EN
CALSCALE:GREGORIAN
METHOD:PUBLISH
X-WR-CALNAME:PKN-Duiven
X-ORIGINAL-URL:https://pkn-duiven.nl
X-WR-CALDESC:Evenementen voor PKN-Duiven
REFRESH-INTERVAL;VALUE=DURATION:PT1H
X-Robots-Tag:noindex
X-PUBLISHED-TTL:PT1H
BEGIN:VTIMEZONE
TZID:Europe/Amsterdam
BEGIN:DAYLIGHT
TZOFFSETFROM:+0100
TZOFFSETTO:+0200
TZNAME:CEST
DTSTART:20210328T010000
END:DAYLIGHT
BEGIN:STANDARD
TZOFFSETFROM:+0200
TZOFFSETTO:+0100
TZNAME:CET
DTSTART:20211031T010000
END:STANDARD
BEGIN:DAYLIGHT
TZOFFSETFROM:+0100
TZOFFSETTO:+0200
TZNAME:CEST
DTSTART:20220327T010000
END:DAYLIGHT
BEGIN:STANDARD
TZOFFSETFROM:+0200
TZOFFSETTO:+0100
TZNAME:CET
DTSTART:20221030T010000
END:STANDARD
BEGIN:DAYLIGHT
TZOFFSETFROM:+0100
TZOFFSETTO:+0200
TZNAME:CEST
DTSTART:20230326T010000
END:DAYLIGHT
BEGIN:STANDARD
TZOFFSETFROM:+0200
TZOFFSETTO:+0100
TZNAME:CET
DTSTART:20231029T010000
END:STANDARD
END:VTIMEZONE
BEGIN:VEVENT
DTSTART;TZID=Europe/Amsterdam:20220317T110000
DTEND;TZID=Europe/Amsterdam:20220317T140000
DTSTAMP:20260422T003752
CREATED:20220220T133749Z
LAST-MODIFIED:20220220T133749Z
UID:1797-1647514800-1647525600@pkn-duiven.nl
SUMMARY:Open huiskamer
DESCRIPTION:Loop eens binnen in onze kapel voor een kopje koffie\, thee\, een praatje of een rustig moment.\nWe zijn er elke dinsdag en donderdag van 11.00 tot 14.00 uur. \nVan harte welkom!
URL:https://pkn-duiven.nl/agenda/open-huiskamer-17-03-2022/
LOCATION:Huiskamer SOW kapel\, Rijksweg 56b\, Duiven\, Nederland
CATEGORIES:Inloop
END:VEVENT
BEGIN:VEVENT
DTSTART;TZID=Europe/Amsterdam:20220317T193000
DTEND;TZID=Europe/Amsterdam:20220317T193000
DTSTAMP:20260422T003752
CREATED:20220223T191308Z
LAST-MODIFIED:20220223T191308Z
UID:1880-1647545400-1647545400@pkn-duiven.nl
SUMMARY:Avondje met de dominee in de pub
DESCRIPTION:Sint Patricksday! \nHet pioniersteam ‘Poten in de Klei’ nodigt je van harte uit voor een avondje in de pub met de dominee.\nJe bent vanaf 19.30 uur van harte welkom bij Bij de Buren\, Remigiusplein 9 in Duiven.\nJe kunt je opgeven via potenindeklei@gmail.com \n  \n 
URL:https://pkn-duiven.nl/agenda/avondje-met-de-dominee-in-de-pub/
LOCATION:Bij de Buren\, Remigiusplein 9\, Duiven
END:VEVENT
END:VCALENDAR