BEGIN:VCALENDAR
VERSION:2.0
PRODID:-//PKN-Duiven - ECPv6.15.20//NONSGML v1.0//EN
CALSCALE:GREGORIAN
METHOD:PUBLISH
X-WR-CALNAME:PKN-Duiven
X-ORIGINAL-URL:https://pkn-duiven.nl
X-WR-CALDESC:Evenementen voor PKN-Duiven
REFRESH-INTERVAL;VALUE=DURATION:PT1H
X-Robots-Tag:noindex
X-PUBLISHED-TTL:PT1H
BEGIN:VTIMEZONE
TZID:Europe/Amsterdam
BEGIN:DAYLIGHT
TZOFFSETFROM:+0100
TZOFFSETTO:+0200
TZNAME:CEST
DTSTART:20210328T010000
END:DAYLIGHT
BEGIN:STANDARD
TZOFFSETFROM:+0200
TZOFFSETTO:+0100
TZNAME:CET
DTSTART:20211031T010000
END:STANDARD
BEGIN:DAYLIGHT
TZOFFSETFROM:+0100
TZOFFSETTO:+0200
TZNAME:CEST
DTSTART:20220327T010000
END:DAYLIGHT
BEGIN:STANDARD
TZOFFSETFROM:+0200
TZOFFSETTO:+0100
TZNAME:CET
DTSTART:20221030T010000
END:STANDARD
BEGIN:DAYLIGHT
TZOFFSETFROM:+0100
TZOFFSETTO:+0200
TZNAME:CEST
DTSTART:20230326T010000
END:DAYLIGHT
BEGIN:STANDARD
TZOFFSETFROM:+0200
TZOFFSETTO:+0100
TZNAME:CET
DTSTART:20231029T010000
END:STANDARD
END:VTIMEZONE
BEGIN:VEVENT
DTSTART;TZID=Europe/Amsterdam:20220316T190000
DTEND;TZID=Europe/Amsterdam:20220316T193000
DTSTAMP:20260421T215402
CREATED:20220311T194718Z
LAST-MODIFIED:20220311T195401Z
UID:1971-1647457200-1647459000@pkn-duiven.nl
SUMMARY:Vredeswake voor Oekraïne
DESCRIPTION:De roomskatholieke kerk in Duiven en de Protestantse Gemeente Duiven organiseren samen Vredeswakes voor Oekraïne: \nJe bent iedere woensdag van 19.00-19.30 welkom in de Remigiuskerk in Duiven! \nBekijk hier de informatie: https://www.youtube.com/watch?v=G1MsrHlvlfU \n 
URL:https://pkn-duiven.nl/agenda/vredeswake-voor-oekraine-16-03-2022/
LOCATION:Remigiuskerk Duiven\, Remigiusplein 4\, Duiven\, 6921 BL\, Nederland
END:VEVENT
END:VCALENDAR