BEGIN:VCALENDAR
VERSION:2.0
PRODID:-//PKN-Duiven - ECPv6.15.20//NONSGML v1.0//EN
CALSCALE:GREGORIAN
METHOD:PUBLISH
X-ORIGINAL-URL:https://pkn-duiven.nl
X-WR-CALDESC:Evenementen voor PKN-Duiven
REFRESH-INTERVAL;VALUE=DURATION:PT1H
X-Robots-Tag:noindex
X-PUBLISHED-TTL:PT1H
BEGIN:VTIMEZONE
TZID:Europe/Amsterdam
BEGIN:DAYLIGHT
TZOFFSETFROM:+0100
TZOFFSETTO:+0200
TZNAME:CEST
DTSTART:20210328T010000
END:DAYLIGHT
BEGIN:STANDARD
TZOFFSETFROM:+0200
TZOFFSETTO:+0100
TZNAME:CET
DTSTART:20211031T010000
END:STANDARD
BEGIN:DAYLIGHT
TZOFFSETFROM:+0100
TZOFFSETTO:+0200
TZNAME:CEST
DTSTART:20220327T010000
END:DAYLIGHT
BEGIN:STANDARD
TZOFFSETFROM:+0200
TZOFFSETTO:+0100
TZNAME:CET
DTSTART:20221030T010000
END:STANDARD
BEGIN:DAYLIGHT
TZOFFSETFROM:+0100
TZOFFSETTO:+0200
TZNAME:CEST
DTSTART:20230326T010000
END:DAYLIGHT
BEGIN:STANDARD
TZOFFSETFROM:+0200
TZOFFSETTO:+0100
TZNAME:CET
DTSTART:20231029T010000
END:STANDARD
END:VTIMEZONE
BEGIN:VEVENT
DTSTART;TZID=Europe/Amsterdam:20220306T103000
DTEND;TZID=Europe/Amsterdam:20220306T103000
DTSTAMP:20260422T020706
CREATED:20211128T202200Z
LAST-MODIFIED:20220227T131648Z
UID:1025-1646562600-1646562600@pkn-duiven.nl
SUMMARY:viering
DESCRIPTION:Voorganger: Willem Lindeman\nAmbtsdrager van dienst: Edward Pfeiffer \nBijzonderheden: Eerste zondag 40-dagentijd. \nIn deze dienst is het thema: geloven.\nAls uitgangspunt nemen we de prachtige tekst uit Hebreeën 11: 1: “Het geloof is de zekerheid van de dingen die men hoopt en het bewijs van de dingen die men niet ziet.”\nWe gaan kijken hoe verschillende mensen tegen het geloof aankijken. Hoe gelovigen en ongelovigen God vaak vast zetten in beelden. Hoe je kunt vastlopen als je probeert te geloven met je ratio en hoe je bevrijd kunt raken als je in het geloof de logica verlaat en wat het geloof je dan te bieden heeft. \nCollectes:\n1. Plaatselijke diaconie\n2. Beheer en onderhoud
URL:https://pkn-duiven.nl/agenda/viering-06-03-2022/
LOCATION:SOW kapel\, Duiven
CATEGORIES:Vieringen
END:VEVENT
END:VCALENDAR